Workbook

Sheet ปก
B10: =+ปร.5_Roads!C5 -> แขวงทางหลวงชนบทสงขลา
A12: ประมาณราคางานบำรุงรักษาระบบโครงข่ายทาง
A15: ="กิจกรรม : "&ปร.5_Roads!C4 -> กิจกรรม : บำรุงพิเศษ ซ่อมสร้างผิวทาง Asphaltic Concrete
A17: รหัส โครงการ | C17: =+ปร.5_Roads!C6 -> ปน.4031 | D17: ชื่อ | E17: =+ปร.5_Roads!F6 -> แยกทางหลวงหมายเลข 4157-บ้านปาตา
A18: สถานที่ตั้ง | C18: =+ปร.5_Roads!C7 -> อำเภอ ปะนาเระ,ยะหริ่ง จังหวัด ปัตตานี
A19: ระยะทาง | C19: =+ปร.5_Roads!E10 -> 1.523 | D19: กม. งบประมาณ | G19: =+ปร.5_Roads!I24 -> 7920000 | I19: บาท
A20: ผิวทางกว้าง | C20: 6 | D20: ม. ไหล่ทางกว้าง | G20: 1 | I20: ม.
C22: =+"ปีงบประมาณ "&แหล่งวัสดุ!L4 -> ปีงบประมาณ 2559

Sheet แหล่งวัสดุ
A1: แหล่งวัสดุก่อสร้าง | O1: 4 | P1: 6
A2: ลักษณะของงาน | H2: วันที่ | I2: ='NO DELETE'!Y53 -> 10 | J2: เดือน | K2: ='NO DELETE'!U34 -> พฤศจิกายน | L2: พ.ศ. | M2: ='NO DELETE'!X10 -> 2558 | O2: ชนิดวัสดุ | Q2: หินคลุก | R2: หินฝุ่น | S2: หิน3/4" | T2: หิน1/2" | U2: หิน3/8" | V2: แหล่งวัสดุ
A3: ประเภทงาน | C3: ='NO DELETE'!AF10&" "&'NO DELETE'!AB34 -> บำรุงพิเศษ ซ่อมสร้างผิวทาง Asphaltic Concrete | O3: 1 | P3: สข. | Q3: 320 | R3: 340 | S3: 400 | T3: 400 | U3: 400 | V3: ต.ทุ่งตำเสา อ.หาดใหญ่ จ.สงขลา
A4: เจ้าของโครงการ | C4: =+VLOOKUP('NO DELETE'!$AA$66,'NO DELETE'!AA60:AB65,2) -> แขวงทางหลวงชนบทสงขลา | F4: อยู่ในพื้นที่จังหวัด | H4: =+VLOOKUP('NO DELETE'!P7,'NO DELETE'!O2:P6,2) -> 1 | K4: ปีงบประมาณ | L4: ='NO DELETE'!X9 -> 2559 | O4: 2 | P4: สข. | Q4: 370 | R4: 470 | S4: 480 | T4: 410 | U4: 470 | V4: ต.คลองเปียะ อ.จะนะ จ.สงขลา
A5: =+"สายทาง " -> สายทาง | C5: =+VLOOKUP('NO DELETE'!P10,โครงข่าย!A7:B65,2) -> ปน.4031 | E5: ชื่อสายทาง | F5: =+VLOOKUP('NO DELETE'!P10,โครงข่าย!A7:C65,3) -> แยกทางหลวงหมายเลข 4157-บ้านปาตา | O5: 3 | P5: สต. | Q5: 299 | R5: 300 | S5: 340 | T5: 450 | U5: 300 | V5: บ.ทุ่งนุ้ย อ.ควนกาหลง จ.สตูล
A6: สถานที่ตั้ง | C6: =+"อำเภอ "&VLOOKUP('NO DELETE'!P10,โครงข่าย!A7:E65,5)&" จังหวัด "&VLOOKUP('NO DELETE'!P10,โครงข่าย!A7:F65,6) -> อำเภอ ปะนาเระ,ยะหริ่ง จังหวัด ปัตตานี | F6: ระยะทางตลอดสายทาง | H6: =+VLOOKUP('NO DELETE'!P10,โครงข่าย!A7:H65,7) -> 12.966 | I6: กม. | K6: ระยะทางดำเนินการ | L6: =ปร.5_Roads!E10 -> 1.523 | M6: กม. | O6: 4 | P6: ปน. | Q6: =+Q7 -> 373.83 | R6: =+R7 -> 476.64 | S6: =+S7 -> 500 | T6: =+T7 -> 500 | U6: =+U7 -> 476.64 | V6: บ.เนียง อ.เมือง จ.ยะลา
A7: ราคาน้ำมันโซล่าเฉลี่ย | C7: =+VLOOKUP('NO DELETE'!S14,'NO DELETE'!S2:T13,2) -> 23.5 | O7: 5 | P7: ยล. | Q7: 373.83 | R7: 476.64 | S7: 500 | T7: 500 | U7: 476.64 | V7: บ.เนียง อ.เมือง จ.ยะลา
A8: แหล่งวัสดุพื้นทางถนน แหล่งที่ 1 | O8: 6 | P8: นธ. | Q8: 450 | R8: 500 | S8: 500 | T8: 570 | U8: 580 | V8: บ.กะลุวอเหนือ อ.เมือง จ.นราธิวาส
A9: ที่ | B9: แหล่งวัสดุ | E9: ชนิดวัสดุ | F9: ราคาต่อหน่วย | G9: หน่วย | H9: ระยะขนส่ง | I9: ค่าขนส่ง | L9: ค่าวัสดุ + ค่าขนส่ง | O9: 7 | P9: พท. | Q9: 290 | R9: 260 | S9: 370 | T9: 350 | U9: 360 | V9: บ.ใหม่ อ.ควนขนุน จ.พัทลุง | Z9: ชนิดวัสดุ | AB9: ดิน | AC9: ลูกรัง | AD9: ทรายถม | AE9: ทรายหยาบ | AF9: หินผสมคอนกรีต | AG9: ท่อÆ 0.60 | AH9: ท่อÆ 0.80 | AI9: ท่อÆ 1.00 | AJ9: ท่อÆ 1.20 | AK9: ท่อÆ 1.50
A10: 1 | B10: =+VLOOKUP($O$1,$O$3:$V$9,8) -> บ.เนียง อ.เมือง จ.ยะลา | E10: หินคลุก | F10: =+VLOOKUP($O$1,$O$3:$V$9,3) -> 373.83 | G10: บาท/ลบ.ม. | H10: 78 | I10: = | J10: =IF(แหล่งวัสดุ!L$23=1,IF(H10<=200,VLOOKUP(H10,'S2'!B$5:'S2'!F$204,3),IF(H10>200,(H10-200)*'S2'!D$205+'S2'!D$204)),IF(แหล่งวัสดุ!L$23=2,IF(H10<=200,VLOOKUP(H10,'S2'!B$5:'S2'!F$204,5),IF(H10>200,(H10-200)*'S2'!F$205+'S2'!F$204)))) -> 151.05 | K10: บาท/ลบ.ม. ราคารวม = | L10: =+J10+F10 -> 524.88 | M10: บาท/ลบ.ม. | Z10: 1 | AA10: สข. | AB10: 18 | AC10: 25 | AD10: 150 | AE10: 485 | AF10: 400 | AG10: 771.03 | AH10: 1214.95 | AI10: 1869.16 | AJ10: 2827.1 | AK10: 3995.33
A11: =1+A10 -> 2 | B11: =+B10 -> บ.เนียง อ.เมือง จ.ยะลา | E11: หินฝุ่น | F11: =+VLOOKUP($O$1,$O$3:$V$9,4) -> 476.64 | G11: บาท/ลบ.ม. | H11: =+H10 -> 78 | I11: = | J11: =IF(แหล่งวัสดุ!L$23=1,IF(H11<=200,VLOOKUP(H11,'S2'!B$5:'S2'!F$204,3),IF(H11>200,(H11-200)*'S2'!D$205+'S2'!D$204)),IF(แหล่งวัสดุ!L$23=2,IF(H11<=200,VLOOKUP(H11,'S2'!B$5:'S2'!F$204,5),IF(H11>200,(H11-200)*'S2'!F$205+'S2'!F$204)))) -> 151.05 | K11: บาท/ลบ.ม. ราคารวม = | L11: =+J11+F11 -> 627.69 | M11: บาท/ลบ.ม. | Z11: 2 | AA11: สต. | AB11: 25 | AC11: 35 | AD11: 150 | AE11: 485 | AF11: 400 | AG11: 870 | AH11: 1300 | AI11: 2100 | AJ11: 2900 | AK11: 4400
A12: =1+A11 -> 3 | B12: =+B11 -> บ.เนียง อ.เมือง จ.ยะลา | E12: หิน3/4" | F12: =+VLOOKUP($O$1,$O$3:$V$9,5) -> 500 | G12: บาท/ลบ.ม. | H12: =+H11 -> 78 | I12: = | J12: =IF(แหล่งวัสดุ!L$23=1,IF(H12<=200,VLOOKUP(H12,'S2'!B$5:'S2'!F$204,3),IF(H12>200,(H12-200)*'S2'!D$205+'S2'!D$204)),IF(แหล่งวัสดุ!L$23=2,IF(H12<=200,VLOOKUP(H12,'S2'!B$5:'S2'!F$204,5),IF(H12>200,(H12-200)*'S2'!F$205+'S2'!F$204)))) -> 151.05 | K12: บาท/ลบ.ม. ราคารวม = | L12: =+J12+F12 -> 651.05 | M12: บาท/ลบ.ม. | Z12: 3 | AA12: ปน. | AB12: 25-30 | AC12: 30-35 | AE12: 467 | AF12: 620 | AG12: 800 | AH12: 1720 | AI12: 2360 | AJ12: 3400 | AK12: 4400
A13: =1+A12 -> 4 | B13: =+B12 -> บ.เนียง อ.เมือง จ.ยะลา | E13: หิน1/2" | F13: =+VLOOKUP($O$1,$O$3:$V$9,6) -> 500 | G13: บาท/ลบ.ม. | H13: =+H12 -> 78 | I13: = | J13: =IF(แหล่งวัสดุ!L$23=1,IF(H13<=200,VLOOKUP(H13,'S2'!B$5:'S2'!F$204,3),IF(H13>200,(H13-200)*'S2'!D$205+'S2'!D$204)),IF(แหล่งวัสดุ!L$23=2,IF(H13<=200,VLOOKUP(H13,'S2'!B$5:'S2'!F$204,5),IF(H13>200,(H13-200)*'S2'!F$205+'S2'!F$204)))) -> 151.05 | K13: บาท/ลบ.ม. ราคารวม = | L13: =+J13+F13 -> 651.05 | M13: บาท/ลบ.ม. | Z13: 4 | AA13: ยล. | AB13: 13-15 | AC13: 30 | AD13: 266.36 | AE13: 336.45 | AF13: 500 | AG13: 1220 | AH13: 1850 | AI13: 2850 | AJ13: 4700 | AK13: 6700
A14: =1+A13 -> 5 | B14: =+B13 -> บ.เนียง อ.เมือง จ.ยะลา | E14: หิน3/8" | F14: =+VLOOKUP($O$1,$O$3:$V$9,7) -> 476.64 | G14: บาท/ลบ.ม. | H14: =+H13 -> 78 | I14: = | J14: =IF(แหล่งวัสดุ!L$23=1,IF(H14<=200,VLOOKUP(H14,'S2'!B$5:'S2'!F$204,3),IF(H14>200,(H14-200)*'S2'!D$205+'S2'!D$204)),IF(แหล่งวัสดุ!L$23=2,IF(H14<=200,VLOOKUP(H14,'S2'!B$5:'S2'!F$204,5),IF(H14>200,(H14-200)*'S2'!F$205+'S2'!F$204)))) -> 151.05 | K14: บาท/ลบ.ม. ราคารวม = | L14: =+J14+F14 -> 627.69 | M14: บาท/ลบ.ม. | Q14: บัญชีค่าแรงงาน/ตุลาคม 2558 | Z14: 5 | AA14: นธ. | AB14: 20 | AC14: 25 | AD14: 60 | AE14: 140 | AF14: 500 | AG14: 707.48 | AH14: 1015.89 | AI14: 2207.48 | AJ14: 2623.36 | AK14: 3828.97
A15: แหล่งวัสดุพื้นทางถนน แหล่งที่ 2 | Q15: งาน | T15: หน่วย | V15: ค่าแรง/หน่วย | W15: หมายเหตุ
A16: 6 | B16: =+VLOOKUP($P$1,$O$3:$V$9,8) -> บ.กะลุวอเหนือ อ.เมือง จ.นราธิวาส | E16: หินคลุก | F16: =+VLOOKUP($P$1,$O$3:$V$9,3) -> 450 | G16: บาท/ลบ.ม. | H16: 82 | I16: = | J16: =IF(แหล่งวัสดุ!L$23=1,IF(H16<=200,VLOOKUP(H16,'S2'!B$5:'S2'!F$204,3),IF(H16>200,(H16-200)*'S2'!D$205+'S2'!D$204)),IF(แหล่งวัสดุ!L$23=2,IF(H16<=200,VLOOKUP(H16,'S2'!B$5:'S2'!F$204,5),IF(H16>200,(H16-200)*'S2'!F$205+'S2'!F$204)))) -> 158.75 | K16: บาท/ลบ.ม. ราคารวม = | L16: =+J16+F16 -> 608.75 | M16: บาท/ลบ.ม. | R16: งานผสมและเทคอนกรีต
A17: =1+A16 -> 7 | B17: =+B16 -> บ.กะลุวอเหนือ อ.เมือง จ.นราธิวาส | E17: หินฝุ่น | F17: =+VLOOKUP($P$1,$O$3:$V$9,4) -> 500 | G17: บาท/ลบ.ม. | H17: =+H16 -> 82 | I17: = | J17: =IF(แหล่งวัสดุ!L$23=1,IF(H17<=200,VLOOKUP(H17,'S2'!B$5:'S2'!F$204,3),IF(H17>200,(H17-200)*'S2'!D$205+'S2'!D$204)),IF(แหล่งวัสดุ!L$23=2,IF(H17<=200,VLOOKUP(H17,'S2'!B$5:'S2'!F$204,5),IF(H17>200,(H17-200)*'S2'!F$205+'S2'!F$204)))) -> 158.75 | K17: บาท/ลบ.ม. ราคารวม = | L17: =+J17+F17 -> 658.75 | M17: บาท/ลบ.ม. | Q17: 1 | R17: คอนกรีตหยาบ | T17: ลบ.ม. | V17: 398 | W17: รองก้นหลุม
A18: =1+A17 -> 8 | B18: =+B17 -> บ.กะลุวอเหนือ อ.เมือง จ.นราธิวาส | E18: หิน3/4" | F18: =+VLOOKUP($P$1,$O$3:$V$9,5) -> 500 | G18: บาท/ลบ.ม. | H18: =H17 -> 82 | I18: = | J18: =IF(แหล่งวัสดุ!L$23=1,IF(H18<=200,VLOOKUP(H18,'S2'!B$5:'S2'!F$204,3),IF(H18>200,(H18-200)*'S2'!D$205+'S2'!D$204)),IF(แหล่งวัสดุ!L$23=2,IF(H18<=200,VLOOKUP(H18,'S2'!B$5:'S2'!F$204,5),IF(H18>200,(H18-200)*'S2'!F$205+'S2'!F$204)))) -> 158.75 | K18: บาท/ลบ.ม. ราคารวม = | L18: =+J18+F18 -> 658.75 | M18: บาท/ลบ.ม. | Q18: 2 | R18: คอนกรีตโครงสร้าง | T18: ลบ.ม. | U18: 1 | V18: 436 | W18: ทางเท้า ทางระบายน้ำ บ่อพัก ถนนภายใน
A19: =1+A18 -> 9 | B19: =+B18 -> บ.กะลุวอเหนือ อ.เมือง จ.นราธิวาส | E19: หิน1/2" | F19: =+VLOOKUP($P$1,$O$3:$V$9,6) -> 570 | G19: บาท/ลบ.ม. | H19: =+H18 -> 82 | I19: = | J19: =IF(แหล่งวัสดุ!L$23=1,IF(H19<=200,VLOOKUP(H19,'S2'!B$5:'S2'!F$204,3),IF(H19>200,(H19-200)*'S2'!D$205+'S2'!D$204)),IF(แหล่งวัสดุ!L$23=2,IF(H19<=200,VLOOKUP(H19,'S2'!B$5:'S2'!F$204,5),IF(H19>200,(H19-200)*'S2'!F$205+'S2'!F$204)))) -> 158.75 | K19: บาท/ลบ.ม. ราคารวม = | L19: =+J19+F19 -> 728.75 | M19: บาท/ลบ.ม. | Q19: 3 | T19: ลบ.ม. | U19: 2 | V19: 498 | W19: โครงสร้างและส่วนประกอบอาคารชั้นเดียว
A20: =1+A19 -> 10 | B20: =+B19 -> บ.กะลุวอเหนือ อ.เมือง จ.นราธิวาส | E20: หิน3/8" | F20: =+VLOOKUP($P$1,$O$3:$V$9,7) -> 580 | G20: บาท/ลบ.ม. | H20: =+H19 -> 82 | I20: = | J20: =IF(แหล่งวัสดุ!L$23=1,IF(H20<=200,VLOOKUP(H20,'S2'!B$5:'S2'!F$204,3),IF(H20>200,(H20-200)*'S2'!D$205+'S2'!D$204)),IF(แหล่งวัสดุ!L$23=2,IF(H20<=200,VLOOKUP(H20,'S2'!B$5:'S2'!F$204,5),IF(H20>200,(H20-200)*'S2'!F$205+'S2'!F$204)))) -> 158.75 | K20: บาท/ลบ.ม. ราคารวม = | L20: =+J20+F20 -> 738.75 | M20: บาท/ลบ.ม. | Q20: 4 | T20: ลบ.ม. | U20: 3 | V20: 542 | W20: โครงสร้างและส่วนประกอบอาคารหลายชั้น
Q21: 2 | R21: คอนกรีตผสมเสร็จ | T21: ลบ.ม. | U21: 1 | V21: 306 | W21: ทางเท้า ทางระบายน้ำ บ่อพัก ถนนภายใน
A22: ที่ | B22: แหล่งวัสดุ | E22: ชนิดวัสดุ | F22: ราคาต่อหน่วย | G22: หน่วย | H22: ระยะขนส่ง | J22: กรอกข้อความ หรือ ตัวเลข เฉพาะในช่องพื้น สีเหลือง | Q22: 3 | T22: ลบ.ม. | U22: 2 | V22: 391 | W22: โครงสร้างและส่วนประกอบอาคารชั้นเดียว
A23: 11 | B23: ต.คลองเปียะ อ.จะนะ จ.สงขลา | E23: หินผสมคอนกรีต | F23: 400 | G23: บาท/ลบ.ม. | H23: 40 | J23: ค่าขนส่งหิน | L23: 2 | M23: ใช้ 1 เมื่อใช้รถรถบรรทุก 10 ล้อ | Q23: 4 | T23: ลบ.ม. | U23: 3 | V23: 485 | W23: โครงสร้างและส่วนประกอบอาคารหลายชั้น
A24: 12 | B24: ต.คลองเปียะ อ.จะนะ จ.สงขลา | E24: หินใหญ่ | F24: 476.64 | G24: บาท/ลบ.ม. | H24: 150 | J24: ค่าขนส่งยาง | L24: 2 | M24: ใช้ 2 เมื่อใช้รถบรรทุก 10 ล้อ + รถลากพ่วง | R24: ประกอบและติดตั้งแบบหล่อคอนกรีต
A25: =1+A23 -> 12 | B25: อ.มะนัง จ.สตูล | E25: ดินถม | F25: 25 | G25: บาท/ลบ.ม. | H25: 6 | J25: ดอกเบี้ยเงินกู้ | L25: 7 | M25: % | N25: (งบประมาณ 100 %) | Q25: 1 | R25: แบบหล่อทั่วไป | T25: ตร.ม. | U25: 1 | V25: 115 | W25: จำนวน 5,000 ตร.ม.ขึ้นไป
A26: =1+A25 -> 13 | B26: อ.มะนัง จ.สตูล | E26: ลูกรัง | F26: 35 | G26: บาท/ลบ.ม. | H26: 19 | J26: เงินล่วงหน้าจ่าย | L26: 15 | M26: % | T26: ตร.ม. | U26: 2 | V26: 133 | W26: จำนวนน้อยกว่า 5,000 ตร.ม.
A27: =1+A26 -> 14 | B27: อ.มะนัง จ.สตูล | E27: วัสดุคัดเลือก | F27: 35 | G27: บาท/ลบ.ม. | J27: ดอกเบี้ยเงินฝาก | L27: 4 | M27: % | N27: ค่าขนส่งยางจากกรุงเทพฯ -ศรีราชา | Q27: 2 | R27: แบบหล่อเปลือย | T27: ตร.ม. | U27: 1 | V27: 154 | W27: ชนิดผิวเรียบ
A28: =1+A27 -> 15 | B28: อ.มะนัง จ.สตูล | E28: ทรายหยาบ | F28: 485 | G28: บาท/ลบ.ม. | H28: 73 | J28: เงินประกันผลงาน | L28: 0 | M28: % | T28: ตร.ม. | U28: 2 | V28: 193 | W28: ชนิดผิวมีบัวลวดลาย
A29: =1+A28 -> 16 | B29: อ.มะนัง จ.สตูล | E29: ทรายถมที่ | F29: 150 | G29: บาท/ลบ.ม. | H29: =+H28 -> 73 | J29: ภาษีมูลค่าเพิ่ม ( VAT ) | L29: 7 | M29: % | N29: 124 | O29: =IF(แหล่งวัสดุ!L$24=1,IF(N29<=200,VLOOKUP(N29,'S2'!B$5:'S2'!F$204,2),IF(N29>200,(N29-200)*'S2'!C$205+'S2'!C$204)),IF(แหล่งวัสดุ!L$24=2,IF(N29<=200,VLOOKUP(N29,'S2'!B$5:'S2'!F$204,4),IF(N29>200,(N29-200)*'S2'!E$205+'S2'!E$204)))) -> 171.17 | Q29: 3 | R29: แบบหล่อที่ตั้งสูงเกินปกติ | T29: ตร.ม. | U29: 1 | V29: 154 | W29: ท้องคานหรือท้องพื้นสูง 5.00 - 7.00 ม.
A30: =1+A29 -> 17 | B30: สำนักดัชนีการค้า ปัตตานี (ตุลาคม 58) | E30: ซีเมนต์ Type 1 | F30: 3003.11 | G30: บาท/ตัน | H30: 65 | J30: ค่าขนส่งปูนซิเมนต์ | L30: 2 | T30: ตร.ม. | U30: 2 | V30: 180 | W30: ท้องคานหรือท้องพื้นสูงเกิน 7.00 ม.
A31: =1+A30 -> 18 | B31: =+B30 -> สำนักดัชนีการค้า ปัตตานี (ตุลาคม 58) | E31: คอนกรีตผสมเสร็จ 320 ksc | G31: บาท/ลบ.ม. | H31: =+H30 -> 65 | J31: ค่าขนส่งปูนสำเร็จรูป | L31: 1 | M31: ใช้ 1 เมื่อใช้รถรถบรรทุก 10 ล้อ | R31: ตัด - ดัด - ผูก เหล็กเส้นเสริมคอนกรีต
A32: =1+A31 -> 19 | B32: สำนักดัชนีการค้า กรุงเทพฯ(ตุลาคม58) | E32: =+'NO DELETE'!AR44 -> PARA Asphaltic Concrete | F32: 38465 | G32: บาท/ตัน | H32: 1075 | J32: ค่าขนส่งดิน,ลูกรัง | L32: 1 | M32: ใช้ 2 เมื่อใช้รถบรรทุก 10 ล้อ + รถลากพ่วง | Q32: 1 | R32: ผิวเรียบ | T32: ตัน | U32: 1 | V32: 4100 | W32: เส้นผ่านศูนย์กลาง น้อยกว่า 10 มม.
A33: =1+A32 -> 20 | B33: =+B32 -> สำนักดัชนีการค้า กรุงเทพฯ(ตุลาคม58) | E33: ยาง CSS-1 | F33: 22686.67 | G33: บาท/ตัน | H33: =+H32 -> 1075 | J33: ค่าขนส่งทราย | L33: 1 | Q33: 2 | R33: ผิวเรียบและผิวข้ออ้อย | T33: ตัน | U33: 2 | V33: 3300 | W33: เส้นผ่านศูนย์กลาง ตั้งแต่ 10 มม.ถึง 16 มม.
A34: =1+A33 -> 21 | B34: =+B33 -> สำนักดัชนีการค้า กรุงเทพฯ(ตุลาคม58) | E34: ยาง AC 60-70 | F34: 25743.33 | G34: บาท/ตัน | H34: =+H33 -> 1075 | J34: ค่าขนส่งเหล็ก | L34: 1 | Q34: 3 | R34: ผิวเรียบและผิวข้ออ้อย | U34: 3 | V34: 2900 | W34: เส้นผ่านศูนย์กลาง ตั้งแต่ 19 มม.
A35: =1+A34 -> 22 | B35: =+B34 -> สำนักดัชนีการค้า กรุงเทพฯ(ตุลาคม58) | E35: ยาง CRS-2 | F35: 21906.67 | G35: บาท/ตัน | H35: =+H34 -> 1075 | J35: ค่าขนส่งท่อ คสล. | L35: 1 | Q35: 4 | R35: วางตะแกรงสำเร็จรูป | T35: ตร.ม. | V35: 5
A36: =1+A35 -> 23 | B36: อ.ศรีราชา จ.ชลบุรี | E36: ยาง CSS-1 | F36: =+F33-$O$29 -> 22515.5 | G36: บาท/ตัน | H36: 1180 | J36: ค่าขนส่งหินใหญ่ | L36: 1
A37: =1+A36 -> 24 | B37: =+B36 -> อ.ศรีราชา จ.ชลบุรี | E37: ยาง AC 60-70 | F37: =+F34-$O$29 -> 25572.16 | G37: บาท/ตัน | H37: =+H36 -> 1180 | J37: ประมาณราคา | K37: นายวัลลภ มูสิกะเจริญ | M37: ตำแหน่ง | N37: นายช่างโยธาชำนาญงาน
A38: =1+A37 -> 25 | B38: =+B37 -> อ.ศรีราชา จ.ชลบุรี | E38: ยาง CRS-2 | F38: =+F35-$O$29 -> 21735.5 | G38: บาท/ตัน | H38: =+H37 -> 1180 | J38: ตรวจ | K38: นางสาวปิญาภา ศรีมณี | M38: ตำแหน่ง | N38: วิศวกรโยธาชำนาญการ
A39: =1+A38 -> 26 | B39: สำนักดัชนีการค้า สตูล(กันยายน 58) | E39: เหล็กเสริม RB6 SR 24 | F39: 19898.17 | G39: บาท/ตัน | H39: =+H31 -> 65 | J39: ผู้ตรวจ | K39: นายวโรภาส แสงพายัพ | M39: ตำแหน่ง | N39: วิศวกรโยธาชำนาญการ
A40: =1+A39 -> 27 | B40: =+B39 -> สำนักดัชนีการค้า สตูล(กันยายน 58) | E40: เหล็กเสริม RB9 SR 24 | F40: 19220.78 | G40: บาท/ตัน | H40: =+H39 -> 65
...

Sheet งวดงาน
A1: รายละเอียดแบ่งงวดงาน
A2: =+ปร.5_Roads!A4&""&ปร.5_Roads!C4&" "&ปร.5_Roads!A6&""&ปร.5_Roads!C6&""&ปร.5_Roads!F6&"" -> ประเภทงานบำรุงพิเศษ ซ่อมสร้างผิวทาง Asphaltic Concrete รหัสสายทาง ปน.4031แยกทางหลวงหมายเลข 4157-บ้านปาตา
A3: =+ปร.5_Roads!C7 -> อำเภอ ปะนาเระ,ยะหริ่ง จังหวัด ปัตตานี | H3: ="ระยะเวลาดำเนินการ "&L59&" วัน" -> ระยะเวลาดำเนินการ 120 วัน | J3: ="จำนวน "&A42&" งวด" -> จำนวน 13 งวด
A4: งวด | B4: งาน | D4: รายการ | E4: จำนวน | F4: หน่วย | G4: ราคา/หน่วย | H4: คิดเป็นเงิน | I4: คิดให้ 90% | J4: คงเหลือ | K4: เทียบเป็น % | L4: วัน
A5: ที่ | B5: ประเภทงาน | C5: ปรับราคา
A6: 1 | B6: งานดิน | C6: ได้ | D6: =+ปร.4_Roads!C8 -> งานขุดรื้อพื้นทางหินคลุกเดิมแล้วบดทับ | E6: 3000 | F6: ตร.ม. | G6: =+ปร.4_Roads!L8 -> 20 | H6: =G6*E6 -> 60000 | I6: =+ROUNDDOWN(H6*0.9,-3) -> 54000 | J6: =+H6-I6 -> 6000 | N6: =+ปร.4_Roads!E8 -> 12184 | O6: =+N6/4 -> 3046
D7: =+ปร.4_Roads!C15 -> หินคลุกบดอัดแน่น | E7: 360 | F7: ลบ.ม. | G7: =+ปร.4_Roads!L15 -> 1274.2 | H7: =G7*E7 -> 458712 | I7: =+ROUNDDOWN(H7*0.9,-3) -> 412000 | J7: =+H7-I7 -> 46712 | N7: =+O6*0.12 -> 365.52 | O7: =+ปร.4_Roads!E15 -> 1506
E8: รวม | H8: =SUM(H6:H7) -> 518712 | I8: =SUM(I6:I7) -> 466000 | J8: =SUM(J6:J7) -> 52712 | K8: =+I8/$H$60*100 -> 5.9376702 | L8: 30
A9: =+A6+1 -> 2 | B9: งานดิน | C9: ได้ | D9: =+D6 -> งานขุดรื้อพื้นทางหินคลุกเดิมแล้วบดทับ | E9: =+E6 -> 3000 | F9: =+F6 -> ตร.ม. | G9: =+G6 -> 20 | H9: =G9*E9 -> 60000 | I9: =+ROUNDDOWN(H9*0.9,-3) -> 54000 | J9: =+H9-I9 -> 6000
D10: =+D7 -> หินคลุกบดอัดแน่น | E10: =+E7 -> 360 | F10: =+F7 -> ลบ.ม. | G10: =+ปร.4_Roads!L15 -> 1274.2 | H10: =G10*E10 -> 458712 | I10: =+ROUNDDOWN(H10*0.9,-3) -> 412000 | J10: =+H10-I10 -> 46712
E11: รวม | H11: =SUM(H9:H10) -> 518712 | I11: =SUM(I9:I10) -> 466000 | J11: =SUM(J9:J10) -> 52712 | K11: =+I11/$H$60*100 -> 5.9376702 | L11: =+L8+10 -> 40
A12: =+A9+1 -> 3 | B12: งานดิน | C12: ได้ | D12: =+D9 -> งานขุดรื้อพื้นทางหินคลุกเดิมแล้วบดทับ | E12: =+E9 -> 3000 | F12: =+ปร.4_Roads!F26 -> ตร.ม. | G12: =+G9 -> 20 | H12: =G12*E12 -> 60000 | I12: =+ROUNDDOWN(H12*0.9,-3) -> 54000 | J12: =+H12-I12 -> 6000
D13: =+D10 -> หินคลุกบดอัดแน่น | E13: =+E10 -> 360 | F13: =+F10 -> ลบ.ม. | G13: =+G10 -> 1274.2 | H13: =G13*E13 -> 458712 | I13: =+ROUNDDOWN(H13*0.9,-3) -> 412000 | J13: =+H13-I13 -> 46712
E14: รวม | H14: =SUM(H12:H13) -> 518712 | I14: =SUM(I12:I13) -> 466000 | J14: =SUM(J12:J13) -> 52712 | K14: =+I14/$H$60*100 -> 5.9376702 | L14: =+L11+10 -> 50
A15: =+A12+1 -> 4 | B15: งานดิน | C15: ได้ | D15: =+D12 -> งานขุดรื้อพื้นทางหินคลุกเดิมแล้วบดทับ | E15: =+N6-E12-E9-E6 -> 3184 | F15: =+F9 -> ตร.ม. | G15: =+G12 -> 20 | H15: =+E15*G15 -> 63680 | I15: =+ROUNDDOWN(H15*0.9,-3) -> 57000 | J15: =+H15-I15 -> 6680
D16: =+D13 -> หินคลุกบดอัดแน่น | E16: =+O7-E7-E10-E13 -> 426 | F16: =+F10 -> ลบ.ม. | G16: =+G13 -> 1274.2 | H16: =+E16*G16 -> 542809.2 | I16: =+ROUNDDOWN(H16*0.9,-3) -> 488000 | J16: =+H16-I16 -> 54809.2
E17: รวม | H17: =SUM(H15:H16) -> 606489.2 | I17: =SUM(I15:I16) -> 545000 | J17: =SUM(J15:J16) -> 61489.2 | K17: =+I17/$H$60*100 -> 6.9442709 | L17: =+L14+10 -> 60
A18: =+A15+1 -> 5 | B18: งาน Prime Coat | C18: ได้ | D18: =+B18 -> งาน Prime Coat | E18: =+O18 -> 1523 | F18: ตร.ม. | G18: =+ปร.4_Roads!L21 -> 43.4 | H18: =+E18*G18 -> 66098.2 | I18: =+ROUNDDOWN(H18*0.9,-3) -> 59000 | J18: =+H18-I18 -> 7098.2 | N18: =+ปร.4_Roads!E21+ปร.4_Roads!E28 -> 12184 | O18: =+N18/8 -> 1523
B19: Aspaltic Concreat | C19: ได้ | D19: =+B19 -> Aspaltic Concreat | E19: =+E18 -> 1523 | F19: =+F18 -> ตร.ม. | G19: =+ปร.4_Roads!L24 -> 412 | H19: =+E19*G19 -> 627476 | I19: =+ROUNDDOWN(H19*0.9,-3) -> 564000 | J19: =+H19-I19 -> 63476
E20: รวม | H20: =SUM(H18:H19) -> 693574.2 | I20: =SUM(I18:I19) -> 623000 | J20: =SUM(J18:J19) -> 70574.2 | K20: =+I20/$H$60*100 -> 7.9381299 | L20: =+L17+10 -> 70
A21: =+A18+1 -> 6 | B21: งาน Prime Coat | C21: ได้ | D21: =+D18 -> งาน Prime Coat | E21: =+E18 -> 1523 | F21: ตร.ม. | G21: =+G18 -> 43.4 | H21: =+E21*G21 -> 66098.2 | I21: =+ROUNDDOWN(H21*0.9,-3) -> 59000 | J21: =+H21-I21 -> 7098.2
B22: Aspaltic Concreat | D22: =+D19 -> Aspaltic Concreat | E22: =+E21 -> 1523 | F22: =+F21 -> ตร.ม. | G22: =+G19 -> 412 | H22: =+E22*G22 -> 627476 | I22: =+ROUNDDOWN(H22*0.9,-3) -> 564000 | J22: =+H22-I22 -> 63476
E23: รวม | H23: =SUM(H21:H22) -> 693574.2 | I23: =SUM(I21:I22) -> 623000 | J23: =SUM(J21:J22) -> 70574.2 | K23: =+I23/$H$60*100 -> 7.9381299 | L23: =+L20+10 -> 80
A24: =+A21+1 -> 7 | B24: =+B21 -> งาน Prime Coat | C24: ได้ | D24: =+D21 -> งาน Prime Coat | E24: =+E21 -> 1523 | F24: ตร.ม. | G24: =+G21 -> 43.4 | H24: =+E24*G24 -> 66098.2 | I24: =+ROUNDDOWN(H24*0.9,-3) -> 59000 | J24: =+H24-I24 -> 7098.2
B25: Aspaltic Concreat | D25: =+D22 -> Aspaltic Concreat | E25: =+E24 -> 1523 | F25: =+F24 -> ตร.ม. | G25: =+G22 -> 412 | H25: =+E25*G25 -> 627476 | I25: =+ROUNDDOWN(H25*0.9,-3) -> 564000 | J25: =+H25-I25 -> 63476
E26: รวม | H26: =SUM(H24:H25) -> 693574.2 | I26: =SUM(I24:I25) -> 623000 | J26: =SUM(J24:J25) -> 70574.2 | K26: =+I26/$H$60*100 -> 7.9381299 | L26: =+L23+10 -> 90
A27: =+A24+1 -> 8 | B27: =+B24 -> งาน Prime Coat | C27: ได้ | D27: =+D24 -> งาน Prime Coat | E27: =+E24 -> 1523 | F27: ตร.ม. | G27: =+G24 -> 43.4 | H27: =+E27*G27 -> 66098.2 | I27: =+ROUNDDOWN(H27*0.9,-3) -> 59000 | J27: =+H27-I27 -> 7098.2
B28: =+B25 -> Aspaltic Concreat | C28: ได้ | D28: =+D25 -> Aspaltic Concreat | E28: =+E25 -> 1523 | F28: =+F27 -> ตร.ม. | G28: =+G25 -> 412 | H28: =+E28*G28 -> 627476 | I28: =+ROUNDDOWN(H28*0.9,-3) -> 564000 | J28: =+H28-I28 -> 63476
E29: รวม | H29: =SUM(H27:H28) -> 693574.2 | I29: =SUM(I27:I28) -> 623000 | J29: =SUM(J27:J28) -> 70574.2 | K29: =+I29/$H$60*100 -> 7.9381299 | L29: =+L26+10 -> 100
A30: =+A27+1 -> 9 | B30: =+B27 -> งาน Prime Coat | C30: ได้ | D30: =+D27 -> งาน Prime Coat | E30: =+E27 -> 1523 | F30: ตร.ม. | G30: =+G27 -> 43.4 | H30: =+E30*G30 -> 66098.2 | I30: =+ROUNDDOWN(H30*0.9,-3) -> 59000 | J30: =+H30-I30 -> 7098.2
B31: =+B28 -> Aspaltic Concreat | C31: ได้ | D31: =+D28 -> Aspaltic Concreat | E31: =+E30 -> 1523 | F31: =+F30 -> ตร.ม. | G31: =+G28 -> 412 | H31: =+E31*G31 -> 627476 | I31: =+ROUNDDOWN(H31*0.9,-3) -> 564000 | J31: =+H31-I31 -> 63476
E32: รวม | H32: =SUM(H30:H31) -> 693574.2 | I32: =SUM(I30:I31) -> 623000 | J32: =SUM(J30:J31) -> 70574.2 | K32: =+I32/$H$60*100 -> 7.9381299 | L32: 110
A33: =+A30+1 -> 10 | B33: =+B30 -> งาน Prime Coat | C33: ได้ | D33: =+D30 -> งาน Prime Coat | E33: =+E30 -> 1523 | F33: ตร.ม. | G33: =+G30 -> 43.4 | H33: =+E33*G33 -> 66098.2 | I33: =+ROUNDDOWN(H33*0.9,-3) -> 59000 | J33: =+H33-I33 -> 7098.2
B34: Aspaltic Concreat | D34: =+D31 -> Aspaltic Concreat | E34: =+E33 -> 1523 | F34: =+F33 -> ตร.ม. | G34: =+G31 -> 412 | H34: =+E34*G34 -> 627476 | I34: =+ROUNDDOWN(H34*0.9,-3) -> 564000 | J34: =+H34-I34 -> 63476
E35: รวม | H35: =SUM(H33:H34) -> 693574.2 | I35: =SUM(I33:I34) -> 623000 | J35: =SUM(J33:J34) -> 70574.2 | K35: =+I35/$H$60*100 -> 7.9381299 | L35: =+L32+10 -> 120
A36: =+A33+1 -> 11 | B36: =+B33 -> งาน Prime Coat | C36: ได้ | D36: =+D33 -> งาน Prime Coat | E36: =+E33 -> 1523 | F36: ตร.ม. | G36: =+G33 -> 43.4 | H36: =+E36*G36 -> 66098.2 | I36: =+ROUNDDOWN(H36*0.9,-3) -> 59000 | J36: =+H36-I36 -> 7098.2
B37: =+B34 -> Aspaltic Concreat | C37: ได้ | D37: =+D34 -> Aspaltic Concreat | E37: =+E34 -> 1523 | F37: =+F36 -> ตร.ม. | G37: =+G34 -> 412 | H37: =+E37*G37 -> 627476 | I37: =+ROUNDDOWN(H37*0.9,-3) -> 564000 | J37: =+H37-I37 -> 63476
E38: รวม | H38: =SUM(H36:H37) -> 693574.2 | I38: =SUM(I36:I37) -> 623000 | J38: =SUM(J36:J37) -> 70574.2 | K38: =+I38/$H$60*100 -> 7.9381299 | L38: =+L35+10 -> 130
A39: =+A36+1 -> 12 | B39: =+B36 -> งาน Prime Coat | C39: ได้ | D39: =+D36 -> งาน Prime Coat | E39: =+N18-E18-E21-E24-E27-E30-E33-E36 -> 1523 | F39: ตร.ม. | G39: =+G36 -> 43.4 | H39: =+E39*G39 -> 66098.2 | I39: =+ROUNDDOWN(H39*0.9,-3) -> 59000 | J39: =+H39-I39 -> 7098.2
B40: =+B37 -> Aspaltic Concreat | C40: ได้ | D40: =+D37 -> Aspaltic Concreat | E40: =+E39 -> 1523 | F40: =+F39 -> ตร.ม. | G40: =+G37 -> 412 | H40: =+E40*G40 -> 627476 | I40: =+ROUNDDOWN(H40*0.9,-3) -> 564000 | J40: =+H40-I40 -> 63476
...

Sheet งวดงานจริง
A1: รายละเอียดงวดงาน
A3: ชื่องาน | D3: บูรณะทางหลวงชนบทสายหลัก
A4: ชื่อสายทาง | D4: สาย | E4: =+แหล่งวัสดุ!C5 -> ปน.4031 | G4: =+แหล่งวัสดุ!F5 -> แยกทางหลวงหมายเลข 4157-บ้านปาตา
A5: ที่ตั้ง | D5: =+แหล่งวัสดุ!C6 -> อำเภอ ปะนาเระ,ยะหริ่ง จังหวัด ปัตตานี
A6: ลักษณะงาน | D6: =+'NO DELETE'!AB34 -> ซ่อมสร้างผิวทาง Asphaltic Concrete
D7: ผิวจราจรกว้าง | F7: =+ปร.5_Roads!I8 -> 6 | H7: เมตร | I7: ไหล่ทางกว้างข้างละ | M7: =+ปร.5_Roads!I9 -> 0.00 - 1.00 | P7: เมตร
D8: ระยะทาง | F8: =+ปร.5_Roads!E10 -> 1.523 | H8: กิโลเมตร
A9: ระยะเวลาก่อสร้าง | D9: =+งวดงาน!L59 -> 120 | E9: วัน นับถัดจากวันลงนามในสัญญา
A10: ค่าจ้าง | D10: เป็นเงินทั้งสิ้น | F10: =+งวดงาน!H60 -> 7848196.1 | J10: บาท
D11: ="(เงิน"&BAHTTEXT(F10)&")" -> (เงินเจ็ดล้านแปดแสนสี่หมื่นแปดพันหนึ่งร้อยเก้าสิบหกบาทสิบสตางค์)
D12: ซึ่งได้รวมภาษีมูลค่าเพิ่มตลอดจน ภาษีอากรอื่น ๆ และค่าใช้จ่ายทั้งปวงด้วยแล้วโดยถือราคาเหมารวม
D13: เป็นเกณฑ์การจ่ายเงินค่าจ้าง ผู้ว่าจ้างตกลงจ่ายและผู้รับจ้างตกลงรับเงินค่าจ้างเป็น งวด ๆ รวมจำนวน
D14: =+งวดงาน!A42 -> 13 | E14: งวดงาน ตามรายละเอียดดังนี้
D16: ก.งานถนน
A17: งวดงานที่ | B17: 1 | D17: เป็นเงินทั้งสิ้น | F17: =+งวดงาน!#REF! -> #REF! | I17: ="บาท (เงิน"&BAHTTEXT(F17)&")" -> #REF!
D18: เมื่อผู้รับจ้างได้ปฎิบัติงาน
D19: งานที่ปรับราคาได้ประเภทงานดิน
D20: - งาน Pavement In - Place Recycling แล้วเสร็จไม่น้อยกว่า | O20: =+งวดงาน!E6 -> 3000 | Q20: ตร.ม.
D21: (ซึ่งจะแล้วเสร็จภายใน | G21: =+งวดงาน!#REF! -> #REF! | H21: วัน นับถัดจากวันลงนามในสัญญา)
A23: งวดงานที่ | B23: =+B17+1 -> 2 | D23: เป็นเงินทั้งสิ้น | F23: =+งวดงาน!I8 -> 466000 | I23: ="บาท (เงิน"&BAHTTEXT(F23)&")" -> บาท (เงินสี่แสนหกหมื่นหกพันบาทถ้วน)
D24: เมื่อผู้รับจ้างได้ปฎิบัติงาน
D25: งานที่ปรับราคาได้ประเภทงานดิน
D26: - งาน Pavement In - Place Recycling แล้วเสร็จไม่น้อยกว่า | O26: =+งวดงาน!#REF! -> #REF! | Q26: ตร.ม.
D27: (ซึ่งจะแล้วเสร็จภายใน | G27: =+งวดงาน!L8 -> 30 | H27: วัน นับถัดจากวันลงนามในสัญญา)
A29: งวดงานที่ | B29: =+B23+1 -> 3 | D29: เป็นเงินทั้งสิ้น | F29: =+งวดงาน!#REF! -> #REF! | I29: ="บาท (เงิน"&BAHTTEXT(F29)&")" -> #REF!
D30: เมื่อผู้รับจ้างได้ปฎิบัติงาน
D31: งานที่ปรับราคาได้ประเภทงานดิน
D32: - งาน Pavement In - Place Recycling แล้วเสร็จไม่น้อยกว่า | O32: =+งวดงาน!E9 -> 3000 | Q32: ตร.ม.
D33: (ซึ่งจะแล้วเสร็จภายใน | G33: =+งวดงาน!#REF! -> #REF! | H33: วัน นับถัดจากวันลงนามในสัญญา)
A35: งวดงานที่ | B35: =+B29+1 -> 4 | D35: เป็นเงินทั้งสิ้น | F35: =+งวดงาน!I17 -> 545000 | I35: ="บาท (เงิน"&BAHTTEXT(F35)&")" -> บาท (เงินห้าแสนสี่หมื่นห้าพันบาทถ้วน)
D36: เมื่อผู้รับจ้างได้ปฎิบัติงาน
D37: งานที่ปรับราคาได้ประเภทงานดิน
D38: - งาน Pavement In - Place Recycling แล้วเสร็จไม่น้อยกว่า | O38: =+งวดงาน!E15 -> 3184 | Q38: ตร.ม.
D39: (ซึ่งจะแล้วเสร็จภายใน | G39: =+งวดงาน!L17 -> 60 | H39: วัน นับถัดจากวันลงนามในสัญญา)
A41: งวดงานที่ | B41: =+B35+1 -> 5 | D41: เป็นเงินทั้งสิ้น | F41: =+งวดงาน!#REF! -> #REF! | I41: ="บาท (เงิน"&BAHTTEXT(F41)&")" -> #REF!
D42: เมื่อผู้รับจ้างได้ปฎิบัติงาน
D43: งานที่ปรับราคาได้ประเภทงานดิน
D44: - งาน Pavement In - Place Recycling แล้วเสร็จไม่น้อยกว่า | O44: =+งวดงาน!#REF! -> #REF! | Q44: ตร.ม.
D45: (ซึ่งจะแล้วเสร็จภายใน | G45: =+งวดงาน!#REF! -> #REF! | H45: วัน นับถัดจากวันลงนามในสัญญา)
A47: งวดงานที่ | B47: =+B41+1 -> 6 | D47: เป็นเงินทั้งสิ้น | F47: =+F50+F53 -> #REF! | I47: ="บาท (เงิน"&BAHTTEXT(F47)&")" -> #REF!
...

Sheet BackupAC
A1: =ปร.5_Roads!C4 -> บำรุงพิเศษ ซ่อมสร้างผิวทาง Asphaltic Concrete
B2: =+ปร.5_Roads!C6 -> ปน.4031 | C2: =+ปร.5_Roads!F6 -> แยกทางหลวงหมายเลข 4157-บ้านปาตา | H2: =+ปร.5_Roads!C7 -> อำเภอ ปะนาเระ,ยะหริ่ง จังหวัด ปัตตานี
C3: ลักษณะความกว้างพื้นผิวจราจร | F3: =+'NO DELETE'!AB4 -> ไม่มี WIDENING
A4: วิธีที่ 1 OVERLAY
A5: กม. ถึง กม. | C5: ผิวทาง | D5: ไหล่ทาง | E5: ระยะทาง | F5: หักสะพานยาว (เมตร) | G5: พื้นที่ผิวทาง | H5: พื้นที่ไหล่ทาง | I5: เสริมหิน | J5: ปริมาตร
C6: กว้าง(ม.) | D6: กว้าง(ม.) | E6: (เมตร) | G6: (ตรม.) | H6: (ตรม.) | I6: (เมตร.) | J6: หินคลุก(ลบ.ม.) | M6: หินทิ้ง
E7: =(B7-A7) -> 0 | F7: 0 | G7: =IF(E7>0,IF('NO DELETE'!$AA$4=1,(E7-F7)*C7*1.01,(E7-F7)*C7*1),) -> 0 | H7: =IF(D7>0,(E7-F7)*(D7*2),"")
E8: =(B8-A8) -> 0 | F8: 0 | G8: =IF(E8>0,IF('NO DELETE'!$AA$4=1,(E8-F8)*C8*1.01,(E8-F8)*C8*1),) -> 0 | H8: =IF(D8>0,(E8-F8)*(D8*2),"")
E9: =(B9-A9) -> 0 | F9: 0 | G9: =IF(E9>0,IF('NO DELETE'!$AA$4=1,(E9-F9)*C9*1.01,(E9-F9)*C9*1),) -> 0 | H9: =IF(D9>0,(E9-F9)*(D9*2),"")
E10: =(B10-A10) -> 0 | F10: 0 | G10: =IF(E10>0,IF('NO DELETE'!$AA$4=1,(E10-F10)*C10*1.01,(E10-F10)*C10*1),) -> 0 | H10: =IF(D10>0,(E10-F10)*(D10*2),"")
E11: =(B11-A11) -> 0 | F11: 0 | G11: =IF(E11>0,IF('NO DELETE'!$AA$4=1,(E11-F11)*C11*1.01,(E11-F11)*C11*1),) -> 0 | H11: =IF(D11>0,(E11-F11)*(D11*2),"")
E12: =(B12-A12) -> 0 | F12: 0 | G12: =IF(E12>0,IF('NO DELETE'!$AA$4=1,(E12-F12)*C12*1.01,(E12-F12)*C12*1),) -> 0 | H12: =IF(D12>0,(E12-F12)*(D12*2),"")
A13: รวม | E13: =SUM(E7:E12) -> 0 | F13: =SUM(F7:F12) -> 0 | G13: =ROUNDUP(SUM(G7:G12),) -> 0 | H13: =ROUNDUP(SUM(H7:H12),) -> 0 | M13: =SUM(M7:M12) -> 0
A15: วิธีที่ 2 ซ่อมสร้างผิวทาง ASPHALTIC CONCRETE
A16: กม. ถึง กม. | C16: ผิวทาง | D16: ไหล่ทาง | E16: ระยะทาง | F16: หักสะพานยาว (เมตร) | G16: พื้นที่ผิวทาง | H16: พื้นที่ไหล่ทาง | I16: เสริมหิน | J16: ปริมาตร
C17: กว้าง(ม.) | D17: กว้าง(ม.) | E17: (เมตร) | G17: (ตรม.) | H17: (ตรม.) | I17: (เมตร.) | J17: หินคลุก(ลบ.ม.)
A18: 3437 | B18: 4960 | C18: 6 | D18: 1 | E18: =(B18-A18) -> 1523 | F18: 0 | G18: =IF(E18>0,IF('NO DELETE'!$AA$4=1,(E18-F18)*C18*1.01,(E18-F18)*C18*1),) -> 9138 | H18: =IF(D18>0,(E18-F18)*(D18*2),"") -> 3046 | I18: 0.12 | J18: =IF(I18>0,(G18*I18+(0.5*(D18+D18+I18*2)*I18*(E18-F18))*2),0) -> 1505.9424
E19: =(B19-A19) -> 0 | F19: 0 | G19: =IF(E19>0,IF('NO DELETE'!$AA$4=1,(E19-F19)*C19*1.01,(E19-F19)*C19*1),) -> 0 | H19: =IF(D19>0,(E19-F19)*(D19*2),"") | J19: =IF(I19>0,(G19*I19+(0.5*(D19+D19+I19*2)*I19*(E19-F19))*2),0) -> 0
E20: =(B20-A20) -> 0 | F20: 0 | G20: =IF(E20>0,IF('NO DELETE'!$AA$4=1,(E20-F20)*C20*1.01,(E20-F20)*C20*1),) -> 0 | H20: =IF(D20>0,(E20-F20)*(D20*2),"") | J20: =IF(I20>0,(G20*I20+(0.5*(D20+D20+I20*2)*I20*(E20-F20))*2),0) -> 0
E21: =(B21-A21) -> 0 | F21: 0 | G21: =IF(E21>0,IF('NO DELETE'!$AA$4=1,(E21-F21)*C21*1.01,(E21-F21)*C21*1),) -> 0 | H21: =IF(D21>0,(E21-F21)*(D21*2),"") | J21: =IF(I21>0,(G21*I21+(0.5*(D21+D21+I21*2)*I21*(E21-F21))*2),0) -> 0
E22: =(B22-A22) -> 0 | F22: 0 | G22: =IF(E22>0,IF('NO DELETE'!$AA$4=1,(E22-F22)*C22*1.01,(E22-F22)*C22*1),) -> 0 | H22: =IF(D22>0,(E22-F22)*(D22*2),"") | J22: =IF(I22>0,(G22*I22+(0.5*(D22+D22+I22*2)*I22*(E22-F22))*2),0) -> 0
A23: รวม | E23: =ROUND(SUM(E18:E22),) -> 1523 | F23: =ROUND(SUM(F18:F22),) -> 0 | G23: =ROUND(SUM(G18:G22),) -> 9138 | H23: =ROUND(SUM(H18:H22),) -> 3046 | J23: =ROUND(SUM(J18:J22),) -> 1506 | L23: =+G23+H23 -> 12184
A25: วิธีที่ 3 ซ่อมสร้างผิวทาง ASPHALTIC CONCRETE - PAVEMENT IN - PLACE RECYCLING
A26: กม. ถึง กม. | C26: ผิวทาง | D26: ไหล่ทาง | E26: ระยะทาง | F26: หักสะพานยาว (เมตร) | G26: พื้นที่ผิวทาง | H26: พื้นที่ไหล่ทาง | I26: หินคลุกปรับระดับ | J26: ปริมาตร
C27: กว้าง(ม.) | D27: กว้าง(ม.) | E27: (เมตร) | G27: (ตรม.) | H27: (ตรม.) | J27: หินคลุก(หลวม)
E28: =(B28-A28) -> 0 | F28: 0 | G28: =IF(E28>0,IF('NO DELETE'!$AA$4=1,(E28-F28)*C28*1.01,(E28-F28)*C28*1),) -> 0 | H28: =IF(D28>0,(E28-F28)*(D28*2),"") | J28: =IF(I28>0,(G28*I28+(0.5*(D28+D28+I28*2)*I28*(E28-F28))*2),0) -> 0
E29: =(B29-A29) -> 0 | F29: 0 | G29: =IF(E29>0,IF('NO DELETE'!$AA$4=1,(E29-F29)*C29*1.01,(E29-F29)*C29*1),) -> 0 | H29: =IF(D29>0,(E29-F29)*(D29*2),"") | J29: =IF(I29>0,(G29*I29+(0.5*(D29+D29+I29*2)*I29*(E29-F29))*2),0) -> 0
E30: =(B30-A30) -> 0 | F30: 0 | G30: =IF(E30>0,IF('NO DELETE'!$AA$4=1,(E30-F30)*C30*1.01,(E30-F30)*C30*1),) -> 0 | H30: =IF(D30>0,(E30-F30)*(D30*2),"") | J30: =IF(I30>0,(G30*I30+(0.5*(D30+D30+I30*2)*I30*(E30-F30))*2),0) -> 0
E31: =(B31-A31) -> 0 | F31: 0 | G31: =IF(E31>0,IF('NO DELETE'!$AA$4=1,(E31-F31)*C31*1.01,(E31-F31)*C31*1),) -> 0 | H31: =IF(D31>0,(E31-F31)*(D31*2),"") | J31: =IF(I31>0,(G31*I31+(0.5*(D31+D31+I31*2)*I31*(E31-F31))*2),0) -> 0
E32: =(B32-A32) -> 0 | F32: 0 | G32: =IF(E32>0,IF('NO DELETE'!$AA$4=1,(E32-F32)*C32*1.01,(E32-F32)*C32*1),) -> 0 | H32: =IF(D32>0,(E32-F32)*(D32*2),"") | J32: =IF(I32>0,(G32*I32+(0.5*(D32+D32+I32*2)*I32*(E32-F32))*2),0) -> 0
E33: =(B33-A33) -> 0 | F33: 0 | G33: =IF(E33>0,IF('NO DELETE'!$AA$4=1,(E33-F33)*C33*1.01,(E33-F33)*C33*1),) -> 0 | H33: =IF(D33>0,(E33-F33)*(D33*2),"") | J33: =IF(I33>0,(G33*I33+(0.5*(D33+D33+I33*2)*I33*(E33-F33))*2),0) -> 0
A34: รวม | E34: =ROUND(SUM(E28:E33),) -> 0 | F34: =ROUND(SUM(F28:F33),) -> 0 | G34: =ROUND(SUM(G28:G33),) -> 0 | H34: =ROUND(SUM(H28:H33),) -> 0 | J34: =ROUND(SUM(J28:J33),) -> 0
D36: ระยะทางรวมทั้งหมด | F36: =+(E34+E23+E13)/1000-(F34/1000) -> 1.523 | H36: กิโลเมตร
A38: กรณี ขยายไหล่ทางลูกรัง
A39: กม. ถึง กม. | C39: ระยะทาง | D39: หักสะพานยาว (เมตร) | E39: ขยายไหล่ทาง กว้าง(ม.) | F39: เสริมหินคลุกหนา(ม.) | G39: เสริมลูกรัง หนา(ม.) | H39: หน้าตัดดินถมเฉลี่ย(ม.) | I39: ปริมาตร | J39: ปริมาตร | K39: จำนวนด้านที่ขยาย
C40: (เมตร) | I40: ลูกรัง(ลบ.ม.) | J40: ดินถม(ลบ.ม.)
C41: =(B41-A41) -> 0 | I41: =0.5*((E41+2*F41)+(E41+2*F41+2*G41))*G41*C41*K41 -> 0 | J41: =+H41*C41*K41 -> 0 | K41: 2
C42: =(B42-A42) -> 0 | I42: =0.5*((E42+2*F42)+(E42+2*F42+2*G42))*G42*C42*K42 -> 0 | J42: =0.5*((E42+2*(F42+G42+H42)+E42+2*(F42+G42))*H42*K42)*(C42-D42) -> 0
C43: =(B43-A43) -> 0 | I43: =0.5*((E43+2*F43)+(E43+2*F43+2*G43))*G43*C43*K43 -> 0 | J43: =0.5*((E43+2*(F43+G43+H43)+E43+2*(F43+G43))*H43*K43)*(C43-D43) -> 0
C44: =(B44-A44) -> 0 | I44: =0.5*((E44+2*F44)+(E44+2*F44+2*G44))*G44*C44*K44 -> 0 | J44: =0.5*((E44+2*(F44+G44+H44)+E44+2*(F44+G44))*H44*K44)*(C44-D44) -> 0
...

Sheet BackupCon
B1: =ปร.5_Roads!C4 -> บำรุงพิเศษ ซ่อมสร้างผิวทาง Asphaltic Concrete
C2: =+ปร.5_Roads!C6 -> ปน.4031 | D2: =+ปร.5_Roads!F6 -> แยกทางหลวงหมายเลข 4157-บ้านปาตา | I2: =+ปร.5_Roads!C7 -> อำเภอ ปะนาเระ,ยะหริ่ง จังหวัด ปัตตานี
B3: ลักษณะความกว้างพื้นผิวจราจร
B4: ผิวทางคอนกรีต
B5: กม. ถึง กม. | D5: ผิวทาง | E5: ระยะทาง | F5: หักสะพานยาว (เมตร) | G5: พื้นที่ผิวทาง | H5: ปริมาณคอนกรีต | I5: ทรายรองพื้นทาง | J5: ลูกรังปิดไหล่ทาง | K5: นน.
D6: กว้าง(ม.) | E6: (เมตร) | G6: (ตรม.) | H6: (ลบ.ม.) | I6: (ลบ.ม.) | J6: (ลบ.ม.) | K6: (ตัน)
B7: 8125 | C7: 9000 | D7: 6 | E7: =(C7-B7) -> 875 | F7: 0 | G7: =IF(E7>0,(E7-F7)*D7*1,) -> 5250 | H7: =+G7*'NO DELETE'!$AZ$8 -> 1050 | I7: =+IF('NO DELETE'!$BE$31=1,BackupCon!G7*0.1*1.1,0) -> 577.5 | J7: =+IF('NO DELETE'!$BE$31=1,(BackupCon!E7*0.5*(+'NO DELETE'!AZ8+0.1)*(+'NO DELETE'!AZ8+0.1)*2)*2,(BackupCon!E7*0.5*(+'NO DELETE'!AZ8)*(+'NO DELETE'!AZ8)*2)*2) -> 157.5 | K7: =+G7*1.32/1000 -> 6.93
E8: =(C8-B8) -> 0 | F8: 0 | G8: =IF(E8>0,(E8-F8)*D8*1,) -> 0 | H8: =+G8*'NO DELETE'!$AZ$8 -> 0 | I8: =+IF('NO DELETE'!$BE$31=1,BackupCon!G8*0.1*1.1,0) -> 0 | J8: =+IF('NO DELETE'!$BE$31=1,(BackupCon!E8*0.5*(+'NO DELETE'!BM27+0.1)*(+'NO DELETE'!BM27+0.1)*2)*2,(BackupCon!E8*0.5*(+'NO DELETE'!BM27)*(+'NO DELETE'!BM27)*2)*2) -> 0 | K8: =+G8*1.32/1000 -> 0
E9: =(C9-B9) -> 0 | F9: 0 | G9: =IF(E9>0,(E9-F9)*D9*1,) -> 0 | H9: =+G9*'NO DELETE'!$AZ$8 -> 0 | I9: =+IF('NO DELETE'!$BE$31=1,BackupCon!G9*0.1*1.1,0) -> 0 | J9: =+IF('NO DELETE'!$BE$31=1,(BackupCon!E9*0.5*(+'NO DELETE'!BM28+0.1)*(+'NO DELETE'!BM28+0.1)*2)*2,(BackupCon!E9*0.5*(+'NO DELETE'!BM28)*(+'NO DELETE'!BM28)*2)*2) -> 0 | K9: =+G9*1.32/1000 -> 0
E10: =(C10-B10) -> 0 | F10: 0 | G10: =IF(E10>0,(E10-F10)*D10*1,) -> 0 | H10: =+G10*'NO DELETE'!$AZ$8 -> 0 | I10: =+IF('NO DELETE'!$BE$31=1,BackupCon!G10*0.1*1.1,0) -> 0 | J10: =+IF('NO DELETE'!$BE$31=1,(BackupCon!E10*0.5*(+'NO DELETE'!BM29+0.1)*(+'NO DELETE'!BM29+0.1)*2)*2,(BackupCon!E10*0.5*(+'NO DELETE'!BM29)*(+'NO DELETE'!BM29)*2)*2) -> 0 | K10: =+G10*1.32/1000 -> 0
E11: =(C11-B11) -> 0 | F11: 0 | G11: =IF(E11>0,(E11-F11)*D11*1,) -> 0 | H11: =+G11*'NO DELETE'!$AZ$8 -> 0 | I11: =+IF('NO DELETE'!$BE$31=1,BackupCon!G11*0.1*1.1,0) -> 0 | J11: =+IF('NO DELETE'!$BE$31=1,(BackupCon!E11*0.5*(+'NO DELETE'!BM30+0.1)*(+'NO DELETE'!BM30+0.1)*2)*2,(BackupCon!E11*0.5*(+'NO DELETE'!BM30)*(+'NO DELETE'!BM30)*2)*2) -> 0 | K11: =+G11*1.32/1000 -> 0
E12: =(C12-B12) -> 0 | F12: 0 | G12: =IF(E12>0,(E12-F12)*D12*1,) -> 0 | H12: =+G12*'NO DELETE'!$AZ$8 -> 0 | I12: =+IF('NO DELETE'!$BE$31=1,BackupCon!G12*0.1*1.1,0) -> 0 | J12: =+IF('NO DELETE'!$BE$31=1,(BackupCon!E12*0.5*(+'NO DELETE'!BM31+0.1)*(+'NO DELETE'!BM31+0.1)*2)*2,(BackupCon!E12*0.5*(+'NO DELETE'!BM31)*(+'NO DELETE'!BM31)*2)*2) -> 0 | K12: =+G12*1.32/1000 -> 0
B13: รวม | E13: =SUM(E7:E12) -> 875 | F13: =SUM(F7:F12) -> 0 | G13: =ROUNDUP(SUM(G7:G12),) -> 5250 | H13: =ROUNDUP(SUM(H7:H12),) -> 1050 | I13: =ROUNDUP(SUM(I7:I12),) -> 578 | J13: =ROUNDUP(SUM(J7:J12),) -> 158 | K13: =ROUNDUP(SUM(K7:K12),) -> 7
B15: Transverse temperature steel | G15: Longitudinal temperature steel
B16: 6 RB 24 | G16: 9 RB 24
B17: ยาว(ม.) | C17: @ | D17: จำนวน | E17: รวม(ม.) | G17: ยาว(ม.) | H17: @ | I17: จำนวน | J17: รวม(ม.)
B18: =+'NO DELETE'!BE8*2 -> 6 | C18: =+VLOOKUP('NO DELETE'!$BD$8,'NO DELETE'!BD13:BF17,3) -> 0.2 | D18: =+ROUND('NO DELETE'!$BE$8/C18+1,)*2 -> 32 | E18: =+D18*B18 -> 192 | G18: 10 | H18: =+'NO DELETE'!BG13 -> 0.2 | I18: =+ROUND('NO DELETE'!$BE$8/H18+1,)*2 -> 32 | J18: =+I18*G18 -> 320
B20: Smooth dowel bars | G20: Deformed tie bar
B21: 25 RB 24 | G21: 12 DB 30
B22: ยาว(ม.) | C22: @ | D22: จำนวน | E22: รวม(ม.) | G22: ยาว(ม.) | H22: @ | I22: จำนวน | J22: รวม(ม.)
B23: 0.5 | C23: 0.3 | D23: =+ROUND('NO DELETE'!$BE$8/C23+1,)*2 -> 22 | E23: =+D23*B23 -> 11 | G23: 0.5 | H23: 0.5 | I23: =+ROUND(10/H23+1,)/2 -> 10.5 | J23: =+I23*G23 -> 5.25
F25: ต่อ 10 เมตร | G25: ทั้งโครงการ | H25: KG. | I25: ไม้แบบ | J25: Wire mash
B26: Transverse temperature steel 6 RB 24 | F26: =+E18*2 -> 384 | G26: =+F26*$F$30*1.1 -> 36960 | H26: =+G26*0.222 -> 8205.12 | I26: =+E13*'NO DELETE'!AZ8*2 -> 350 | J26: =+G13 -> 5250
B27: Longitudinal temperature steel 9 RB 24 | F27: =+J18*2 -> 640 | G27: =+(F27*$F$30-E23)*1.1 -> 61587.9 | H27: =+G27*0.499 -> 30732.362
B28: Smooth dowel bars 25 RB 24 | F28: =+E23*2 -> 22 | G28: =+F28*$F$30*1.1 -> 2117.5 | H28: =+G28*3.85 -> 8152.375
B29: Deformed tie bar 12 DR 30 | F29: =+J23 -> 5.25 | G29: =+F29*$F$30*1.1 -> 505.3125 | H29: =+G29*0.889 -> 449.22281
B30: จำนวน ช่วงทั้งหมด | F30: =+E7/10 -> 87.5 | H30: =SUM(H26:H29) -> 47539.08 | I30: =SUM(I26:I29) -> 350 | J30: =SUM(J26:J29) -> 5250
B31: Joint Sealer | F31: =+'NO DELETE'!BE8*2*0.025*0.025+5*0.01*0.05 -> 0.00625 | G31: =+F31*$F$30 -> 0.546875 | H31: =+F30*2 -> 175 | I31: =+H31/15 -> 11.666667 | J31: =+I31*1000 -> 11666.667
B32: ใช้เหล็ก Wire Meshr | G32: =+G13 -> 5250
B33: แผ่นพลาสติก | F33: =1.2*'NO DELETE'!BE8*2 -> 7.2 | G33: =+F30*F33 -> 630

Sheet ราคากลาง
A1: ="สรุปราคากลางค่า"&'NO DELETE'!P49 -> สรุปราคากลางค่าบำรุงรักษาระบบโครงข่ายทาง
A2: ='1.ต้นทุนถนน AC.'!$B$4 -> สำนักงานทางหลวงชนบทที่ 12(สงขลา) กรมทางหลวงชนบท
H3: =+"วันที่ "&แหล่งวัสดุ!I2&" "&แหล่งวัสดุ!K2&" พ.ศ. "&แหล่งวัสดุ!M2 -> วันที่ 10 พฤศจิกายน พ.ศ. 2558
A4: ประเภทงาน | C4: =+'1.ต้นทุนถนน AC.'!D6 -> บำรุงพิเศษ ซ่อมสร้างผิวทาง Asphaltic Concrete
A5: เจ้าของโครงการ | C5: ='1.ต้นทุนถนน AC.'!$D$7 -> แขวงทางหลวงชนบทสงขลา | I5: ปีงบประมาณ | J5: =+'1.ต้นทุนถนน AC.'!M7 -> 2559
A6: รหัสสายทาง | C6: =+แหล่งวัสดุ!C5 -> ปน.4031 | E6: ชื่อสายทาง | F6: ='1.ต้นทุนถนน AC.'!G8 -> แยกทางหลวงหมายเลข 4157-บ้านปาตา
A7: สถานที่ตั้ง | C7: =+ปร.5_Roads!C7 -> อำเภอ ปะนาเระ,ยะหริ่ง จังหวัด ปัตตานี | H7: ระยะทางตลอดสายทาง | J7: =+'1.ต้นทุนถนน AC.'!I9 -> 12.966 | K7: กิโลเมตร
A8: ลักษณะสายทางเดิม | D8: ชนิดผิวทาง | F8: =+ปร.5_Roads!F8 -> CS | G8: กว้าง | I8: =+ปร.5_Roads!I8 -> 6 | J8: เมตร
D9: ชนิดไหล่ทาง | F9: =+ปร.5_Roads!F9 -> CS | G9: กว้าง | I9: =+ปร.5_Roads!I9 -> 0.00 - 1.00 | J9: เมตร
A10: ปริมาณดำเนินการ | E10: 1 | G10: แห่ง | I10: ผิวทางกว้าง | J10: =+ปร.5_Roads!J10 -> 6.00 - 8.00 | K10: เมตร
C11: วิธีที่ 1 | D11: ช่วง กม. | E11: =+ปร.5_Roads!E11 -> 3437 | F11: ถึง กม. | G11: =+ปร.5_Roads!G11 -> 4960 | H11: ระยะทาง | I11: =+ปร.5_Roads!I11 -> 1.523 | J11: กิโลเมตร
D12: ช่วง กม. | F12: ถึง กม. | H12: ระยะทาง | J12: กิโลเมตร
C13: วิธีที่ 2 | D13: ช่วง กม. | F13: ถึง กม. | H13: ระยะทาง | J13: กิโลเมตร
D14: ช่วง กม. | F14: ถึง กม. | H14: ระยะทาง | J14: กิโลเมตร
A15: ที่ | B15: รายการ | I15: รวมค่างานก่อสร้าง | J15: หมายเหตุ
A16: 1 | B16: ค่างานต้นทุนงานทาง | I16: =+ปร.5_Roads!I18 -> 7547959.3 | J16: Factor F
A17: 2 | B17: =+ปร.5_Roads!B19 -> ค่างานต้นทุนท่อลอดเหลี่ยม | I17: =+ปร.5_Roads!I19 -> 0 | J17: - ดอกเบี้ยเงินกู้ | L17: =แหล่งวัสดุ!$L$25/100 -> 0.07
A18: 3 | B18: =+ปร.5_Roads!B20 -> ประเภทงานทั่วไป | I18: =+ปร.5_Roads!I20 -> 0 | J18: - เงินล่วงหน้าจ่าย | L18: =แหล่งวัสดุ!$L$26/100 -> 0.15
A19: 4 | B19: =+ปร.5_Roads!B21 -> แรงจูงใจการทำงานตามมติคณะรัฐมนตรี | I19: =+ปร.5_Roads!I21 -> 377393.45 | J19: - เงินประกันผลงานหัก | L19: =แหล่งวัสดุ!$L$28/100 -> 0
J20: ="- พื้นที่ ฝนตกชุก " -> - พื้นที่ ฝนตกชุก | K20: =+แหล่งวัสดุ!H4 -> 1
A21: สรุป | B21: รวมเป็นค่าก่อสร้าง | I21: =SUM(I16:I20) -> 7925352.7
B22: คิดเป็นเงินค่าก่อสร้างประมาณ | I22: =+ปร.5_Roads!I24 -> 7920000
B23: ="(เงิน"&BAHTTEXT($I$22)&")" -> (เงินเจ็ดล้านเก้าแสนสองหมื่นบาทถ้วน)
A25: คณะกรรมการกำหนดราคากลาง | H25: เรียน อธิบดีกรมทางหลวงชนบท
H26: ส่วนบูรณะได้ตรวจสอบราคากลางดังกล่าวข้างต้น
B27: (ลงชื่อ)....................................... | E27: ประธานฯ | H27: ตามที่คณะกรรมการกำหนดราคากลางเสนอ
B28: (นางสาวปิญาภา ศรีมณี) | E28: =+ปร.5_Roads!H36 -> วิศวกรโยธาชำนาญการ | H28: จึงเรียนมาเพื่อโปรดพิจารณาให้ความเห็นชอบ
B30: (ลงชื่อ)....................................... | E30: กรรมการฯ | H30: (ลงชื่อ)....................................................
B31: (นายวัลลภ มูสิกะเจริญ) | E31: นายช่างโยธาชำนาญงาน | I31: (นายวโรภาส แสงพายัพ)
H32: ผู้อำนวยการส่วนบูรณะ
B33: (ลงชื่อ)....................................... | E33: กรรมการฯ
B34: (นายศุภวัฒน์ กาญจนรัตน์) | E34: นายช่างโยธาชำนาญงาน
H35: เห็นชอบ
H36: (ลงชื่อ).....................................................
I37: (นายโชค นวลได้ศรี)
I38: ผู้อำนวยการสำนัก รักษาราชการแทน
H39: ผู้อำนวยการสำนักงานทางหลวงชนบทที่ 12 ปฏิบัติราชการแทน
I40: อธิบดีกรมทางหลวงชนบท

Sheet ปร.5_Roads
A1: ="สรุปประมาณราคาค่า"&'NO DELETE'!P49 -> สรุปประมาณราคาค่าบำรุงรักษาระบบโครงข่ายทาง
A2: ='1.ต้นทุนถนน AC.'!$B$4 -> สำนักงานทางหลวงชนบทที่ 12(สงขลา) กรมทางหลวงชนบท
H3: =+'1.ต้นทุนถนน AC.'!J5 -> วันที่ 10 พฤศจิกายน พ.ศ. 2558
A4: ประเภทงาน | C4: =+'1.ต้นทุนถนน AC.'!D6 -> บำรุงพิเศษ ซ่อมสร้างผิวทาง Asphaltic Concrete
A5: เจ้าของโครงการ | C5: ='1.ต้นทุนถนน AC.'!$D$7 -> แขวงทางหลวงชนบทสงขลา | I5: ปีงบประมาณ | J5: =+'1.ต้นทุนถนน AC.'!M7 -> 2559 | M5: =+C6 -> ปน.4031 | N5: =+F6 -> แยกทางหลวงหมายเลข 4157-บ้านปาตา
A6: รหัสสายทาง | C6: =+ราคากลาง!C6 -> ปน.4031 | E6: ชื่อสายทาง | F6: ='1.ต้นทุนถนน AC.'!G8 -> แยกทางหลวงหมายเลข 4157-บ้านปาตา | N6: =+C7 -> อำเภอ ปะนาเระ,ยะหริ่ง จังหวัด ปัตตานี
A7: สถานที่ตั้ง | C7: ='1.ต้นทุนถนน AC.'!$C$9 -> อำเภอ ปะนาเระ,ยะหริ่ง จังหวัด ปัตตานี | H7: ระยะทางตลอดสายทาง | J7: =+'1.ต้นทุนถนน AC.'!I9 -> 12.966 | K7: กิโลเมตร | N7: N | O7: E
A8: ลักษณะสายทางเดิม | D8: ชนิดผิวทาง | F8: CS | G8: กว้าง | I8: 6 | J8: เมตร | M8: เริ่มต้น 1
D9: ชนิดไหล่ทาง | F9: CS | G9: กว้าง | I9: 0.00 - 1.00 | J9: เมตร | M9: สิ้นสุด 1
A10: =++"ระยะทางดำเนินการ" -> ระยะทางดำเนินการ | E10: =SUM(I11:I16) -> 1.523 | G10: กม. | I10: ผิวทางกว้าง | J10: 6.00 - 8.00 | K10: เมตร | M10: เริ่มต้น 2
C11: วิธีที่ 1 | D11: ช่วง กม. | E11: =+BackupAC!A18 -> 3437 | F11: ถึง กม. | G11: =+BackupAC!B18 -> 4960 | H11: ระยะทาง | I11: =+(G11-E11)/1000 -> 1.523 | J11: กิโลเมตร | M11: สิ้นสุด 2
D12: ช่วง กม. | F12: ถึง กม. | H12: ระยะทาง | J12: กิโลเมตร | M12: เริ่มต้น 3
D13: ช่วง กม. | F13: ถึง กม. | H13: ระยะทาง | J13: กิโลเมตร | M13: สิ้นสุด 3
C14: วิธีที่ 2 | D14: ช่วง กม. | F14: ถึง กม. | H14: ระยะทาง | J14: กิโลเมตร
D15: ช่วง กม. | F15: ถึง กม. | H15: ระยะทาง | J15: กิโลเมตร
D16: ช่วง กม. | F16: ถึง กม. | H16: ระยะทาง | J16: กิโลเมตร
A17: ที่ | B17: รายการ | I17: รวมค่างานก่อสร้าง | J17: หมายเหตุ | N17: ตรวจสอบการใช้งบประมาณ
A18: 1 | B18: ค่างานต้นทุนงานทาง | I18: =+ปร.4_Roads!M170-ปร.5_Roads!I21 -> 7547959.3 | J18: Factor F | N18: งบประมาณที่ได้รับ | O18: 8160000
A19: 2 | B19: ค่างานต้นทุนท่อลอดเหลี่ยม | I19: =+ปร.4_Roads!M150+ปร.4_Roads!M151 -> 0 | J19: - ดอกเบี้ยเงินกู้ | L19: =แหล่งวัสดุ!$L$25/100 -> 0.07 | N19: ประมาณราคา | O19: =+I24 -> 7920000
A20: 3 | B20: ประเภทงานทั่วไป | I20: 0 | J20: - เงินล่วงหน้าจ่าย | L20: =แหล่งวัสดุ!$L$26/100 -> 0.15 | N20: ผลการประมาณราคา | O20: =+IF(O18=O19,"OK",O18-O19) -> 240000
A21: 4 | B21: แรงจูงใจการทำงานตามมติคณะรัฐมนตรี | I21: =+IF('NO DELETE'!P7>2,'NO DELETE'!X18,) -> 377393.45 | J21: - เงินประกันผลงานหัก | L21: =แหล่งวัสดุ!$L$28/100 -> 0
J22: ="- พื้นที่ ฝนตกชุก " -> - พื้นที่ ฝนตกชุก | K22: =+แหล่งวัสดุ!H4 -> 1
A23: สรุป | B23: รวมเป็นค่าก่อสร้าง | I23: =SUM(I18:I22) -> 7925352.7
B24: คิดเป็นเงินค่าก่อสร้างประมาณ | I24: =IF(I23<10000000,ROUNDDOWN(I23,-4),ROUNDDOWN(I23,-4)) -> 7920000
B25: ="(เงิน"&BAHTTEXT($I$24)&")" -> (เงินเจ็ดล้านเก้าแสนสองหมื่นบาทถ้วน)
B26: ระยะทางดำเนินการ | D26: =+E10 -> 1.523 | F26: กม.
B27: เฉลี่ยราคา กม.ละ | D27: =I24/D26 -> 5200262.6 | F27: บาท
F30: ประมาณราคา | H30: ..…………………………………………..
H31: =CONCATENATE("( ",แหล่งวัสดุ!K37," ) ",) -> ( นายวัลลภ มูสิกะเจริญ )
H32: =+แหล่งวัสดุ!N37 -> นายช่างโยธาชำนาญงาน
G34: ตรวจสอบ | H34: ..…………………………………………..
H35: =CONCATENATE("( ",แหล่งวัสดุ!K38," ) ") -> ( นางสาวปิญาภา ศรีมณี )
H36: =+แหล่งวัสดุ!N38 -> วิศวกรโยธาชำนาญการ
G38: เห็นชอบ | H38: ..…………………………………………..
H39: =CONCATENATE("( ",แหล่งวัสดุ!K39," ) ") -> ( นายวโรภาส แสงพายัพ )
H40: ผู้อำนวยการส่วนบูรณะ

Sheet ปร.4_Roads
A1: ="รายละเอียดการประมาณราคา "&'1.ต้นทุนถนน AC.'!D6 -> รายละเอียดการประมาณราคา บำรุงพิเศษ ซ่อมสร้างผิวทาง Asphaltic Concrete
A2: รหัสสายทาง | D2: =+ปร.5_Roads!C6 -> ปน.4031 | E2: ชื่อสายทาง | F2: =+'1.ต้นทุนถนน AC.'!G8 -> แยกทางหลวงหมายเลข 4157-บ้านปาตา | M2: ปีงบประมาณ | N2: =+'1.ต้นทุนถนน AC.'!M7 -> 2559
A3: สถานที่ตั้ง | D3: =+ปร.5_Roads!C7 -> อำเภอ ปะนาเระ,ยะหริ่ง จังหวัด ปัตตานี | H3: =+ราคากลาง!A10 -> ปริมาณดำเนินการ | J3: 1 | K3: แห่ง
A4: ที่ | B4: รายการ | E4: จำนวน | F4: หน่วย | G4: ราคาวัสดุ-ค่าแรง-ต่อหน่วย | J4: จำนวนเงิน | K4: Factor F | L4: ราคากลาง | N4: หมายเหตุ
G5: วัสดุ | H5: ค่าแรง | I5: รวม | J5: (บาท) | L5: ราคาต่อหน่วย | M5: รวม
A6: 1 | B6: งานปรับปรุงโครงสร้างทาง
B7: 1.1 | C7: งานถางป่าขุดตอ(ขนาดกลาง) | F7: ตร.ม. | G7: =IF(E7<=0,0,) -> 0 | H7: =IF(E7>0,'S2'!$BF$30,) -> 0 | I7: =ROUND(G7+H7,2) -> 0 | J7: =E7*I7 -> 0 | K7: =IF(E7>0,'NO DELETE'!$Q$18,) -> 0 | L7: =ROUND(K7*I7,1) -> 0 | M7: =L7*E7 -> 0
B8: 1.2 | C8: =+VLOOKUP('NO DELETE'!$AW$1,'NO DELETE'!$AQ$1:$AU$3,2) -> งานขุดรื้อพื้นทางหินคลุกเดิมแล้วบดทับ | E8: =+BackupAC!G23+BackupAC!H23 -> 12184 | F8: ตร.ม. | G8: =IF(E8<=0,0,) -> 0 | H8: =IF(E8>0,'NO DELETE'!$AW$2,) -> 14.13 | I8: =ROUND(G8+H8,2) -> 14.13 | J8: =E8*I8 -> 172159.92 | K8: =IF(E8>0,'NO DELETE'!$Q$18,) -> 1.4152 | L8: =ROUND(K8*I8,1) -> 20 | M8: =L8*E8 -> 243680
B9: 1.3 | C9: งานปรับคันทางเดิมแล้วบดทับ | F9: ตร.ม. | G9: =IF(E9<=0,0,) -> 0 | H9: =IF(E9>0,+'S2'!$BF$12,) -> 0 | I9: =ROUND(G9+H9,2) -> 0 | J9: =E9*I9 -> 0 | K9: =IF(E9>0,'NO DELETE'!$Q$18,) -> 0 | L9: =ROUND(K9*I9,1) -> 0 | M9: =L9*E9 -> 0
B10: 1.4 | C10: งาน Benching | F10: ลบ.ม. | G10: =IF(E10<=0,0,) -> 0 | H10: =IF(E10>0,+'S2'!$BF$31+'S2'!$BF$36,) -> 0 | I10: =ROUND(G10+H10,2) -> 0 | J10: =E10*I10 -> 0 | K10: =IF(E10>0,'NO DELETE'!$Q$18,) -> 0 | L10: =ROUND(K10*I10,1) -> 0 | M10: =L10*E10 -> 0
B11: 1.5 | C11: งานดินตัด | F11: ลบ.ม. | G11: =IF(E11<=0,0,0) -> 0 | H11: =IF(E11>0,'1.ต้นทุนถนน AC.'!$M$41,0) -> 0 | I11: =ROUND(G11+H11,2) -> 0 | J11: =E11*I11 -> 0 | K11: =IF(E11>0,'NO DELETE'!$Q$18,) -> 0 | L11: =ROUND(K11*I11,1) -> 0 | M11: =L11*E11 -> 0
B12: 1.6 | C12: งานดินถม ( จากการขนส่ง ) | F12: ลบ.ม. | G12: =IF(E12<=0,0,+'1.ต้นทุนถนน AC.'!$M$32) -> 0 | H12: =IF(E12<=0,0,+'1.ต้นทุนถนน AC.'!$M$33) -> 0 | I12: =ROUND(G12+H12,2) -> 0 | J12: =E12*I12 -> 0 | K12: =IF(E12>0,'NO DELETE'!$Q$18,) -> 0 | L12: =ROUND(K12*I12,1) -> 0 | M12: =L12*E12 -> 0
B13: 1.7 | C13: งานดินถม ( จากงานดินตัด ) | F13: ลบ.ม. | G13: 0 | H13: =IF(E13<=0,0,+'1.ต้นทุนถนน AC.'!$M$33) -> 0 | I13: =ROUND(G13+H13,2) -> 0 | J13: =E13*I13 -> 0 | K13: =IF(E13>0,'NO DELETE'!$Q$18,) -> 0 | L13: =ROUND(K13*I13,1) -> 0 | M13: =L13*E13 -> 0
B14: 1.8 | C14: งานรองพื้นทาง (ลูกรังบดอัดแน่น) | F14: ลบ.ม. | G14: =IF(E14<=0,0,+'1.ต้นทุนถนน AC.'!$M$55) -> 0 | H14: =IF(E14<=0,0,+'1.ต้นทุนถนน AC.'!$M$56) -> 0 | I14: =ROUND(G14+H14,2) -> 0 | J14: =E14*I14 -> 0 | K14: =IF(E14>0,'NO DELETE'!$Q$18,) -> 0 | L14: =ROUND(K14*I14,1) -> 0 | M14: =L14*E14 -> 0
B15: 1.9 | C15: หินคลุกบดอัดแน่น | E15: =+BackupAC!J23 -> 1506 | F15: ลบ.ม. | G15: =IF(E15<=0,0,+'1.ต้นทุนถนน AC.'!$M$62) -> 787.32 | H15: =IF(E15<=0,0,+'1.ต้นทุนถนน AC.'!$M$63+'1.ต้นทุนถนน AC.'!$M$64) -> 113.07 | I15: =ROUND(G15+H15,2) -> 900.39 | J15: =E15*I15 -> 1355987.3 | K15: =IF(E15>0,'NO DELETE'!$Q$18,) -> 1.4152 | L15: =ROUND(K15*I15,1) -> 1274.2 | M15: =L15*E15 -> 1918945.2
B16: 1.1 | C16: หินคลุกปรับระดับ (หลวม) | F16: ลบ.ม. | G16: =IF(E16<=0,0,+'1.ต้นทุนถนน AC.'!$M$78) -> 0 | H16: 0 | I16: =ROUND(G16+H16,2) -> 0 | J16: =E16*I16 -> 0 | K16: =IF(E16>0,'NO DELETE'!$Q$18,) -> 0 | L16: =ROUND(K16*I16,1) -> 0 | M16: =L16*E16 -> 0
B17: 1.11 | C17: Skin Patch /ปรับระดับผิวทาง | F17: ตร.ม. | G17: =IF(E17<=0,0,'1.ต้นทุนถนน AC.'!$M$82) -> 0 | H17: =IF(E17<=0,0,'1.ต้นทุนถนน AC.'!M83) -> 0 | I17: =ROUND(G17+H17,2) -> 0 | J17: =E17*I17 -> 0 | K17: =IF(E17>0,'NO DELETE'!$Q$18,) -> 0 | L17: =ROUND(K17*I17,1) -> 0 | M17: =L17*E17 -> 0
B18: 1.12 | C18: Deep Patch | E18: 52 | F18: ตร.ม. | G18: =IF(E18<=0,0,SUM('1.ต้นทุนถนน AC.'!$M$68:$M$71)) -> 218.364 | H18: =IF(E18<=0,0,SUM('1.ต้นทุนถนน AC.'!$M$72:$M$73)) -> 45.228 | I18: =ROUND(G18+H18,2) -> 263.59 | J18: =E18*I18 -> 13706.68 | K18: =IF(E18>0,'NO DELETE'!$Q$18,) -> 1.4152 | L18: =ROUND(K18*I18,1) -> 373 | M18: =L18*E18 -> 19396
B19: 1.13 | C19: งาน Pavement In - Place Recycling | F19: ตร.ม. | G19: =IF(E19<=0,0,'1.ต้นทุนถนน AC.'!$M$114) -> 0 | H19: =IF(E19<=0,0,'1.ต้นทุนถนน AC.'!$M$115) -> 0 | I19: =ROUND(IF(E19<=0,0,+'1.ต้นทุนถนน AC.'!$M$116),2) -> 0 | J19: =E19*I19 -> 0 | K19: =IF(E19>0,'NO DELETE'!$Q$18,) -> 0 | L19: =ROUND(K19*I19,1) -> 0 | M19: =L19*E19 -> 0 | N19: =+IF('NO DELETE'!$AB$45=1,"ลึก 0.15 ซม.","ลึก 0.20 ซม.") -> ลึก 0.20 ซม. | Q19: เลือกความหนาขุดกัด
A20: 2 | B20: งานผิวทาง
B21: 2.1 | C21: Prime Coat | E21: =+BackupAC!G23 -> 9138 | F21: ตร.ม. | G21: =IF(E21<=0,0,+'1.ต้นทุนถนน AC.'!$M$89) -> 24.14 | H21: =IF(E21<=0,0,+'S2'!$BF$15) -> 6.54 | I21: =ROUND(G21+H21,2) -> 30.68 | J21: =E21*I21 -> 280353.84 | K21: =IF(E21>0,'NO DELETE'!$Q$18,) -> 1.4152 | L21: =ROUND(K21*I21,1) -> 43.4 | M21: =L21*E21 -> 396589.2
B22: 2.2 | C22: Tack Coat | F22: ตร.ม. | G22: =IF(E22<=0,0,+'1.ต้นทุนถนน AC.'!$M$96) -> 0 | H22: =IF(E22<=0,0,+'S2'!$BF$16) -> 0 | I22: =ROUND(G22+H22,2) -> 0 | J22: =E22*I22 -> 0 | K22: =IF(E22>0,'NO DELETE'!$Q$18,) -> 0 | L22: =ROUND(K22*I22,1) -> 0 | M22: =L22*E22 -> 0
B23: 2.3 | C23: =+IF('NO DELETE'!$AQ$30=1,'NO DELETE'!$AR$30,IF('NO DELETE'!$AQ$30=2,'NO DELETE'!$AR$31,'NO DELETE'!$AR$32)) -> PARA Asphaltic Concrete
C24: =+IF('NO DELETE'!$AQ$30=1,'NO DELETE'!$AR$33,IF('NO DELETE'!$AQ$30=2,'NO DELETE'!$AR$34,'NO DELETE'!$AR$35)) -> - PARA Asphaltic Concrete (ปูบน Prime Coat) | E24: =+E21 -> 9138 | F24: ตร.ม. | G24: =IF(E24<=0,0,+'1.ต้นทุนถนน AC.'!$M$140) -> 278 | H24: =IF(E24<=0,0,+IF('1.ต้นทุนถนน AC.'!$G$127=5,'S2'!$BF$19,IF('1.ต้นทุนถนน AC.'!$G$127=4,'S2'!$BF$19*0.9,IF('1.ต้นทุนถนน AC.'!$G$127=3.5,'S2'!$BF$19*0.85,IF('1.ต้นทุนถนน AC.'!$G$127=3,'S2'!$BF$19*0.8))))) -> 13.113 | I24: =ROUND(G24+H24,2) -> 291.11 | J24: =E24*I24 -> 2660163.2 | K24: =IF(E24>0,'NO DELETE'!$Q$18,) -> 1.4152 | L24: =ROUND(K24*I24,1) -> 412 | M24: =L24*E24 -> 3764856 | N24: ='NO DELETE'!AB13 -> 4 | O24: ซม. | Q24: เลือกความหนา Asphaltic Concrete (ปูบน Prime Coat)
C25: =+IF('NO DELETE'!$AQ$30=1,'NO DELETE'!$AR$36,IF('NO DELETE'!$AQ$30=2,'NO DELETE'!$AR$37,'NO DELETE'!$AR$38)) -> - PARA Asphaltic Concrete (ปูบน Tack Coat) | F25: ตร.ม. | G25: =IF(E25<=0,0,+'1.ต้นทุนถนน AC.'!$M$141) -> 0 | H25: =IF(E25<=0,0,+IF('1.ต้นทุนถนน AC.'!$G$127=5,'S2'!$BF$20,IF('1.ต้นทุนถนน AC.'!$G$127=4,'S2'!$BF$20*0.9,IF('1.ต้นทุนถนน AC.'!$G$127=3.5,'S2'!$BF$20*0.85,IF('1.ต้นทุนถนน AC.'!$G$127=3,'S2'!$BF$20*0.8))))) -> 0 | I25: =ROUND(G25+H25,2) -> 0 | J25: =E25*I25 -> 0 | K25: =IF(E25>0,'NO DELETE'!$Q$18,) -> 0 | L25: =ROUND(K25*I25,1) -> 0 | M25: =L25*E25 -> 0 | N25: ='NO DELETE'!AB14 -> 4 | O25: ซม. | Q25: เลือกความหนา Asphaltic Concrete (ปูบน Tack Coat)
B26: 2.4 | C26: Reinforced Concrete | F26: ตร.ม. | G26: =+IF(E26>0,IF('NO DELETE'!$BG$6=1,'2.ต้นทุนถนน Con.'!L58,'2.ต้นทุนถนน Con.'!L80),) -> 0 | H26: =+IF(E26>0,IF('NO DELETE'!$BG$6=1,'2.ต้นทุนถนน Con.'!L57,'2.ต้นทุนถนน Con.'!L79),) -> 0 | I26: =ROUND(G26+H26,2) -> 0 | J26: =E26*I26 -> 0 | K26: =IF(E26>0,'NO DELETE'!$Q$18,) -> 0 | L26: =ROUND(K26*I26,1) -> 0 | M26: =L26*E26 -> 0 | N26: ='NO DELETE'!$AZ$8 -> 0.2 | O26: ซม.
A27: 3 | B27: งานผิวไหล่ทาง
B28: 3.1 | C28: Prime Coat | E28: =+BackupAC!H23 -> 3046 | F28: ตร.ม. | G28: =IF(E28<=0,0,+'1.ต้นทุนถนน AC.'!$M$89) -> 24.14 | H28: =IF(E28<=0,0,+'S2'!$BF$15) -> 6.54 | I28: =ROUND(G28+H28,2) -> 30.68 | J28: =E28*I28 -> 93451.28 | K28: =IF(E28>0,'NO DELETE'!$Q$18,) -> 1.4152 | L28: =ROUND(K28*I28,1) -> 43.4 | M28: =L28*E28 -> 132196.4
B29: 3.2 | C29: Tack Coat | F29: ตร.ม. | G29: =IF(E29<=0,0,+'1.ต้นทุนถนน AC.'!$M$96) -> 0 | H29: =IF(E29<=0,0,+'S2'!$BF$16) -> 0 | I29: =ROUND(G29+H29,2) -> 0 | J29: =E29*I29 -> 0 | K29: =IF(E29>0,'NO DELETE'!$Q$18,) -> 0 | L29: =ROUND(K29*I29,1) -> 0 | M29: =L29*E29 -> 0
B30: 3.3 | C30: =+$C$23 -> PARA Asphaltic Concrete
C31: =+$C$24 -> - PARA Asphaltic Concrete (ปูบน Prime Coat) | E31: =+E28 -> 3046 | F31: ตร.ม. | G31: =+IF(E31<=0,0,+'1.ต้นทุนถนน AC.'!$M$140) -> 278 | H31: =IF(E31<=0,0,+IF('1.ต้นทุนถนน AC.'!$G$127=5,'S2'!$BF$19,IF('1.ต้นทุนถนน AC.'!$G$127=4,'S2'!$BF$19*0.9,IF('1.ต้นทุนถนน AC.'!$G$127=3.5,'S2'!$BF$19*0.85,IF('1.ต้นทุนถนน AC.'!$G$127=3,'S2'!$BF$19*0.8))))) -> 13.113 | I31: =ROUND(G31+H31,2) -> 291.11 | J31: =E31*I31 -> 886721.06 | K31: =IF(E31>0,'NO DELETE'!$Q$18,) -> 1.4152 | L31: =ROUND(K31*I31,1) -> 412 | M31: =L31*E31 -> 1254952 | N31: =+$N$24 -> 4 | O31: ซม.
C32: =+$C$25 -> - PARA Asphaltic Concrete (ปูบน Tack Coat) | F32: ตร.ม. | G32: =IF(E32<=0,0,+'1.ต้นทุนถนน AC.'!$M$141) -> 0 | H32: =IF(E32<=0,0,+IF('1.ต้นทุนถนน AC.'!$G$127=5,'S2'!$BF$20,IF('1.ต้นทุนถนน AC.'!$G$127=4,'S2'!$BF$20*0.9,IF('1.ต้นทุนถนน AC.'!$G$127=3.5,'S2'!$BF$20*0.85,IF('1.ต้นทุนถนน AC.'!$G$127=3,'S2'!$BF$20*0.8))))) -> 0 | I32: =ROUND(G32+H32,2) -> 0 | J32: =E32*I32 -> 0 | K32: =IF(E32>0,'NO DELETE'!$Q$18,) -> 0 | L32: =ROUND(K32*I32,1) -> 0 | M32: =L32*E32 -> 0 | N32: =+$N$25 -> 4 | O32: ซม.
B33: 3.4 | C33: ลูกรังบดอัดแน่น | E33: 0 | F33: ลบ.ม. | G33: =IF(E33<=0,0,'1.ต้นทุนถนน AC.'!$M$55) -> 0 | H33: =IF(E33<=0,0,'1.ต้นทุนถนน AC.'!$M$56) -> 0 | I33: =ROUND(G33+H33,2) -> 0 | J33: =E33*I33 -> 0 | K33: =IF(E33>0,'NO DELETE'!$Q$18,) -> 0 | L33: =ROUND(K33*I33,1) -> 0 | M33: =L33*E33 -> 0
A34: 4 | B34: งานตีเส้นจราจร
B35: 4.1 | C35: =+"สีเทอร์โมพลาสติก "&VLOOKUP('NO DELETE'!AE17,'NO DELETE'!AE13:AF16,2) -> สีเทอร์โมพลาสติก เส้นกว้าง 0.10 ม.( 3 เส้น) | E35: =ROUND(IF('NO DELETE'!AE17=1,$J$3*0.245*1000,IF('NO DELETE'!AE17=2,$J$3*0.2*1000,IF('NO DELETE'!AE17=3,$J$3*0.36*1000,$J$3*0.3*1000))),) -> 245 | F35: ตร.ม. | G35: 0 | H35: 0 | I35: =ROUND(IF(E35<=0,0,'NO DELETE'!AL62),2) -> 280 | J35: =E35*I35 -> 68600 | K35: =IF(E35>0,'NO DELETE'!$Q$18,) -> 1.4152 | L35: =ROUND(K35*I35,1) -> 396.3 | M35: =L35*E35 -> 97093.5
B36: 4.2 | C36: สีเทอร์โมพลาสติก สีแดง | F36: ตร.ม. | G36: =IF(E36<=0,0,) -> 0 | H36: =IF(E36<=0,0,) -> 0 | I36: =ROUND(IF(E36<=0,0,430),2) -> 0 | J36: =E36*I36 -> 0 | K36: =IF(E36>0,'NO DELETE'!$Q$18,) -> 0 | L36: =ROUND(K36*I36,1) -> 0 | M36: =L36*E36 -> 0
B37: 4.3 | C37: Rumble Strip | F37: ตร.ม. | G37: =IF(E37<=0,0,) -> 0 | H37: =IF(E37<=0,0,) -> 0 | I37: =ROUND(IF(E37<=0,0,400),2) -> 0 | J37: =E37*I37 -> 0 | K37: =IF(E37>0,'NO DELETE'!$Q$18,) -> 0 | L37: =ROUND(K37*I37,1) -> 0 | M37: =L37*E37 -> 0
B38: 4.4 | C38: ทางม้าลาย | F38: แห่ง | G38: =IF(E38<=0,0,) -> 0 | H38: =IF(E38<=0,0,) -> 0 | I38: =ROUND(IF(E38<=0,0,2659),2) -> 0 | J38: =E38*I38 -> 0 | K38: =IF(E38>0,'NO DELETE'!$Q$18,) -> 0 | L38: =ROUND(K38*I38,1) -> 0 | M38: =L38*E38 -> 0
A39: 5 | B39: งานจราจรสงเคราะห์
B40: 5.1 | C40: งานปรับปรุง
...

Sheet ปร.4_งานทั่วไป
A1: แบบประเมินราคางานทั่วไป
A2: ชื่อโครงการ | C2: =+ปร.5_Roads!C4&" "&ปร.5_Roads!C6&" "&ปร.5_Roads!F6&" "&ปร.5_Roads!C7 -> บำรุงพิเศษ ซ่อมสร้างผิวทาง Asphaltic Concrete ปน.4031 แยกทางหลวงหมายเลข 4157-บ้านปาตา อำเภอ ปะนาเระ,ยะหริ่ง จังหวัด ปัตตานี
A3: ระยะทาง | C3: 0.775 | D3: กม. | E3: จาก กม. | F3: 8225 | G3: ถึง กม. | H3: 9000
A4: ผิวทาง | C4: คอนกรีตเสริมเหล็ก | E4: กว้าง | F4: 6 | G4: เมตร
A5: ไหล่ทาง | E5: กว้างข้างละ | F5: 0 | G5: เมตร
A6: ประมาณราคา | D6: =+ปร.5_Roads!H3 -> วันที่ 10 พฤศจิกายน พ.ศ. 2558
A8: ลำดับที่ | B8: รายการ | E8: หน่วย | F8: ปริมาณ | G8: ค่างานต้นทุน (บาท) | I8: Factor F | J8: ราคากลาง (บาท)
G9: ราคาต่อหน่วย | H9: รวม | J9: ราคาต่อหน่วย | K9: รวม
B10: ประเภทงานทั่วไป
A11: 1 | B11: งานอำนวยการสำหรับผู้ควบคุมงาน
B12: 1.1 | C12: งานอาคารสำนักงานสนาม | K12: =ROUNDDOWN(F12*J12,2) -> 0
C13: 1.1 ค่าใช้จ่ายรายเดือน | E13: เดือน | G13: 5900 | H13: =ROUNDDOWN(F13*G13,2) -> 0 | I13: 1.07 | J13: =ROUNDDOWN(G13*I13,2) -> 6313 | K13: =ROUNDDOWN(H13*I13,2) -> 0
C14: 1.2 เหมาจ่ายตรง | E14: L.S. | G14: 47000 | H14: =ROUNDDOWN(F14*G14,2) -> 0 | I14: 1.07 | J14: =ROUNDDOWN(G14*I14,2) -> 50290 | K14: =ROUNDDOWN(H14*I14,2) -> 0
A15: 2 | B15: การจัดหารถยนต์ พร้อมน้ำมันเชื้อเพลิง การบำรุงรักษาและประกันภัย | E15: เดือน | F15: 3 | G15: 10000 | H15: =ROUNDDOWN(F15*G15,2) -> 30000 | I15: 1.07 | J15: =ROUNDDOWN(G15*I15,2) -> 10700 | K15: =ROUNDDOWN(H15*I15,2) -> 32100
A16: 3 | B16: เครื่องมือและอุปรณ์ในการสำรวจ | E16: เดือน | F16: 0 | G16: 1900 | H16: =ROUNDDOWN(F16*G16,2) -> 0 | I16: 1.07 | J16: =ROUNDDOWN(G16*I16,2) -> 2033 | K16: =ROUNDDOWN(H16*I16,2) -> 0
A17: 4 | B17: เครื่องมือและอุปรณ์ในการทดสอบ | E17: เดือน | F17: 0 | G17: 36000 | H17: =ROUNDDOWN(F17*G17,2) -> 0 | I17: 1.07 | J17: =ROUNDDOWN(G17*I17,2) -> 38520 | K17: =ROUNDDOWN(H17*I17,2) -> 0
A18: 2 | B18: งานตามคำสั่งของผู้ว่าจ้าง | H18: =ROUNDDOWN(F18*G18,2) -> 0 | K18: =ROUNDDOWN(H18*I18,2) -> 0
B19: 2.1 | C19: งานขยายเขตไฟฟ้าและติดตั้งหม้อแปลงสำหรับระบบไฟฟ้าแสงสว่าง | E19: เงินจร | H19: =ROUNDDOWN(F19*G19,2) -> 0 | I19: 1.07 | J19: =ROUNDDOWN(G19*I19,2) -> 0 | K19: =ROUNDDOWN(H19*I19,2) -> 0
B20: 2.2 | C20: งานรื้อย้ายสาธารณูปโภคที่ดำเนินการโดยหน่วยงานเจ้าของสาธารณูปโภค | E20: เงินจร | H20: =ROUNDDOWN(F20*G20,2) -> 0 | I20: 1.07 | J20: =ROUNDDOWN(G20*I20,2) -> 0 | K20: =ROUNDDOWN(H20*I20,2) -> 0
C21: งานรื้อย้ายเสาไฟฟ้าจำนวน ต้น | H21: =ROUNDDOWN(F21*G21,2) -> 0 | K21: =ROUNDDOWN(H21*I21,2) -> 0
B22: 2.3 | C22: งานเจาะสำรวจชั้นดินและงานทดสอบพิเศษ (นอกเหนือจากที่ระบุในสัญญา) | E22: เงินจร | H22: =ROUNDDOWN(F22*G22,2) -> 0 | I22: 1.07 | J22: =ROUNDDOWN(G22*I22,2) -> 0 | K22: =ROUNDDOWN(H22*I22,2) -> 0
B23: 2.4 | C23: งานทดสอบกำลังรับน้ำหนักบรรทุกของเสาเข็ม (จำนวน..............ต้น) | E23: เงินจร | H23: =ROUNDDOWN(F23*G23,2) -> 0 | I23: 1.07 | J23: =ROUNDDOWN(G23*I23,2) -> 0 | K23: =ROUNDDOWN(H23*I23,2) -> 0
B24: 2.5 | C24: งานการมีส่วนร่วมภาคประชาชน | E24: เงินจร | G24: 29000 | H24: =ROUNDDOWN(F24*G24,2) -> 0 | I24: 1.07 | J24: =ROUNDDOWN(G24*I24,2) -> 31030 | K24: =ROUNDDOWN(H24*I24,2) -> 0
B25: 2.6 | C25: งานลดผลกระทบสิ่งแวดล้อมในระหว่างการก่อสร้าง (นอกเหนือจากที่ระบุ | H25: =ROUNDDOWN(F25*G25,2) -> 0 | K25: =ROUNDDOWN(H25*I25,2) -> 0
C26: ในสัญญา ) | E26: เงินจร | H26: =ROUNDDOWN(F26*G26,2) -> 0 | I26: 1.07 | J26: =ROUNDDOWN(G26*I26,2) -> 0 | K26: =ROUNDDOWN(H26*I26,2) -> 0
B27: 2.7 | C27: งานอำนวยความปลอดภัยและจัดการจราจรในระหว่างการก่อสร้าง | H27: =ROUNDDOWN(F27*G27,2) -> 0 | K27: =ROUNDDOWN(H27*I27,2) -> 0
C28: (นอกเหนือจากที่ระบุในสัญญา) | E28: เงินจร | F28: 0 | G28: 20000 | H28: =ROUNDDOWN(F28*G28,2) -> 0 | I28: 1.07 | J28: =ROUNDDOWN(G28*I28,2) -> 21400 | K28: =ROUNDDOWN(H28*I28,2) -> 0
C31: รวมค่างานต้นทุนงานทั่วไป | H31: =SUM(H12:H28) -> 30000
C32: ภาษีมูลค่าเพิ่ม 7% = | I32: 1.07
C33: เป็นเงินค่างานประเมิน | K33: =ROUNDDOWN(H31*I32,2) -> 32100
A36: หมายเหตุ | C36: - จำนวนเงินหรือรายการที่รวมอยู่ในสัญญา ตามที่ระบุไว้ในตารางแสดงปริมาณงานและค่างาน เพื่อใช้ดำเนินการหรือจัดหาผลิตภัณฑ์ วัสดุหรือบริการ
C37: - จำนวนเงินในงานประเภททั่วไปอาจใช้ทั้งหมด หรือใช้บางส่วน หรืออาจไม่ใช้เลย ทั้งนี้ตามแต่คำสั่งและดุลพินิจของผู้ว่าจ้าง
C38: - การเบิกจ่ายค่างาน จะต้องได้รับความเห็นชอบจากผู้ว่าจ้างก่อน

Sheet GABION BOX
A1: รายการประมาณราคาต่อหน่วยของกล่องใส่หิน (Gabion Box) | P1: ข้อมูลแหล่งวัสดุและระยะทางขนส่ง
A2: โครงการก่อสร้างป้องกันการกัดเซาะคันทางแบบกล่องใส่หิน (GABION BOX) | F2: ช่วงกม.ที่ | G2: 2+800
A3: สายทาง | B3: =+'4.ต้นทุนระบายน้ำ'!C8&" "&'4.ต้นทุนระบายน้ำ'!F8&" "&'4.ต้นทุนระบายน้ำ'!C9 -> ปน.4031 แยกทางหลวงหมายเลข 4157-บ้านปาตา อำเภอ ปะนาเระ,ยะหริ่ง จังหวัด ปัตตานี | F3: ความยาว | G3: 160 | H3: ม.
A4: ลำดับที่ | B4: รายการ | C4: จำนวน | D4: หน่วย | E4: ค่าวัสดุ + ค่าแรง | H4: เป็นเงิน | J4: =+แหล่งวัสดุ!B71 -> สำนักดัชนีการค้า สตูล(กันยายน 58) | N4: =+แหล่งวัสดุ!E71 -> หินใหญ่ ขนาด 7 ซม. - 25 ซม. | P4: =+แหล่งวัสดุ!F71 -> 476.64 | Q4: บาท/ลบ.ม. | R4: ระยะขนส่ง | S4: =+แหล่งวัสดุ!H71 -> 150 | T4: = | U4: =IF(แหล่งวัสดุ!L$32=1,IF(S4<=200,VLOOKUP(S4,'S2'!B$5:'S2'!F$204,3),IF(S4>200,(S4-200)*'S2'!D$205+'S2'!D$204)),IF(แหล่งวัสดุ!L$32=2,IF(S4<=200,VLOOKUP(S4,'S2'!B$5:'S2'!F$204,5),IF(S4>200,(S4-200)*'S2'!F$205+'S2'!F$204)))) -> 472.35 | V4: บาท/ลบ.ม.
E5: ค่าวัสดุ | F5: ค่าแรง | G5: รวม | J5: งานหินใหญ่
A6: 1 | B6: =+แหล่งวัสดุ!$B$65 -> กล่อง Gabion Box ชนิดเคลือบสังกะสี ขนาด 1.50 x 1.00 x 1.00 ม. | C6: 1 | D6: กล่อง | E6: =+IF(C6>0,แหล่งวัสดุ!$F$65,) -> 1408 | F6: =+IF(C6>0,$U$11,) -> 60 | G6: =SUM(E6:F7) -> 1468 | H6: =G6*C6 -> 1468 | J6: - ค่าวัสดุ | T6: = | U6: =+P4 -> 476.64 | V6: บาท/ลบ.ม.(หลวม)
J7: - ค่าขนส่ง | T7: = | U7: =+U4 -> 472.35 | V7: บาท/ลบ.ม.(หลวม)
A8: =+A6+1 -> 2 | B8: =+แหล่งวัสดุ!$B$66 -> กล่อง Gabion Box ชนิดเคลือบสังกะสี ขนาด 2.00 x 1.00 x 1.00 ม. | C8: 1 | D8: กล่อง | E8: =+IF(C8>0,แหล่งวัสดุ!$F$66,) -> 1887 | F8: =+IF(C8>0,$U$11,) -> 60 | G8: =SUM(E8:F9) -> 1947 | H8: =G8*C8 -> 1947 | L8: รวมค่าวัสดุและขนส่ง | T8: = | U8: =ROUND(SUM(U6:U7),2) -> 948.99 | V8: บาท/ลบ.ม.(หลวม)
P9: อัตราการยุบตัว | Q9: 1.15 | T9: = | U9: =ROUND(Q9*U8,2) -> 1091.34 | V9: บาท/ลบ.ม.(แน่น)
