Workbook

Sheet ปก
B10: =+ปร.5_Roads!C5 -> แขวงทางหลวงชนบทสงขลา
A12: ประมาณราคางานบำรุงรักษาระบบโครงข่ายทาง
A15: ="กิจกรรม : "&ปร.5_Roads!C4 -> กิจกรรม : บำรุงพิเศษ ซ่อมสร้างผิวทาง Asphaltic Concrete
A17: รหัส โครงการ | C17: =+ปร.5_Roads!C6 -> ปน.4031 | D17: ชื่อ | E17: =+ปร.5_Roads!F6 -> แยกทางหลวงหมายเลข 4157-บ้านปาตา
A18: สถานที่ตั้ง | C18: =+ปร.5_Roads!C7 -> อำเภอ ปะนาเระ,ยะหริ่ง จังหวัด ปัตตานี
A19: ระยะทาง | C19: =+ปร.5_Roads!E10 -> 1.523 | D19: กม. งบประมาณ | G19: =+ปร.5_Roads!I24 -> 7920000 | I19: บาท
A20: ผิวทางกว้าง | C20: 6 | D20: ม. ไหล่ทางกว้าง | G20: 1 | I20: ม.
C22: =+"ปีงบประมาณ "&แหล่งวัสดุ!L4 -> ปีงบประมาณ 2559

Sheet แหล่งวัสดุ
A1: แหล่งวัสดุก่อสร้าง | O1: 4 | P1: 6
A2: ลักษณะของงาน | H2: วันที่ | I2: ='NO DELETE'!Y53 -> 10 | J2: เดือน | K2: ='NO DELETE'!U34 -> พฤศจิกายน | L2: พ.ศ. | M2: ='NO DELETE'!X10 -> 2558 | O2: ชนิดวัสดุ | Q2: หินคลุก | R2: หินฝุ่น | S2: หิน3/4" | T2: หิน1/2" | U2: หิน3/8" | V2: แหล่งวัสดุ
A3: ประเภทงาน | C3: ='NO DELETE'!AF10&" "&'NO DELETE'!AB34 -> บำรุงพิเศษ ซ่อมสร้างผิวทาง Asphaltic Concrete | O3: 1 | P3: สข. | Q3: 320 | R3: 340 | S3: 400 | T3: 400 | U3: 400 | V3: ต.ทุ่งตำเสา อ.หาดใหญ่ จ.สงขลา
A4: เจ้าของโครงการ | C4: =+VLOOKUP('NO DELETE'!$AA$66,'NO DELETE'!AA60:AB65,2) -> แขวงทางหลวงชนบทสงขลา | F4: อยู่ในพื้นที่จังหวัด | H4: =+VLOOKUP('NO DELETE'!P7,'NO DELETE'!O2:P6,2) -> 1 | K4: ปีงบประมาณ | L4: ='NO DELETE'!X9 -> 2559 | O4: 2 | P4: สข. | Q4: 370 | R4: 470 | S4: 480 | T4: 410 | U4: 470 | V4: ต.คลองเปียะ อ.จะนะ จ.สงขลา
A5: =+"สายทาง " -> สายทาง | C5: =+VLOOKUP('NO DELETE'!P10,โครงข่าย!A7:B65,2) -> ปน.4031 | E5: ชื่อสายทาง | F5: =+VLOOKUP('NO DELETE'!P10,โครงข่าย!A7:C65,3) -> แยกทางหลวงหมายเลข 4157-บ้านปาตา | O5: 3 | P5: สต. | Q5: 299 | R5: 300 | S5: 340 | T5: 450 | U5: 300 | V5: บ.ทุ่งนุ้ย อ.ควนกาหลง จ.สตูล
A6: สถานที่ตั้ง | C6: =+"อำเภอ "&VLOOKUP('NO DELETE'!P10,โครงข่าย!A7:E65,5)&" จังหวัด "&VLOOKUP('NO DELETE'!P10,โครงข่าย!A7:F65,6) -> อำเภอ ปะนาเระ,ยะหริ่ง จังหวัด ปัตตานี | F6: ระยะทางตลอดสายทาง | H6: =+VLOOKUP('NO DELETE'!P10,โครงข่าย!A7:H65,7) -> 12.966 | I6: กม. | K6: ระยะทางดำเนินการ | L6: =ปร.5_Roads!E10 -> 1.523 | M6: กม. | O6: 4 | P6: ปน. | Q6: =+Q7 -> 373.83 | R6: =+R7 -> 476.64 | S6: =+S7 -> 500 | T6: =+T7 -> 500 | U6: =+U7 -> 476.64 | V6: บ.เนียง อ.เมือง จ.ยะลา
A7: ราคาน้ำมันโซล่าเฉลี่ย | C7: =+VLOOKUP('NO DELETE'!S14,'NO DELETE'!S2:T13,2) -> 23.5 | O7: 5 | P7: ยล. | Q7: 373.83 | R7: 476.64 | S7: 500 | T7: 500 | U7: 476.64 | V7: บ.เนียง อ.เมือง จ.ยะลา
A8: แหล่งวัสดุพื้นทางถนน แหล่งที่ 1 | O8: 6 | P8: นธ. | Q8: 450 | R8: 500 | S8: 500 | T8: 570 | U8: 580 | V8: บ.กะลุวอเหนือ อ.เมือง จ.นราธิวาส
A9: ที่ | B9: แหล่งวัสดุ | E9: ชนิดวัสดุ | F9: ราคาต่อหน่วย | G9: หน่วย | H9: ระยะขนส่ง | I9: ค่าขนส่ง | L9: ค่าวัสดุ + ค่าขนส่ง | O9: 7 | P9: พท. | Q9: 290 | R9: 260 | S9: 370 | T9: 350 | U9: 360 | V9: บ.ใหม่ อ.ควนขนุน จ.พัทลุง | Z9: ชนิดวัสดุ | AB9: ดิน | AC9: ลูกรัง | AD9: ทรายถม | AE9: ทรายหยาบ | AF9: หินผสมคอนกรีต | AG9: ท่อÆ 0.60 | AH9: ท่อÆ 0.80 | AI9: ท่อÆ 1.00 | AJ9: ท่อÆ 1.20 | AK9: ท่อÆ 1.50
A10: 1 | B10: =+VLOOKUP($O$1,$O$3:$V$9,8) -> บ.เนียง อ.เมือง จ.ยะลา | E10: หินคลุก | F10: =+VLOOKUP($O$1,$O$3:$V$9,3) -> 373.83 | G10: บาท/ลบ.ม. | H10: 78 | I10: = | J10: =IF(แหล่งวัสดุ!L$23=1,IF(H10<=200,VLOOKUP(H10,'S2'!B$5:'S2'!F$204,3),IF(H10>200,(H10-200)*'S2'!D$205+'S2'!D$204)),IF(แหล่งวัสดุ!L$23=2,IF(H10<=200,VLOOKUP(H10,'S2'!B$5:'S2'!F$204,5),IF(H10>200,(H10-200)*'S2'!F$205+'S2'!F$204)))) -> 151.05 | K10: บาท/ลบ.ม. ราคารวม = | L10: =+J10+F10 -> 524.88 | M10: บาท/ลบ.ม. | Z10: 1 | AA10: สข. | AB10: 18 | AC10: 25 | AD10: 150 | AE10: 485 | AF10: 400 | AG10: 771.03 | AH10: 1214.95 | AI10: 1869.16 | AJ10: 2827.1 | AK10: 3995.33
A11: =1+A10 -> 2 | B11: =+B10 -> บ.เนียง อ.เมือง จ.ยะลา | E11: หินฝุ่น | F11: =+VLOOKUP($O$1,$O$3:$V$9,4) -> 476.64 | G11: บาท/ลบ.ม. | H11: =+H10 -> 78 | I11: = | J11: =IF(แหล่งวัสดุ!L$23=1,IF(H11<=200,VLOOKUP(H11,'S2'!B$5:'S2'!F$204,3),IF(H11>200,(H11-200)*'S2'!D$205+'S2'!D$204)),IF(แหล่งวัสดุ!L$23=2,IF(H11<=200,VLOOKUP(H11,'S2'!B$5:'S2'!F$204,5),IF(H11>200,(H11-200)*'S2'!F$205+'S2'!F$204)))) -> 151.05 | K11: บาท/ลบ.ม. ราคารวม = | L11: =+J11+F11 -> 627.69 | M11: บาท/ลบ.ม. | Z11: 2 | AA11: สต. | AB11: 25 | AC11: 35 | AD11: 150 | AE11: 485 | AF11: 400 | AG11: 870 | AH11: 1300 | AI11: 2100 | AJ11: 2900 | AK11: 4400
A12: =1+A11 -> 3 | B12: =+B11 -> บ.เนียง อ.เมือง จ.ยะลา | E12: หิน3/4" | F12: =+VLOOKUP($O$1,$O$3:$V$9,5) -> 500 | G12: บาท/ลบ.ม. | H12: =+H11 -> 78 | I12: = | J12: =IF(แหล่งวัสดุ!L$23=1,IF(H12<=200,VLOOKUP(H12,'S2'!B$5:'S2'!F$204,3),IF(H12>200,(H12-200)*'S2'!D$205+'S2'!D$204)),IF(แหล่งวัสดุ!L$23=2,IF(H12<=200,VLOOKUP(H12,'S2'!B$5:'S2'!F$204,5),IF(H12>200,(H12-200)*'S2'!F$205+'S2'!F$204)))) -> 151.05 | K12: บาท/ลบ.ม. ราคารวม = | L12: =+J12+F12 -> 651.05 | M12: บาท/ลบ.ม. | Z12: 3 | AA12: ปน. | AB12: 25-30 | AC12: 30-35 | AE12: 467 | AF12: 620 | AG12: 800 | AH12: 1720 | AI12: 2360 | AJ12: 3400 | AK12: 4400
A13: =1+A12 -> 4 | B13: =+B12 -> บ.เนียง อ.เมือง จ.ยะลา | E13: หิน1/2" | F13: =+VLOOKUP($O$1,$O$3:$V$9,6) -> 500 | G13: บาท/ลบ.ม. | H13: =+H12 -> 78 | I13: = | J13: =IF(แหล่งวัสดุ!L$23=1,IF(H13<=200,VLOOKUP(H13,'S2'!B$5:'S2'!F$204,3),IF(H13>200,(H13-200)*'S2'!D$205+'S2'!D$204)),IF(แหล่งวัสดุ!L$23=2,IF(H13<=200,VLOOKUP(H13,'S2'!B$5:'S2'!F$204,5),IF(H13>200,(H13-200)*'S2'!F$205+'S2'!F$204)))) -> 151.05 | K13: บาท/ลบ.ม. ราคารวม = | L13: =+J13+F13 -> 651.05 | M13: บาท/ลบ.ม. | Z13: 4 | AA13: ยล. | AB13: 13-15 | AC13: 30 | AD13: 266.36 | AE13: 336.45 | AF13: 500 | AG13: 1220 | AH13: 1850 | AI13: 2850 | AJ13: 4700 | AK13: 6700
A14: =1+A13 -> 5 | B14: =+B13 -> บ.เนียง อ.เมือง จ.ยะลา | E14: หิน3/8" | F14: =+VLOOKUP($O$1,$O$3:$V$9,7) -> 476.64 | G14: บาท/ลบ.ม. | H14: =+H13 -> 78 | I14: = | J14: =IF(แหล่งวัสดุ!L$23=1,IF(H14<=200,VLOOKUP(H14,'S2'!B$5:'S2'!F$204,3),IF(H14>200,(H14-200)*'S2'!D$205+'S2'!D$204)),IF(แหล่งวัสดุ!L$23=2,IF(H14<=200,VLOOKUP(H14,'S2'!B$5:'S2'!F$204,5),IF(H14>200,(H14-200)*'S2'!F$205+'S2'!F$204)))) -> 151.05 | K14: บาท/ลบ.ม. ราคารวม = | L14: =+J14+F14 -> 627.69 | M14: บาท/ลบ.ม. | Q14: บัญชีค่าแรงงาน/ตุลาคม 2558 | Z14: 5 | AA14: นธ. | AB14: 20 | AC14: 25 | AD14: 60 | AE14: 140 | AF14: 500 | AG14: 707.48 | AH14: 1015.89 | AI14: 2207.48 | AJ14: 2623.36 | AK14: 3828.97
A15: แหล่งวัสดุพื้นทางถนน แหล่งที่ 2 | Q15: งาน | T15: หน่วย | V15: ค่าแรง/หน่วย | W15: หมายเหตุ
A16: 6 | B16: =+VLOOKUP($P$1,$O$3:$V$9,8) -> บ.กะลุวอเหนือ อ.เมือง จ.นราธิวาส | E16: หินคลุก | F16: =+VLOOKUP($P$1,$O$3:$V$9,3) -> 450 | G16: บาท/ลบ.ม. | H16: 82 | I16: = | J16: =IF(แหล่งวัสดุ!L$23=1,IF(H16<=200,VLOOKUP(H16,'S2'!B$5:'S2'!F$204,3),IF(H16>200,(H16-200)*'S2'!D$205+'S2'!D$204)),IF(แหล่งวัสดุ!L$23=2,IF(H16<=200,VLOOKUP(H16,'S2'!B$5:'S2'!F$204,5),IF(H16>200,(H16-200)*'S2'!F$205+'S2'!F$204)))) -> 158.75 | K16: บาท/ลบ.ม. ราคารวม = | L16: =+J16+F16 -> 608.75 | M16: บาท/ลบ.ม. | R16: งานผสมและเทคอนกรีต
A17: =1+A16 -> 7 | B17: =+B16 -> บ.กะลุวอเหนือ อ.เมือง จ.นราธิวาส | E17: หินฝุ่น | F17: =+VLOOKUP($P$1,$O$3:$V$9,4) -> 500 | G17: บาท/ลบ.ม. | H17: =+H16 -> 82 | I17: = | J17: =IF(แหล่งวัสดุ!L$23=1,IF(H17<=200,VLOOKUP(H17,'S2'!B$5:'S2'!F$204,3),IF(H17>200,(H17-200)*'S2'!D$205+'S2'!D$204)),IF(แหล่งวัสดุ!L$23=2,IF(H17<=200,VLOOKUP(H17,'S2'!B$5:'S2'!F$204,5),IF(H17>200,(H17-200)*'S2'!F$205+'S2'!F$204)))) -> 158.75 | K17: บาท/ลบ.ม. ราคารวม = | L17: =+J17+F17 -> 658.75 | M17: บาท/ลบ.ม. | Q17: 1 | R17: คอนกรีตหยาบ | T17: ลบ.ม. | V17: 398 | W17: รองก้นหลุม
A18: =1+A17 -> 8 | B18: =+B17 -> บ.กะลุวอเหนือ อ.เมือง จ.นราธิวาส | E18: หิน3/4" | F18: =+VLOOKUP($P$1,$O$3:$V$9,5) -> 500 | G18: บาท/ลบ.ม. | H18: =H17 -> 82 | I18: = | J18: =IF(แหล่งวัสดุ!L$23=1,IF(H18<=200,VLOOKUP(H18,'S2'!B$5:'S2'!F$204,3),IF(H18>200,(H18-200)*'S2'!D$205+'S2'!D$204)),IF(แหล่งวัสดุ!L$23=2,IF(H18<=200,VLOOKUP(H18,'S2'!B$5:'S2'!F$204,5),IF(H18>200,(H18-200)*'S2'!F$205+'S2'!F$204)))) -> 158.75 | K18: บาท/ลบ.ม. ราคารวม = | L18: =+J18+F18 -> 658.75 | M18: บาท/ลบ.ม. | Q18: 2 | R18: คอนกรีตโครงสร้าง | T18: ลบ.ม. | U18: 1 | V18: 436 | W18: ทางเท้า ทางระบายน้ำ บ่อพัก ถนนภายใน
A19: =1+A18 -> 9 | B19: =+B18 -> บ.กะลุวอเหนือ อ.เมือง จ.นราธิวาส | E19: หิน1/2" | F19: =+VLOOKUP($P$1,$O$3:$V$9,6) -> 570 | G19: บาท/ลบ.ม. | H19: =+H18 -> 82 | I19: = | J19: =IF(แหล่งวัสดุ!L$23=1,IF(H19<=200,VLOOKUP(H19,'S2'!B$5:'S2'!F$204,3),IF(H19>200,(H19-200)*'S2'!D$205+'S2'!D$204)),IF(แหล่งวัสดุ!L$23=2,IF(H19<=200,VLOOKUP(H19,'S2'!B$5:'S2'!F$204,5),IF(H19>200,(H19-200)*'S2'!F$205+'S2'!F$204)))) -> 158.75 | K19: บาท/ลบ.ม. ราคารวม = | L19: =+J19+F19 -> 728.75 | M19: บาท/ลบ.ม. | Q19: 3 | T19: ลบ.ม. | U19: 2 | V19: 498 | W19: โครงสร้างและส่วนประกอบอาคารชั้นเดียว
A20: =1+A19 -> 10 | B20: =+B19 -> บ.กะลุวอเหนือ อ.เมือง จ.นราธิวาส | E20: หิน3/8" | F20: =+VLOOKUP($P$1,$O$3:$V$9,7) -> 580 | G20: บาท/ลบ.ม. | H20: =+H19 -> 82 | I20: = | J20: =IF(แหล่งวัสดุ!L$23=1,IF(H20<=200,VLOOKUP(H20,'S2'!B$5:'S2'!F$204,3),IF(H20>200,(H20-200)*'S2'!D$205+'S2'!D$204)),IF(แหล่งวัสดุ!L$23=2,IF(H20<=200,VLOOKUP(H20,'S2'!B$5:'S2'!F$204,5),IF(H20>200,(H20-200)*'S2'!F$205+'S2'!F$204)))) -> 158.75 | K20: บาท/ลบ.ม. ราคารวม = | L20: =+J20+F20 -> 738.75 | M20: บาท/ลบ.ม. | Q20: 4 | T20: ลบ.ม. | U20: 3 | V20: 542 | W20: โครงสร้างและส่วนประกอบอาคารหลายชั้น
Q21: 2 | R21: คอนกรีตผสมเสร็จ | T21: ลบ.ม. | U21: 1 | V21: 306 | W21: ทางเท้า ทางระบายน้ำ บ่อพัก ถนนภายใน
A22: ที่ | B22: แหล่งวัสดุ | E22: ชนิดวัสดุ | F22: ราคาต่อหน่วย | G22: หน่วย | H22: ระยะขนส่ง | J22: กรอกข้อความ หรือ ตัวเลข เฉพาะในช่องพื้น สีเหลือง | Q22: 3 | T22: ลบ.ม. | U22: 2 | V22: 391 | W22: โครงสร้างและส่วนประกอบอาคารชั้นเดียว
A23: 11 | B23: ต.คลองเปียะ อ.จะนะ จ.สงขลา | E23: หินผสมคอนกรีต | F23: 400 | G23: บาท/ลบ.ม. | H23: 40 | J23: ค่าขนส่งหิน | L23: 2 | M23: ใช้ 1 เมื่อใช้รถรถบรรทุก 10 ล้อ | Q23: 4 | T23: ลบ.ม. | U23: 3 | V23: 485 | W23: โครงสร้างและส่วนประกอบอาคารหลายชั้น
A24: 12 | B24: ต.คลองเปียะ อ.จะนะ จ.สงขลา | E24: หินใหญ่ | F24: 476.64 | G24: บาท/ลบ.ม. | H24: 150 | J24: ค่าขนส่งยาง | L24: 2 | M24: ใช้ 2 เมื่อใช้รถบรรทุก 10 ล้อ + รถลากพ่วง | R24: ประกอบและติดตั้งแบบหล่อคอนกรีต
A25: =1+A23 -> 12 | B25: อ.มะนัง จ.สตูล | E25: ดินถม | F25: 25 | G25: บาท/ลบ.ม. | H25: 6 | J25: ดอกเบี้ยเงินกู้ | L25: 7 | M25: % | N25: (งบประมาณ 100 %) | Q25: 1 | R25: แบบหล่อทั่วไป | T25: ตร.ม. | U25: 1 | V25: 115 | W25: จำนวน 5,000 ตร.ม.ขึ้นไป
A26: =1+A25 -> 13 | B26: อ.มะนัง จ.สตูล | E26: ลูกรัง | F26: 35 | G26: บาท/ลบ.ม. | H26: 19 | J26: เงินล่วงหน้าจ่าย | L26: 15 | M26: % | T26: ตร.ม. | U26: 2 | V26: 133 | W26: จำนวนน้อยกว่า 5,000 ตร.ม.
A27: =1+A26 -> 14 | B27: อ.มะนัง จ.สตูล | E27: วัสดุคัดเลือก | F27: 35 | G27: บาท/ลบ.ม. | J27: ดอกเบี้ยเงินฝาก | L27: 4 | M27: % | N27: ค่าขนส่งยางจากกรุงเทพฯ -ศรีราชา | Q27: 2 | R27: แบบหล่อเปลือย | T27: ตร.ม. | U27: 1 | V27: 154 | W27: ชนิดผิวเรียบ
A28: =1+A27 -> 15 | B28: อ.มะนัง จ.สตูล | E28: ทรายหยาบ | F28: 485 | G28: บาท/ลบ.ม. | H28: 73 | J28: เงินประกันผลงาน | L28: 0 | M28: % | T28: ตร.ม. | U28: 2 | V28: 193 | W28: ชนิดผิวมีบัวลวดลาย
A29: =1+A28 -> 16 | B29: อ.มะนัง จ.สตูล | E29: ทรายถมที่ | F29: 150 | G29: บาท/ลบ.ม. | H29: =+H28 -> 73 | J29: ภาษีมูลค่าเพิ่ม ( VAT ) | L29: 7 | M29: % | N29: 124 | O29: =IF(แหล่งวัสดุ!L$24=1,IF(N29<=200,VLOOKUP(N29,'S2'!B$5:'S2'!F$204,2),IF(N29>200,(N29-200)*'S2'!C$205+'S2'!C$204)),IF(แหล่งวัสดุ!L$24=2,IF(N29<=200,VLOOKUP(N29,'S2'!B$5:'S2'!F$204,4),IF(N29>200,(N29-200)*'S2'!E$205+'S2'!E$204)))) -> 171.17 | Q29: 3 | R29: แบบหล่อที่ตั้งสูงเกินปกติ | T29: ตร.ม. | U29: 1 | V29: 154 | W29: ท้องคานหรือท้องพื้นสูง 5.00 - 7.00 ม.
A30: =1+A29 -> 17 | B30: สำนักดัชนีการค้า ปัตตานี (ตุลาคม 58) | E30: ซีเมนต์ Type 1 | F30: 3003.11 | G30: บาท/ตัน | H30: 65 | J30: ค่าขนส่งปูนซิเมนต์ | L30: 2 | T30: ตร.ม. | U30: 2 | V30: 180 | W30: ท้องคานหรือท้องพื้นสูงเกิน 7.00 ม.
A31: =1+A30 -> 18 | B31: =+B30 -> สำนักดัชนีการค้า ปัตตานี (ตุลาคม 58) | E31: คอนกรีตผสมเสร็จ 320 ksc | G31: บาท/ลบ.ม. | H31: =+H30 -> 65 | J31: ค่าขนส่งปูนสำเร็จรูป | L31: 1 | M31: ใช้ 1 เมื่อใช้รถรถบรรทุก 10 ล้อ | R31: ตัด - ดัด - ผูก เหล็กเส้นเสริมคอนกรีต
A32: =1+A31 -> 19 | B32: สำนักดัชนีการค้า กรุงเทพฯ(ตุลาคม58) | E32: =+'NO DELETE'!AR44 -> PARA Asphaltic Concrete | F32: 38465 | G32: บาท/ตัน | H32: 1075 | J32: ค่าขนส่งดิน,ลูกรัง | L32: 1 | M32: ใช้ 2 เมื่อใช้รถบรรทุก 10 ล้อ + รถลากพ่วง | Q32: 1 | R32: ผิวเรียบ | T32: ตัน | U32: 1 | V32: 4100 | W32: เส้นผ่านศูนย์กลาง น้อยกว่า 10 มม.
A33: =1+A32 -> 20 | B33: =+B32 -> สำนักดัชนีการค้า กรุงเทพฯ(ตุลาคม58) | E33: ยาง CSS-1 | F33: 22686.67 | G33: บาท/ตัน | H33: =+H32 -> 1075 | J33: ค่าขนส่งทราย | L33: 1 | Q33: 2 | R33: ผิวเรียบและผิวข้ออ้อย | T33: ตัน | U33: 2 | V33: 3300 | W33: เส้นผ่านศูนย์กลาง ตั้งแต่ 10 มม.ถึง 16 มม.
A34: =1+A33 -> 21 | B34: =+B33 -> สำนักดัชนีการค้า กรุงเทพฯ(ตุลาคม58) | E34: ยาง AC 60-70 | F34: 25743.33 | G34: บาท/ตัน | H34: =+H33 -> 1075 | J34: ค่าขนส่งเหล็ก | L34: 1 | Q34: 3 | R34: ผิวเรียบและผิวข้ออ้อย | U34: 3 | V34: 2900 | W34: เส้นผ่านศูนย์กลาง ตั้งแต่ 19 มม.
A35: =1+A34 -> 22 | B35: =+B34 -> สำนักดัชนีการค้า กรุงเทพฯ(ตุลาคม58) | E35: ยาง CRS-2 | F35: 21906.67 | G35: บาท/ตัน | H35: =+H34 -> 1075 | J35: ค่าขนส่งท่อ คสล. | L35: 1 | Q35: 4 | R35: วางตะแกรงสำเร็จรูป | T35: ตร.ม. | V35: 5
A36: =1+A35 -> 23 | B36: อ.ศรีราชา จ.ชลบุรี | E36: ยาง CSS-1 | F36: =+F33-$O$29 -> 22515.5 | G36: บาท/ตัน | H36: 1180 | J36: ค่าขนส่งหินใหญ่ | L36: 1
A37: =1+A36 -> 24 | B37: =+B36 -> อ.ศรีราชา จ.ชลบุรี | E37: ยาง AC 60-70 | F37: =+F34-$O$29 -> 25572.16 | G37: บาท/ตัน | H37: =+H36 -> 1180 | J37: ประมาณราคา | K37: นายวัลลภ มูสิกะเจริญ | M37: ตำแหน่ง | N37: นายช่างโยธาชำนาญงาน
A38: =1+A37 -> 25 | B38: =+B37 -> อ.ศรีราชา จ.ชลบุรี | E38: ยาง CRS-2 | F38: =+F35-$O$29 -> 21735.5 | G38: บาท/ตัน | H38: =+H37 -> 1180 | J38: ตรวจ | K38: นางสาวปิญาภา ศรีมณี | M38: ตำแหน่ง | N38: วิศวกรโยธาชำนาญการ
A39: =1+A38 -> 26 | B39: สำนักดัชนีการค้า สตูล(กันยายน 58) | E39: เหล็กเสริม RB6 SR 24 | F39: 19898.17 | G39: บาท/ตัน | H39: =+H31 -> 65 | J39: ผู้ตรวจ | K39: นายวโรภาส แสงพายัพ | M39: ตำแหน่ง | N39: วิศวกรโยธาชำนาญการ
A40: =1+A39 -> 27 | B40: =+B39 -> สำนักดัชนีการค้า สตูล(กันยายน 58) | E40: เหล็กเสริม RB9 SR 24 | F40: 19220.78 | G40: บาท/ตัน | H40: =+H39 -> 65
A41: =1+A40 -> 28 | B41: =+B40 -> สำนักดัชนีการค้า สตูล(กันยายน 58) | E41: เหล็กเสริม RB15 SR 24 | F41: 19521.96 | G41: บาท/ตัน | H41: =+H40 -> 65
A42: =1+A41 -> 29 | B42: =+B41 -> สำนักดัชนีการค้า สตูล(กันยายน 58) | E42: เหล็กเสริม RB19 SR 24 | F42: 18668.22 | G42: บาท/ตัน | H42: =+H41 -> 65
A43: =1+A42 -> 30 | B43: =+B40 -> สำนักดัชนีการค้า สตูล(กันยายน 58) | E43: เหล็กเสริม RB25 SR 24 | G43: บาท/ตัน | H43: =+H40 -> 65 | J43: ประธาน | K43: นางสาวปิญาภา ศรีมณี | M43: ตำแหน่ง | N43: วิศวกรโยธาชำนาญการ
A44: =1+A43 -> 31 | B44: =+B43 -> สำนักดัชนีการค้า สตูล(กันยายน 58) | E44: เหล็กเสริม DB12 SD 30 | F44: 19042.06 | G44: บาท/ตัน | H44: =+H43 -> 65 | J44: กรรมการ | K44: นายวัลลภ มูสิกะเจริญ | M44: ตำแหน่ง | N44: นายช่างโยธาชำนาญงาน
A45: =1+A44 -> 32 | B45: =+B44 -> สำนักดัชนีการค้า สตูล(กันยายน 58) | E45: เหล็กเสริม DB16 SD 30 | F45: 19415.55 | G45: บาท/ตัน | H45: =+H44 -> 65 | J45: กรรมการ | K45: นายศุภวัฒน์ กาญจนรัตน์ | M45: ตำแหน่ง | N45: นายช่างโยธาชำนาญงาน
A46: =1+A45 -> 33 | B46: =+B45 -> สำนักดัชนีการค้า สตูล(กันยายน 58) | E46: เหล็กเสริม DB20 SD 30 | F46: 18272.76 | G46: บาท/ตัน | H46: =+H45 -> 65
A47: =1+A46 -> 34 | B47: =+B46 -> สำนักดัชนีการค้า สตูล(กันยายน 58) | E47: เหล็กเสริม DB12 SD 40 | G47: บาท/ตัน | H47: =+H46 -> 65 | J47: 1.กรณีเส้นทางลาดชันขนส่งหิน | P47: 5.กรณีเส้นทางลาดชันขนส่งยางแอสฟัลท์
A48: =1+A47 -> 35 | B48: =+B47 -> สำนักดัชนีการค้า สตูล(กันยายน 58) | E48: เหล็กเสริม DB16 SD 40 | G48: บาท/ตัน | H48: =+H47 -> 65 | L48: ระยะทาง | M48: Factor | S48: ระยะทาง | T48: Factor
A49: =1+A48 -> 36 | B49: =+B48 -> สำนักดัชนีการค้า สตูล(กันยายน 58) | E49: เหล็กเสริม DB20 SD 40 | G49: บาท/ตัน | H49: =+H48 -> 65 | J49: ผิวทางลาดยางทางราบ | L49: 80 | M49: 1 | N49: =+M49*L49 -> 80 | P49: ผิวทางลาดยางทางราบ | S49: 80 | T49: 1 | U49: =+T49*S49 -> 80
A50: =1+A49 -> 37 | B50: =+B49 -> สำนักดัชนีการค้า สตูล(กันยายน 58) | E50: เหล็กเสริม DB25 SD 40 | G50: บาท/ตัน | H50: =+H49 -> 65 | J50: ผิวทางลาดยางทางเนิน | M50: 2.12 | N50: =+M50*L50 -> 0 | P50: ผิวทางลาดยางทางเนิน | T50: 2.12 | U50: =+T50*S50 -> 0
A51: =1+A50 -> 38 | B51: =+B50 -> สำนักดัชนีการค้า สตูล(กันยายน 58) | E51: เหล็ก Wire mash | F51: 53 | G51: บาท/ตร.ม. | H51: =+H50 -> 65 | J51: ผิวทางลาดยางทางเขา | M51: 2.56 | N51: =+M51*L51 -> 0 | P51: ผิวทางลาดยางทางเขา | T51: 2.56 | U51: =+T51*S51 -> 0
A52: =1+A51 -> 39 | B52: =+B51 -> สำนักดัชนีการค้า สตูล(กันยายน 58) | E52: ไม้กะบาก | F52: 532.88 | G52: บาท/ลฟ.ม. | H52: =+H50 -> 65 | L52: =SUM(L49:L51) -> 80 | N52: =ROUND(SUM(N49:N51),) -> 80 | S52: =SUM(S49:S51) -> 80 | U52: =ROUND(SUM(U49:U51),) -> 80
A53: =1+A52 -> 40 | B53: =+B52 -> สำนักดัชนีการค้า สตูล(กันยายน 58) | E53: ไม้อัดภายนอกหนา 4 มม. | F53: 630 | G53: บาท/แผ่น | H53: =+H52 -> 65 | L53: Average Factor | N53: =+ROUND(N52/L52,2) -> 1 | S53: Average Factor | U53: =+ROUND(U52/S52,2) -> 1
A54: =1+A53 -> 41 | B54: =+B53 -> สำนักดัชนีการค้า สตูล(กันยายน 58) | E54: ไม้รัดแบบ-เคร่า | F54: 409.91 | G54: บาท/ลฟ.ม. | H54: =+H53 -> 65
A55: =1+A54 -> 42 | B55: =+B54 -> สำนักดัชนีการค้า สตูล(กันยายน 58) | E55: ไม้ค้ำยัน Æ 6" x 6.00 ม. | F55: 225 | G55: บาท/ท่อน | H55: =+H54 -> 65 | J55: 2.กรณีเส้นทางลาดชันขนส่งดิน | P55: 6.กรณีเส้นทางลาดชันขนส่งปูนซีเมนต์
A56: =1+A55 -> 43 | B56: =+B55 -> สำนักดัชนีการค้า สตูล(กันยายน 58) | E56: ไม้ค้ำยัน Æ 4" x 4.00 ม. | F56: 55 | G56: บาท/ท่อน | H56: =+H55 -> 65 | L56: ระยะทาง | M56: Factor | S56: ระยะทาง | T56: Factor
A57: =1+A56 -> 44 | B57: =+B56 -> สำนักดัชนีการค้า สตูล(กันยายน 58) | E57: น้ำมันทาแบบ | F57: 15 | G57: บาท/ลิตร | H57: =+H56 -> 65 | J57: ผิวทางลาดยางทางราบ | L57: 80 | M57: 1 | N57: =+M57*L57 -> 80 | P57: ผิวทางลาดยางทางราบ | S57: 80 | T57: 1 | U57: =+T57*S57 -> 80
A58: =1+A57 -> 45 | B58: =+B57 -> สำนักดัชนีการค้า สตูล(กันยายน 58) | E58: ลวดผูกเหล็ก | F58: 46.73 | G58: บาท/กก. | H58: =+H57 -> 65 | J58: ผิวทางลาดยางทางเนิน | M58: 2.12 | N58: =+M58*L58 -> 0 | P58: ผิวทางลาดยางทางเนิน | T58: 2.12 | U58: =+T58*S58 -> 0
A59: =1+A58 -> 46 | B59: =+B58 -> สำนักดัชนีการค้า สตูล(กันยายน 58) | E59: ตะปู | F59: 39.49 | G59: บาท/กก. | H59: =+H58 -> 65 | J59: ผิวทางลาดยางทางเขา | M59: 2.56 | N59: =+M59*L59 -> 0 | P59: ผิวทางลาดยางทางเขา | T59: 2.56 | U59: =+T59*S59 -> 0
A60: =1+A59 -> 47 | B60: =+B59 -> สำนักดัชนีการค้า สตูล(กันยายน 58) | E60: ท่อ คสล.Æ 0.60 ม. | F60: =+VLOOKUP('NO DELETE'!$P$7,$Z$10:$AK$14,8) -> 800 | G60: บาท/ท่อน | H60: 40 | L60: =SUM(L57:L59) -> 80 | N60: =ROUND(SUM(N57:N59),) -> 80 | S60: =SUM(S57:S59) -> 80 | U60: =ROUND(SUM(U57:U59),) -> 80
A61: =1+A60 -> 48 | B61: =+B60 -> สำนักดัชนีการค้า สตูล(กันยายน 58) | E61: ท่อ คสล.Æ 0.80 ม. | F61: =+VLOOKUP('NO DELETE'!$P$7,$Z$10:$AK$14,9) -> 1720 | G61: บาท/ท่อน | H61: =+H60 -> 40 | L61: Average Factor | N61: =+ROUND(N60/L60,2) -> 1 | S61: Average Factor | U61: =+ROUND(U60/S60,2) -> 1
A62: =1+A61 -> 49 | B62: =+B61 -> สำนักดัชนีการค้า สตูล(กันยายน 58) | E62: ท่อ คสล.Æ 1.00 ม. | F62: =+VLOOKUP('NO DELETE'!$P$7,$Z$10:$AK$14,10) -> 2360 | G62: บาท/ท่อน | H62: =+H61 -> 40
A63: =1+A62 -> 50 | B63: =+B62 -> สำนักดัชนีการค้า สตูล(กันยายน 58) | E63: ท่อ คสล.Æ 1.20 ม. | F63: =+VLOOKUP('NO DELETE'!$P$7,$Z$10:$AK$14,11) -> 3400 | G63: บาท/ท่อน | H63: =+H62 -> 40 | J63: 3.กรณีเส้นทางลาดชันขนส่งลูกรัง | P63: 7.กรณีเส้นทางลาดชันขนส่งเหล็ก
A64: =1+A63 -> 51 | B64: =+B63 -> สำนักดัชนีการค้า สตูล(กันยายน 58) | E64: ท่อ คสล.Æ 1.50 ม. | F64: =+VLOOKUP('NO DELETE'!$P$7,$Z$10:$AK$14,12) -> 4400 | G64: บาท/ท่อน | H64: =+H63 -> 40 | L64: ระยะทาง | M64: Factor | S64: ระยะทาง | T64: Factor
A65: =1+A64 -> 52 | B65: กล่อง Gabion Box ชนิดเคลือบสังกะสี ขนาด 1.50 x 1.00 x 1.00 ม. | F65: 1408 | G65: บาท/กล่อง | J65: ผิวทางลาดยางทางราบ | L65: 80 | M65: 1 | N65: =+M65*L65 -> 80 | P65: ผิวทางลาดยางทางราบ | S65: 80 | T65: 1 | U65: =+T65*S65 -> 80
A66: =1+A65 -> 53 | B66: กล่อง Gabion Box ชนิดเคลือบสังกะสี ขนาด 2.00 x 1.00 x 1.00 ม. | F66: 1887 | G66: บาท/กล่อง | J66: ผิวทางลาดยางทางเนิน | M66: 2.12 | N66: =+M66*L66 -> 0 | P66: ผิวทางลาดยางทางเนิน | T66: 2.12 | U66: =+T66*S66 -> 0
A67: =1+A66 -> 54 | B67: กล่อง Mattress ชนิดเคลือบสังกะสี ขนาด 4.00 x 2.00 x 0.30 ม. | F67: 3322 | G67: บาท/กล่อง | J67: ผิวทางลาดยางทางเขา | M67: 2.56 | N67: =+M67*L67 -> 0 | P67: ผิวทางลาดยางทางเขา | T67: 2.56 | U67: =+T67*S67 -> 0
A68: =1+A67 -> 55 | B68: กล่อง Mattress ชนิดเคลือบสังกะสี ขนาด 3.00 x 2.00 x 0.30 ม. | F68: 2530 | G68: บาท/กล่อง | L68: =SUM(L65:L67) -> 80 | N68: =ROUND(SUM(N65:N67),) -> 80 | S68: =SUM(S65:S67) -> 80 | U68: =ROUND(SUM(U65:U67),) -> 80
A69: =1+A68 -> 56 | B69: กล่อง Mattress ชนิดเคลือบสังกะสี ขนาด 6.00 x 2.00 x 0.30 ม. | F69: 4835 | G69: บาท/กล่อง | L69: Average Factor | N69: =+ROUND(N68/L68,2) -> 1 | S69: Average Factor | U69: =+ROUND(U68/S68,2) -> 1
A70: =1+A69 -> 57 | B70: แผ่นใยสังเคราะห์ชนิดที่ 2 | F70: 65 | G70: บาท/ตร.ม.
A71: =1+A70 -> 58 | B71: =+B64 -> สำนักดัชนีการค้า สตูล(กันยายน 58) | E71: หินใหญ่ ขนาด 7 ซม. - 25 ซม. | F71: 476.64 | G71: บาท/ลบ.ม. | H71: 150 | J71: 4.กรณีเส้นทางลาดชันขนทราย | P71: 8.กรณีเส้นทางลาดชันขนส่งท่อ
A72: =1+A71 -> 59 | B72: เหล็กฉาก | F72: =1000/41.5*747 -> 18000 | G72: บาท/ตัน. | L72: ระยะทาง | M72: Factor | S72: ระยะทาง | T72: Factor
J73: ผิวทางลาดยางทางราบ | L73: 80 | M73: 1 | N73: =+M73*L73 -> 80 | P73: ผิวทางลาดยางทางราบ | S73: 80 | T73: 1 | U73: =+T73*S73 -> 80
J74: ผิวทางลาดยางทางเนิน | M74: 2.12 | N74: =+M74*L74 -> 0 | P74: ผิวทางลาดยางทางเนิน | T74: 2.12 | U74: =+T74*S74 -> 0
J75: ผิวทางลาดยางทางเขา | M75: 2.56 | N75: =+M75*L75 -> 0 | P75: ผิวทางลาดยางทางเขา | T75: 2.56 | U75: =+T75*S75 -> 0
L76: =SUM(L73:L75) -> 80 | N76: =ROUND(SUM(N73:N75),) -> 80 | S76: =SUM(S73:S75) -> 80 | U76: =ROUND(SUM(U73:U75),) -> 80
L77: Average Factor | N77: =+ROUND(N76/L76,2) -> 1 | S77: Average Factor | U77: =+ROUND(U76/S76,2) -> 1

Sheet งวดงาน
A1: รายละเอียดแบ่งงวดงาน
A2: =+ปร.5_Roads!A4&""&ปร.5_Roads!C4&" "&ปร.5_Roads!A6&""&ปร.5_Roads!C6&""&ปร.5_Roads!F6&"" -> ประเภทงานบำรุงพิเศษ ซ่อมสร้างผิวทาง Asphaltic Concrete รหัสสายทาง ปน.4031แยกทางหลวงหมายเลข 4157-บ้านปาตา
A3: =+ปร.5_Roads!C7 -> อำเภอ ปะนาเระ,ยะหริ่ง จังหวัด ปัตตานี | H3: ="ระยะเวลาดำเนินการ "&L59&" วัน" -> ระยะเวลาดำเนินการ 120 วัน | J3: ="จำนวน "&A42&" งวด" -> จำนวน 13 งวด
A4: งวด | B4: งาน | D4: รายการ | E4: จำนวน | F4: หน่วย | G4: ราคา/หน่วย | H4: คิดเป็นเงิน | I4: คิดให้ 90% | J4: คงเหลือ | K4: เทียบเป็น % | L4: วัน
A5: ที่ | B5: ประเภทงาน | C5: ปรับราคา
A6: 1 | B6: งานดิน | C6: ได้ | D6: =+ปร.4_Roads!C8 -> งานขุดรื้อพื้นทางหินคลุกเดิมแล้วบดทับ | E6: 3000 | F6: ตร.ม. | G6: =+ปร.4_Roads!L8 -> 20 | H6: =G6*E6 -> 60000 | I6: =+ROUNDDOWN(H6*0.9,-3) -> 54000 | J6: =+H6-I6 -> 6000 | N6: =+ปร.4_Roads!E8 -> 12184 | O6: =+N6/4 -> 3046
D7: =+ปร.4_Roads!C15 -> หินคลุกบดอัดแน่น | E7: 360 | F7: ลบ.ม. | G7: =+ปร.4_Roads!L15 -> 1274.2 | H7: =G7*E7 -> 458712 | I7: =+ROUNDDOWN(H7*0.9,-3) -> 412000 | J7: =+H7-I7 -> 46712 | N7: =+O6*0.12 -> 365.52 | O7: =+ปร.4_Roads!E15 -> 1506
E8: รวม | H8: =SUM(H6:H7) -> 518712 | I8: =SUM(I6:I7) -> 466000 | J8: =SUM(J6:J7) -> 52712 | K8: =+I8/$H$60*100 -> 5.9376702 | L8: 30
A9: =+A6+1 -> 2 | B9: งานดิน | C9: ได้ | D9: =+D6 -> งานขุดรื้อพื้นทางหินคลุกเดิมแล้วบดทับ | E9: =+E6 -> 3000 | F9: =+F6 -> ตร.ม. | G9: =+G6 -> 20 | H9: =G9*E9 -> 60000 | I9: =+ROUNDDOWN(H9*0.9,-3) -> 54000 | J9: =+H9-I9 -> 6000
D10: =+D7 -> หินคลุกบดอัดแน่น | E10: =+E7 -> 360 | F10: =+F7 -> ลบ.ม. | G10: =+ปร.4_Roads!L15 -> 1274.2 | H10: =G10*E10 -> 458712 | I10: =+ROUNDDOWN(H10*0.9,-3) -> 412000 | J10: =+H10-I10 -> 46712
E11: รวม | H11: =SUM(H9:H10) -> 518712 | I11: =SUM(I9:I10) -> 466000 | J11: =SUM(J9:J10) -> 52712 | K11: =+I11/$H$60*100 -> 5.9376702 | L11: =+L8+10 -> 40
A12: =+A9+1 -> 3 | B12: งานดิน | C12: ได้ | D12: =+D9 -> งานขุดรื้อพื้นทางหินคลุกเดิมแล้วบดทับ | E12: =+E9 -> 3000 | F12: =+ปร.4_Roads!F26 -> ตร.ม. | G12: =+G9 -> 20 | H12: =G12*E12 -> 60000 | I12: =+ROUNDDOWN(H12*0.9,-3) -> 54000 | J12: =+H12-I12 -> 6000
D13: =+D10 -> หินคลุกบดอัดแน่น | E13: =+E10 -> 360 | F13: =+F10 -> ลบ.ม. | G13: =+G10 -> 1274.2 | H13: =G13*E13 -> 458712 | I13: =+ROUNDDOWN(H13*0.9,-3) -> 412000 | J13: =+H13-I13 -> 46712
E14: รวม | H14: =SUM(H12:H13) -> 518712 | I14: =SUM(I12:I13) -> 466000 | J14: =SUM(J12:J13) -> 52712 | K14: =+I14/$H$60*100 -> 5.9376702 | L14: =+L11+10 -> 50
A15: =+A12+1 -> 4 | B15: งานดิน | C15: ได้ | D15: =+D12 -> งานขุดรื้อพื้นทางหินคลุกเดิมแล้วบดทับ | E15: =+N6-E12-E9-E6 -> 3184 | F15: =+F9 -> ตร.ม. | G15: =+G12 -> 20 | H15: =+E15*G15 -> 63680 | I15: =+ROUNDDOWN(H15*0.9,-3) -> 57000 | J15: =+H15-I15 -> 6680
D16: =+D13 -> หินคลุกบดอัดแน่น | E16: =+O7-E7-E10-E13 -> 426 | F16: =+F10 -> ลบ.ม. | G16: =+G13 -> 1274.2 | H16: =+E16*G16 -> 542809.2 | I16: =+ROUNDDOWN(H16*0.9,-3) -> 488000 | J16: =+H16-I16 -> 54809.2
E17: รวม | H17: =SUM(H15:H16) -> 606489.2 | I17: =SUM(I15:I16) -> 545000 | J17: =SUM(J15:J16) -> 61489.2 | K17: =+I17/$H$60*100 -> 6.9442709 | L17: =+L14+10 -> 60
A18: =+A15+1 -> 5 | B18: งาน Prime Coat | C18: ได้ | D18: =+B18 -> งาน Prime Coat | E18: =+O18 -> 1523 | F18: ตร.ม. | G18: =+ปร.4_Roads!L21 -> 43.4 | H18: =+E18*G18 -> 66098.2 | I18: =+ROUNDDOWN(H18*0.9,-3) -> 59000 | J18: =+H18-I18 -> 7098.2 | N18: =+ปร.4_Roads!E21+ปร.4_Roads!E28 -> 12184 | O18: =+N18/8 -> 1523
B19: Aspaltic Concreat | C19: ได้ | D19: =+B19 -> Aspaltic Concreat | E19: =+E18 -> 1523 | F19: =+F18 -> ตร.ม. | G19: =+ปร.4_Roads!L24 -> 412 | H19: =+E19*G19 -> 627476 | I19: =+ROUNDDOWN(H19*0.9,-3) -> 564000 | J19: =+H19-I19 -> 63476
E20: รวม | H20: =SUM(H18:H19) -> 693574.2 | I20: =SUM(I18:I19) -> 623000 | J20: =SUM(J18:J19) -> 70574.2 | K20: =+I20/$H$60*100 -> 7.9381299 | L20: =+L17+10 -> 70
A21: =+A18+1 -> 6 | B21: งาน Prime Coat | C21: ได้ | D21: =+D18 -> งาน Prime Coat | E21: =+E18 -> 1523 | F21: ตร.ม. | G21: =+G18 -> 43.4 | H21: =+E21*G21 -> 66098.2 | I21: =+ROUNDDOWN(H21*0.9,-3) -> 59000 | J21: =+H21-I21 -> 7098.2
B22: Aspaltic Concreat | D22: =+D19 -> Aspaltic Concreat | E22: =+E21 -> 1523 | F22: =+F21 -> ตร.ม. | G22: =+G19 -> 412 | H22: =+E22*G22 -> 627476 | I22: =+ROUNDDOWN(H22*0.9,-3) -> 564000 | J22: =+H22-I22 -> 63476
E23: รวม | H23: =SUM(H21:H22) -> 693574.2 | I23: =SUM(I21:I22) -> 623000 | J23: =SUM(J21:J22) -> 70574.2 | K23: =+I23/$H$60*100 -> 7.9381299 | L23: =+L20+10 -> 80
A24: =+A21+1 -> 7 | B24: =+B21 -> งาน Prime Coat | C24: ได้ | D24: =+D21 -> งาน Prime Coat | E24: =+E21 -> 1523 | F24: ตร.ม. | G24: =+G21 -> 43.4 | H24: =+E24*G24 -> 66098.2 | I24: =+ROUNDDOWN(H24*0.9,-3) -> 59000 | J24: =+H24-I24 -> 7098.2
B25: Aspaltic Concreat | D25: =+D22 -> Aspaltic Concreat | E25: =+E24 -> 1523 | F25: =+F24 -> ตร.ม. | G25: =+G22 -> 412 | H25: =+E25*G25 -> 627476 | I25: =+ROUNDDOWN(H25*0.9,-3) -> 564000 | J25: =+H25-I25 -> 63476
E26: รวม | H26: =SUM(H24:H25) -> 693574.2 | I26: =SUM(I24:I25) -> 623000 | J26: =SUM(J24:J25) -> 70574.2 | K26: =+I26/$H$60*100 -> 7.9381299 | L26: =+L23+10 -> 90
A27: =+A24+1 -> 8 | B27: =+B24 -> งาน Prime Coat | C27: ได้ | D27: =+D24 -> งาน Prime Coat | E27: =+E24 -> 1523 | F27: ตร.ม. | G27: =+G24 -> 43.4 | H27: =+E27*G27 -> 66098.2 | I27: =+ROUNDDOWN(H27*0.9,-3) -> 59000 | J27: =+H27-I27 -> 7098.2
B28: =+B25 -> Aspaltic Concreat | C28: ได้ | D28: =+D25 -> Aspaltic Concreat | E28: =+E25 -> 1523 | F28: =+F27 -> ตร.ม. | G28: =+G25 -> 412 | H28: =+E28*G28 -> 627476 | I28: =+ROUNDDOWN(H28*0.9,-3) -> 564000 | J28: =+H28-I28 -> 63476
E29: รวม | H29: =SUM(H27:H28) -> 693574.2 | I29: =SUM(I27:I28) -> 623000 | J29: =SUM(J27:J28) -> 70574.2 | K29: =+I29/$H$60*100 -> 7.9381299 | L29: =+L26+10 -> 100
A30: =+A27+1 -> 9 | B30: =+B27 -> งาน Prime Coat | C30: ได้ | D30: =+D27 -> งาน Prime Coat | E30: =+E27 -> 1523 | F30: ตร.ม. | G30: =+G27 -> 43.4 | H30: =+E30*G30 -> 66098.2 | I30: =+ROUNDDOWN(H30*0.9,-3) -> 59000 | J30: =+H30-I30 -> 7098.2
B31: =+B28 -> Aspaltic Concreat | C31: ได้ | D31: =+D28 -> Aspaltic Concreat | E31: =+E30 -> 1523 | F31: =+F30 -> ตร.ม. | G31: =+G28 -> 412 | H31: =+E31*G31 -> 627476 | I31: =+ROUNDDOWN(H31*0.9,-3) -> 564000 | J31: =+H31-I31 -> 63476
E32: รวม | H32: =SUM(H30:H31) -> 693574.2 | I32: =SUM(I30:I31) -> 623000 | J32: =SUM(J30:J31) -> 70574.2 | K32: =+I32/$H$60*100 -> 7.9381299 | L32: 110
A33: =+A30+1 -> 10 | B33: =+B30 -> งาน Prime Coat | C33: ได้ | D33: =+D30 -> งาน Prime Coat | E33: =+E30 -> 1523 | F33: ตร.ม. | G33: =+G30 -> 43.4 | H33: =+E33*G33 -> 66098.2 | I33: =+ROUNDDOWN(H33*0.9,-3) -> 59000 | J33: =+H33-I33 -> 7098.2
B34: Aspaltic Concreat | D34: =+D31 -> Aspaltic Concreat | E34: =+E33 -> 1523 | F34: =+F33 -> ตร.ม. | G34: =+G31 -> 412 | H34: =+E34*G34 -> 627476 | I34: =+ROUNDDOWN(H34*0.9,-3) -> 564000 | J34: =+H34-I34 -> 63476
E35: รวม | H35: =SUM(H33:H34) -> 693574.2 | I35: =SUM(I33:I34) -> 623000 | J35: =SUM(J33:J34) -> 70574.2 | K35: =+I35/$H$60*100 -> 7.9381299 | L35: =+L32+10 -> 120
A36: =+A33+1 -> 11 | B36: =+B33 -> งาน Prime Coat | C36: ได้ | D36: =+D33 -> งาน Prime Coat | E36: =+E33 -> 1523 | F36: ตร.ม. | G36: =+G33 -> 43.4 | H36: =+E36*G36 -> 66098.2 | I36: =+ROUNDDOWN(H36*0.9,-3) -> 59000 | J36: =+H36-I36 -> 7098.2
B37: =+B34 -> Aspaltic Concreat | C37: ได้ | D37: =+D34 -> Aspaltic Concreat | E37: =+E34 -> 1523 | F37: =+F36 -> ตร.ม. | G37: =+G34 -> 412 | H37: =+E37*G37 -> 627476 | I37: =+ROUNDDOWN(H37*0.9,-3) -> 564000 | J37: =+H37-I37 -> 63476
E38: รวม | H38: =SUM(H36:H37) -> 693574.2 | I38: =SUM(I36:I37) -> 623000 | J38: =SUM(J36:J37) -> 70574.2 | K38: =+I38/$H$60*100 -> 7.9381299 | L38: =+L35+10 -> 130
A39: =+A36+1 -> 12 | B39: =+B36 -> งาน Prime Coat | C39: ได้ | D39: =+D36 -> งาน Prime Coat | E39: =+N18-E18-E21-E24-E27-E30-E33-E36 -> 1523 | F39: ตร.ม. | G39: =+G36 -> 43.4 | H39: =+E39*G39 -> 66098.2 | I39: =+ROUNDDOWN(H39*0.9,-3) -> 59000 | J39: =+H39-I39 -> 7098.2
B40: =+B37 -> Aspaltic Concreat | C40: ได้ | D40: =+D37 -> Aspaltic Concreat | E40: =+E39 -> 1523 | F40: =+F39 -> ตร.ม. | G40: =+G37 -> 412 | H40: =+E40*G40 -> 627476 | I40: =+ROUNDDOWN(H40*0.9,-3) -> 564000 | J40: =+H40-I40 -> 63476
E41: รวม | H41: =SUM(H39:H40) -> 693574.2 | I41: =SUM(I39:I40) -> 623000 | J41: =SUM(J39:J40) -> 70574.2 | K41: =+I41/$H$60*100 -> 7.9381299 | L41: 110
A42: =+A39+1 -> 13 | B42: =+B6 -> งานดิน | C42: =+C6 -> ได้ | D42: =+D6 -> งานขุดรื้อพื้นทางหินคลุกเดิมแล้วบดทับ | E42: ที่เหลือทั้งหมด | I42: =SUM(J42:J44) -> 239021.2 | J42: =+J6+J9+J15+J12 -> 24680
A43: สุดท้าย | D43: =+D7 -> หินคลุกบดอัดแน่น | E43: ที่เหลือทั้งหมด | J43: =+J7+J10+J16+J13 -> 194945.2
D44: =+ปร.4_Roads!C18 -> Deep Patch | E44: ที่เหลือทั้งหมด | J44: =+ปร.4_Roads!M18 -> 19396
D45: =+D18 -> งาน Prime Coat | E45: ที่เหลือทั้งหมด | J45: =+J18+J21+J24+J27+J30+J33+J36+J39 -> 56785.6
D46: =+D19 -> Aspaltic Concreat | E46: ที่เหลือทั้งหมด | J46: =+J19+J22+J25+J28+J31+J34+J37+J40 -> 507808
B47: งานที่ปรับราคาไม่ได้ | C47: ไม่ได้ | D47: งานเครื่องหมายจราจร
D48: =+ปร.4_Roads!C35 -> สีเทอร์โมพลาสติก เส้นกว้าง 0.10 ม.( 3 เส้น) | E48: =+ปร.4_Roads!E35 -> 245 | F48: ตร.ม. | G48: =+ปร.4_Roads!L35 -> 396.3 | I48: =SUM(J48:J57) -> 117581.3 | J48: =+G48*E48 -> 97093.5
D49: =+ปร.4_Roads!C37 -> Rumble Strip | E49: =+ปร.4_Roads!E37 -> 0 | F49: ตร.ม. | G49: =+ปร.4_Roads!L37 -> 0 | J49: =+G49*E49 -> 0
D50: ติดตั้งใหม่
D51: =+ปร.4_Roads!D54 -> ป้ายจราจรแบบ ต 1 - ต 27,ต 31 - ต 60,ต 75 | E51: =+ปร.4_Roads!E54 -> 0 | F51: =+ปร.4_Roads!F51 -> ชุด | G51: =+ปร.4_Roads!L54 -> 0 | J51: =+G51*E51 -> 0
D52: =+ปร.4_Roads!D77 -> ป้ายจราจรแบบ น 1 | E52: =+ปร.4_Roads!E77 -> 0 | F52: =+ปร.4_Roads!F47 -> ชุด | G52: =+ปร.4_Roads!L77 -> 0 | J52: =+G52*E52 -> 0
D53: =+ปร.4_Roads!D113 -> ป้าย กม. ขนาด 80 X 40 จร.121/56(หน้าเดียว) | E53: =+ปร.4_Roads!E113 -> 1 | F53: =+ปร.4_Roads!F64 -> ชุด | G53: =+ปร.4_Roads!L113 -> 5292.8 | J53: =+G53*E53 -> 5292.8
D54: =+ปร.4_Roads!D111 -> หลักนำโค้ง ค.ส.ล. | E54: =+ปร.4_Roads!E111 -> 0 | F54: =+ปร.4_Roads!F51 -> ชุด | G54: =+ปร.4_Roads!L111 -> 0 | J54: =+G54*E54 -> 0
D55: =+ปร.4_Roads!D112 -> หลักกิโลเมตร | E55: =+ปร.4_Roads!E112 -> 0 | F55: =+ปร.4_Roads!F112 -> หลัก | G55: =+ปร.4_Roads!L112 -> 0 | J55: =+G55*E55 -> 0
D56: =+ปร.4_Roads!D130 -> ค่าเช่าป้ายจราจรระหว่างการก่อสร้าง | E56: =+ปร.4_Roads!E130 -> 1 | F56: =+ปร.4_Roads!F130 -> โครงการ | G56: =+ปร.4_Roads!L130 -> 15195 | J56: =+G56*E56 -> 15195
D57: =+ปร.5_Roads!B20 -> ประเภทงานทั่วไป | E57: 1 | F57: โครงการ | G57: =+ปร.5_Roads!I20 -> 0 | J57: =+G57*E57 -> 0
D58: =+ปร.4_Roads!D132 -> ตัดหญ้าสองข้างทาง | E58: =+ปร.4_Roads!E132 -> 0 | F58: =+ปร.4_Roads!F132 -> ตร.ม. | G58: =+ปร.4_Roads!L132 -> 0 | J58: =+G58*E58 -> 0
E59: รวม | H59: =SUM(H48:H57) -> 0 | J59: =SUM(J42:J58) -> 921196.1 | K59: =+J59/$H$60*100 -> 11.737679 | L59: 120
D60: =+"รวม "&A42&" งวด เป็นเงินทั้งหมด" -> รวม 13 งวด เป็นเงินทั้งหมด | H60: =+J59+I32+I29+I26+I23+I20+I17+I14+I11+I8+I35+I38+I41 -> 7848196.1 | K60: =SUM(K6:K59) -> 100
D62: ผู้แบ่งงวดงาน...................................................... | I62: ตรวจสอบ.......................................................
D63: =+ปร.5_Roads!H31 -> ( นายวัลลภ มูสิกะเจริญ ) | I63: =+ปร.5_Roads!H39 -> ( นายวโรภาส แสงพายัพ )
D64: =+ปร.5_Roads!H32 -> นายช่างโยธาชำนาญงาน | I64: =+ปร.5_Roads!H40 -> ผู้อำนวยการส่วนบูรณะ

Sheet งวดงานจริง
A1: รายละเอียดงวดงาน
A3: ชื่องาน | D3: บูรณะทางหลวงชนบทสายหลัก
A4: ชื่อสายทาง | D4: สาย | E4: =+แหล่งวัสดุ!C5 -> ปน.4031 | G4: =+แหล่งวัสดุ!F5 -> แยกทางหลวงหมายเลข 4157-บ้านปาตา
A5: ที่ตั้ง | D5: =+แหล่งวัสดุ!C6 -> อำเภอ ปะนาเระ,ยะหริ่ง จังหวัด ปัตตานี
A6: ลักษณะงาน | D6: =+'NO DELETE'!AB34 -> ซ่อมสร้างผิวทาง Asphaltic Concrete
D7: ผิวจราจรกว้าง | F7: =+ปร.5_Roads!I8 -> 6 | H7: เมตร | I7: ไหล่ทางกว้างข้างละ | M7: =+ปร.5_Roads!I9 -> 0.00 - 1.00 | P7: เมตร
D8: ระยะทาง | F8: =+ปร.5_Roads!E10 -> 1.523 | H8: กิโลเมตร
A9: ระยะเวลาก่อสร้าง | D9: =+งวดงาน!L59 -> 120 | E9: วัน นับถัดจากวันลงนามในสัญญา
A10: ค่าจ้าง | D10: เป็นเงินทั้งสิ้น | F10: =+งวดงาน!H60 -> 7848196.1 | J10: บาท
D11: ="(เงิน"&BAHTTEXT(F10)&")" -> (เงินเจ็ดล้านแปดแสนสี่หมื่นแปดพันหนึ่งร้อยเก้าสิบหกบาทสิบสตางค์)
D12: ซึ่งได้รวมภาษีมูลค่าเพิ่มตลอดจน ภาษีอากรอื่น ๆ และค่าใช้จ่ายทั้งปวงด้วยแล้วโดยถือราคาเหมารวม
D13: เป็นเกณฑ์การจ่ายเงินค่าจ้าง ผู้ว่าจ้างตกลงจ่ายและผู้รับจ้างตกลงรับเงินค่าจ้างเป็น งวด ๆ รวมจำนวน
D14: =+งวดงาน!A42 -> 13 | E14: งวดงาน ตามรายละเอียดดังนี้
D16: ก.งานถนน
A17: งวดงานที่ | B17: 1 | D17: เป็นเงินทั้งสิ้น | F17: =+งวดงาน!#REF! -> #REF! | I17: ="บาท (เงิน"&BAHTTEXT(F17)&")" -> #REF!
D18: เมื่อผู้รับจ้างได้ปฎิบัติงาน
D19: งานที่ปรับราคาได้ประเภทงานดิน
D20: - งาน Pavement In - Place Recycling แล้วเสร็จไม่น้อยกว่า | O20: =+งวดงาน!E6 -> 3000 | Q20: ตร.ม.
D21: (ซึ่งจะแล้วเสร็จภายใน | G21: =+งวดงาน!#REF! -> #REF! | H21: วัน นับถัดจากวันลงนามในสัญญา)
A23: งวดงานที่ | B23: =+B17+1 -> 2 | D23: เป็นเงินทั้งสิ้น | F23: =+งวดงาน!I8 -> 466000 | I23: ="บาท (เงิน"&BAHTTEXT(F23)&")" -> บาท (เงินสี่แสนหกหมื่นหกพันบาทถ้วน)
D24: เมื่อผู้รับจ้างได้ปฎิบัติงาน
D25: งานที่ปรับราคาได้ประเภทงานดิน
D26: - งาน Pavement In - Place Recycling แล้วเสร็จไม่น้อยกว่า | O26: =+งวดงาน!#REF! -> #REF! | Q26: ตร.ม.
D27: (ซึ่งจะแล้วเสร็จภายใน | G27: =+งวดงาน!L8 -> 30 | H27: วัน นับถัดจากวันลงนามในสัญญา)
A29: งวดงานที่ | B29: =+B23+1 -> 3 | D29: เป็นเงินทั้งสิ้น | F29: =+งวดงาน!#REF! -> #REF! | I29: ="บาท (เงิน"&BAHTTEXT(F29)&")" -> #REF!
D30: เมื่อผู้รับจ้างได้ปฎิบัติงาน
D31: งานที่ปรับราคาได้ประเภทงานดิน
D32: - งาน Pavement In - Place Recycling แล้วเสร็จไม่น้อยกว่า | O32: =+งวดงาน!E9 -> 3000 | Q32: ตร.ม.
D33: (ซึ่งจะแล้วเสร็จภายใน | G33: =+งวดงาน!#REF! -> #REF! | H33: วัน นับถัดจากวันลงนามในสัญญา)
A35: งวดงานที่ | B35: =+B29+1 -> 4 | D35: เป็นเงินทั้งสิ้น | F35: =+งวดงาน!I17 -> 545000 | I35: ="บาท (เงิน"&BAHTTEXT(F35)&")" -> บาท (เงินห้าแสนสี่หมื่นห้าพันบาทถ้วน)
D36: เมื่อผู้รับจ้างได้ปฎิบัติงาน
D37: งานที่ปรับราคาได้ประเภทงานดิน
D38: - งาน Pavement In - Place Recycling แล้วเสร็จไม่น้อยกว่า | O38: =+งวดงาน!E15 -> 3184 | Q38: ตร.ม.
D39: (ซึ่งจะแล้วเสร็จภายใน | G39: =+งวดงาน!L17 -> 60 | H39: วัน นับถัดจากวันลงนามในสัญญา)
A41: งวดงานที่ | B41: =+B35+1 -> 5 | D41: เป็นเงินทั้งสิ้น | F41: =+งวดงาน!#REF! -> #REF! | I41: ="บาท (เงิน"&BAHTTEXT(F41)&")" -> #REF!
D42: เมื่อผู้รับจ้างได้ปฎิบัติงาน
D43: งานที่ปรับราคาได้ประเภทงานดิน
D44: - งาน Pavement In - Place Recycling แล้วเสร็จไม่น้อยกว่า | O44: =+งวดงาน!#REF! -> #REF! | Q44: ตร.ม.
D45: (ซึ่งจะแล้วเสร็จภายใน | G45: =+งวดงาน!#REF! -> #REF! | H45: วัน นับถัดจากวันลงนามในสัญญา)
A47: งวดงานที่ | B47: =+B41+1 -> 6 | D47: เป็นเงินทั้งสิ้น | F47: =+F50+F53 -> #REF! | I47: ="บาท (เงิน"&BAHTTEXT(F47)&")" -> #REF!
D48: เมื่อผู้รับจ้างได้ปฎิบัติงาน
D49: 1.งานที่ปรับราคาได้ประเภทงาน Prime Coat
D50: เป็นเงิน | F50: =+งวดงาน!#REF! -> #REF! | I50: ="บาท (เงิน"&BAHTTEXT(F50)&")" -> #REF!
D51: - งาน Prime Coat แล้วเสร็จไม่น้อยกว่า | J51: =+งวดงาน!#REF! -> #REF! | L51: ตารางเมตร
D52: 2.งานที่ปรับราคาได้ประเภทงาน Asphaltic Concrete
D53: เป็นเงิน | F53: =+งวดงาน!#REF! -> #REF! | I53: ="บาท (เงิน"&BAHTTEXT(F53)&")" -> #REF!
D54: - งาน Asphaltic Concrete แล้วเสร็จไม่น้อยกว่า | L54: =+งวดงาน!#REF! -> #REF! | N54: ตารางเมตร
D55: (ซึ่งจะแล้วเสร็จภายใน | G55: =+งวดงาน!#REF! -> #REF! | H55: วัน นับถัดจากวันลงนามในสัญญา)
A57: งวดงานที่ | B57: =+B47+1 -> 7 | D57: เป็นเงินทั้งสิ้น | F57: =+F60+F63 -> #REF! | I57: ="บาท (เงิน"&BAHTTEXT(F57)&")" -> #REF!
D58: เมื่อผู้รับจ้างได้ปฎิบัติงาน
D59: 1.งานที่ปรับราคาได้ประเภทงาน Prime Coat
D60: เป็นเงิน | F60: =+งวดงาน!#REF! -> #REF! | I60: ="บาท (เงิน"&BAHTTEXT(F60)&")" -> #REF!
D61: - งาน Prime Coat แล้วเสร็จไม่น้อยกว่า | J61: =+งวดงาน!#REF! -> #REF! | L61: ตารางเมตร
D62: 2.งานที่ปรับราคาได้ประเภทงาน Asphaltic Concrete
D63: เป็นเงิน | F63: =+งวดงาน!#REF! -> #REF! | I63: ="บาท (เงิน"&BAHTTEXT(F63)&")" -> #REF!
D64: - งาน Asphaltic Concrete แล้วเสร็จไม่น้อยกว่า | L64: =+งวดงาน!#REF! -> #REF! | N64: ตารางเมตร
D65: (ซึ่งจะแล้วเสร็จภายใน | G65: =+งวดงาน!#REF! -> #REF! | H65: วัน นับถัดจากวันลงนามในสัญญา)
A67: งวดงานที่ | B67: =+B57+1 -> 8 | D67: เป็นเงินทั้งสิ้น | F67: =+F70+F73 -> #REF! | I67: ="บาท (เงิน"&BAHTTEXT(F67)&")" -> #REF!
D68: เมื่อผู้รับจ้างได้ปฎิบัติงาน
D69: 1.งานที่ปรับราคาได้ประเภทงาน Prime Coat
D70: เป็นเงิน | F70: =+งวดงาน!#REF! -> #REF! | I70: ="บาท (เงิน"&BAHTTEXT(F70)&")" -> #REF!
D71: - งาน Prime Coat แล้วเสร็จไม่น้อยกว่า | J71: =+งวดงาน!#REF! -> #REF! | L71: ตารางเมตร
D72: 2.งานที่ปรับราคาได้ประเภทงาน Asphaltic Concrete
D73: เป็นเงิน | F73: =+งวดงาน!#REF! -> #REF! | I73: ="บาท (เงิน"&BAHTTEXT(F73)&")" -> #REF!
D74: - งาน Asphaltic Concrete แล้วเสร็จไม่น้อยกว่า | L74: =+งวดงาน!#REF! -> #REF! | N74: ตารางเมตร
D75: (ซึ่งจะแล้วเสร็จภายใน | G75: =+งวดงาน!#REF! -> #REF! | H75: วัน นับถัดจากวันลงนามในสัญญา)
A77: งวดงานที่ | B77: =+B67+1 -> 9 | D77: เป็นเงินทั้งสิ้น | F77: =+F80+F83 -> #REF! | I77: ="บาท (เงิน"&BAHTTEXT(F77)&")" -> #REF!
D78: เมื่อผู้รับจ้างได้ปฎิบัติงาน
D79: 1.งานที่ปรับราคาได้ประเภทงาน Prime Coat
D80: เป็นเงิน | F80: =+งวดงาน!#REF! -> #REF! | I80: ="บาท (เงิน"&BAHTTEXT(F80)&")" -> #REF!
D81: - งาน Prime Coat แล้วเสร็จไม่น้อยกว่า | J81: =+งวดงาน!#REF! -> #REF! | L81: ตารางเมตร
D82: 2.งานที่ปรับราคาได้ประเภทงาน Asphaltic Concrete
D83: เป็นเงิน | F83: =+งวดงาน!#REF! -> #REF! | I83: ="บาท (เงิน"&BAHTTEXT(F83)&")" -> #REF!
D84: - งาน Asphaltic Concrete แล้วเสร็จไม่น้อยกว่า | L84: =+งวดงาน!#REF! -> #REF! | N84: ตารางเมตร
D85: (ซึ่งจะแล้วเสร็จภายใน | G85: =+งวดงาน!#REF! -> #REF! | H85: วัน นับถัดจากวันลงนามในสัญญา)
A87: งวดงานที่ | B87: =+B77+1 -> 10 | D87: เป็นเงินทั้งสิ้น | F87: =+F90+F93 -> #REF! | I87: ="บาท (เงิน"&BAHTTEXT(F87)&")" -> #REF!
D88: เมื่อผู้รับจ้างได้ปฎิบัติงาน
D89: 1.งานที่ปรับราคาได้ประเภทงาน Prime Coat
D90: เป็นเงิน | F90: =+งวดงาน!#REF! -> #REF! | I90: ="บาท (เงิน"&BAHTTEXT(F90)&")" -> #REF!
D91: - งาน Prime Coat แล้วเสร็จไม่น้อยกว่า | J91: =+งวดงาน!#REF! -> #REF! | L91: ตารางเมตร
D92: 2.งานที่ปรับราคาได้ประเภทงาน Asphaltic Concrete
D93: เป็นเงิน | F93: =+งวดงาน!#REF! -> #REF! | I93: ="บาท (เงิน"&BAHTTEXT(F93)&")" -> #REF!
D94: - งาน Asphaltic Concrete แล้วเสร็จไม่น้อยกว่า | L94: =+งวดงาน!#REF! -> #REF! | N94: ตารางเมตร
D95: (ซึ่งจะแล้วเสร็จภายใน | G95: =+งวดงาน!#REF! -> #REF! | H95: วัน นับถัดจากวันลงนามในสัญญา)
A97: งวดงานที่ | B97: =+B87+1 -> 11 | D97: เป็นเงินทั้งสิ้น | F97: =+F100+F103 -> #REF! | I97: ="บาท (เงิน"&BAHTTEXT(F97)&")" -> #REF!
D98: เมื่อผู้รับจ้างได้ปฎิบัติงาน
D99: 1.งานที่ปรับราคาได้ประเภทงาน Prime Coat
D100: เป็นเงิน | F100: =+งวดงาน!#REF! -> #REF! | I100: ="บาท (เงิน"&BAHTTEXT(F100)&")" -> #REF!
D101: - งาน Prime Coat แล้วเสร็จไม่น้อยกว่า | J101: =+งวดงาน!#REF! -> #REF! | L101: ตารางเมตร
D102: 2.งานที่ปรับราคาได้ประเภทงาน Asphaltic Concrete
D103: เป็นเงิน | F103: =+งวดงาน!#REF! -> #REF! | I103: ="บาท (เงิน"&BAHTTEXT(F103)&")" -> #REF!
D104: - งาน Asphaltic Concrete แล้วเสร็จไม่น้อยกว่า | L104: =+งวดงาน!#REF! -> #REF! | N104: ตารางเมตร
D105: (ซึ่งจะแล้วเสร็จภายใน | G105: =+งวดงาน!#REF! -> #REF! | H105: วัน นับถัดจากวันลงนามในสัญญา)
A107: งวดงานที่ | B107: =+B97+1 -> 12 | D107: เป็นเงินทั้งสิ้น | F107: =+F110+F113 -> #REF! | I107: ="บาท (เงิน"&BAHTTEXT(F107)&")" -> #REF!
D108: เมื่อผู้รับจ้างได้ปฎิบัติงาน
D109: 1.งานที่ปรับราคาได้ประเภทงาน Prime Coat
D110: เป็นเงิน | F110: =+งวดงาน!#REF! -> #REF! | I110: ="บาท (เงิน"&BAHTTEXT(F110)&")" -> #REF!
D111: - งาน Prime Coat แล้วเสร็จไม่น้อยกว่า | J111: =+งวดงาน!#REF! -> #REF! | L111: ตารางเมตร
D112: 2.งานที่ปรับราคาได้ประเภทงาน Asphaltic Concrete
D113: เป็นเงิน | F113: =+งวดงาน!#REF! -> #REF! | I113: ="บาท (เงิน"&BAHTTEXT(F113)&")" -> #REF!
...

Sheet BackupAC
A1: =ปร.5_Roads!C4 -> บำรุงพิเศษ ซ่อมสร้างผิวทาง Asphaltic Concrete
B2: =+ปร.5_Roads!C6 -> ปน.4031 | C2: =+ปร.5_Roads!F6 -> แยกทางหลวงหมายเลข 4157-บ้านปาตา | H2: =+ปร.5_Roads!C7 -> อำเภอ ปะนาเระ,ยะหริ่ง จังหวัด ปัตตานี
C3: ลักษณะความกว้างพื้นผิวจราจร | F3: =+'NO DELETE'!AB4 -> ไม่มี WIDENING
A4: วิธีที่ 1 OVERLAY
A5: กม. ถึง กม. | C5: ผิวทาง | D5: ไหล่ทาง | E5: ระยะทาง | F5: หักสะพานยาว (เมตร) | G5: พื้นที่ผิวทาง | H5: พื้นที่ไหล่ทาง | I5: เสริมหิน | J5: ปริมาตร
C6: กว้าง(ม.) | D6: กว้าง(ม.) | E6: (เมตร) | G6: (ตรม.) | H6: (ตรม.) | I6: (เมตร.) | J6: หินคลุก(ลบ.ม.) | M6: หินทิ้ง
E7: =(B7-A7) -> 0 | F7: 0 | G7: =IF(E7>0,IF('NO DELETE'!$AA$4=1,(E7-F7)*C7*1.01,(E7-F7)*C7*1),) -> 0 | H7: =IF(D7>0,(E7-F7)*(D7*2),"")
E8: =(B8-A8) -> 0 | F8: 0 | G8: =IF(E8>0,IF('NO DELETE'!$AA$4=1,(E8-F8)*C8*1.01,(E8-F8)*C8*1),) -> 0 | H8: =IF(D8>0,(E8-F8)*(D8*2),"")
E9: =(B9-A9) -> 0 | F9: 0 | G9: =IF(E9>0,IF('NO DELETE'!$AA$4=1,(E9-F9)*C9*1.01,(E9-F9)*C9*1),) -> 0 | H9: =IF(D9>0,(E9-F9)*(D9*2),"")
E10: =(B10-A10) -> 0 | F10: 0 | G10: =IF(E10>0,IF('NO DELETE'!$AA$4=1,(E10-F10)*C10*1.01,(E10-F10)*C10*1),) -> 0 | H10: =IF(D10>0,(E10-F10)*(D10*2),"")
E11: =(B11-A11) -> 0 | F11: 0 | G11: =IF(E11>0,IF('NO DELETE'!$AA$4=1,(E11-F11)*C11*1.01,(E11-F11)*C11*1),) -> 0 | H11: =IF(D11>0,(E11-F11)*(D11*2),"")
E12: =(B12-A12) -> 0 | F12: 0 | G12: =IF(E12>0,IF('NO DELETE'!$AA$4=1,(E12-F12)*C12*1.01,(E12-F12)*C12*1),) -> 0 | H12: =IF(D12>0,(E12-F12)*(D12*2),"")
A13: รวม | E13: =SUM(E7:E12) -> 0 | F13: =SUM(F7:F12) -> 0 | G13: =ROUNDUP(SUM(G7:G12),) -> 0 | H13: =ROUNDUP(SUM(H7:H12),) -> 0 | M13: =SUM(M7:M12) -> 0
A15: วิธีที่ 2 ซ่อมสร้างผิวทาง ASPHALTIC CONCRETE
A16: กม. ถึง กม. | C16: ผิวทาง | D16: ไหล่ทาง | E16: ระยะทาง | F16: หักสะพานยาว (เมตร) | G16: พื้นที่ผิวทาง | H16: พื้นที่ไหล่ทาง | I16: เสริมหิน | J16: ปริมาตร
C17: กว้าง(ม.) | D17: กว้าง(ม.) | E17: (เมตร) | G17: (ตรม.) | H17: (ตรม.) | I17: (เมตร.) | J17: หินคลุก(ลบ.ม.)
A18: 3437 | B18: 4960 | C18: 6 | D18: 1 | E18: =(B18-A18) -> 1523 | F18: 0 | G18: =IF(E18>0,IF('NO DELETE'!$AA$4=1,(E18-F18)*C18*1.01,(E18-F18)*C18*1),) -> 9138 | H18: =IF(D18>0,(E18-F18)*(D18*2),"") -> 3046 | I18: 0.12 | J18: =IF(I18>0,(G18*I18+(0.5*(D18+D18+I18*2)*I18*(E18-F18))*2),0) -> 1505.9424
E19: =(B19-A19) -> 0 | F19: 0 | G19: =IF(E19>0,IF('NO DELETE'!$AA$4=1,(E19-F19)*C19*1.01,(E19-F19)*C19*1),) -> 0 | H19: =IF(D19>0,(E19-F19)*(D19*2),"") | J19: =IF(I19>0,(G19*I19+(0.5*(D19+D19+I19*2)*I19*(E19-F19))*2),0) -> 0
E20: =(B20-A20) -> 0 | F20: 0 | G20: =IF(E20>0,IF('NO DELETE'!$AA$4=1,(E20-F20)*C20*1.01,(E20-F20)*C20*1),) -> 0 | H20: =IF(D20>0,(E20-F20)*(D20*2),"") | J20: =IF(I20>0,(G20*I20+(0.5*(D20+D20+I20*2)*I20*(E20-F20))*2),0) -> 0
E21: =(B21-A21) -> 0 | F21: 0 | G21: =IF(E21>0,IF('NO DELETE'!$AA$4=1,(E21-F21)*C21*1.01,(E21-F21)*C21*1),) -> 0 | H21: =IF(D21>0,(E21-F21)*(D21*2),"") | J21: =IF(I21>0,(G21*I21+(0.5*(D21+D21+I21*2)*I21*(E21-F21))*2),0) -> 0
E22: =(B22-A22) -> 0 | F22: 0 | G22: =IF(E22>0,IF('NO DELETE'!$AA$4=1,(E22-F22)*C22*1.01,(E22-F22)*C22*1),) -> 0 | H22: =IF(D22>0,(E22-F22)*(D22*2),"") | J22: =IF(I22>0,(G22*I22+(0.5*(D22+D22+I22*2)*I22*(E22-F22))*2),0) -> 0
A23: รวม | E23: =ROUND(SUM(E18:E22),) -> 1523 | F23: =ROUND(SUM(F18:F22),) -> 0 | G23: =ROUND(SUM(G18:G22),) -> 9138 | H23: =ROUND(SUM(H18:H22),) -> 3046 | J23: =ROUND(SUM(J18:J22),) -> 1506 | L23: =+G23+H23 -> 12184
A25: วิธีที่ 3 ซ่อมสร้างผิวทาง ASPHALTIC CONCRETE - PAVEMENT IN - PLACE RECYCLING
A26: กม. ถึง กม. | C26: ผิวทาง | D26: ไหล่ทาง | E26: ระยะทาง | F26: หักสะพานยาว (เมตร) | G26: พื้นที่ผิวทาง | H26: พื้นที่ไหล่ทาง | I26: หินคลุกปรับระดับ | J26: ปริมาตร
C27: กว้าง(ม.) | D27: กว้าง(ม.) | E27: (เมตร) | G27: (ตรม.) | H27: (ตรม.) | J27: หินคลุก(หลวม)
E28: =(B28-A28) -> 0 | F28: 0 | G28: =IF(E28>0,IF('NO DELETE'!$AA$4=1,(E28-F28)*C28*1.01,(E28-F28)*C28*1),) -> 0 | H28: =IF(D28>0,(E28-F28)*(D28*2),"") | J28: =IF(I28>0,(G28*I28+(0.5*(D28+D28+I28*2)*I28*(E28-F28))*2),0) -> 0
E29: =(B29-A29) -> 0 | F29: 0 | G29: =IF(E29>0,IF('NO DELETE'!$AA$4=1,(E29-F29)*C29*1.01,(E29-F29)*C29*1),) -> 0 | H29: =IF(D29>0,(E29-F29)*(D29*2),"") | J29: =IF(I29>0,(G29*I29+(0.5*(D29+D29+I29*2)*I29*(E29-F29))*2),0) -> 0
E30: =(B30-A30) -> 0 | F30: 0 | G30: =IF(E30>0,IF('NO DELETE'!$AA$4=1,(E30-F30)*C30*1.01,(E30-F30)*C30*1),) -> 0 | H30: =IF(D30>0,(E30-F30)*(D30*2),"") | J30: =IF(I30>0,(G30*I30+(0.5*(D30+D30+I30*2)*I30*(E30-F30))*2),0) -> 0
E31: =(B31-A31) -> 0 | F31: 0 | G31: =IF(E31>0,IF('NO DELETE'!$AA$4=1,(E31-F31)*C31*1.01,(E31-F31)*C31*1),) -> 0 | H31: =IF(D31>0,(E31-F31)*(D31*2),"") | J31: =IF(I31>0,(G31*I31+(0.5*(D31+D31+I31*2)*I31*(E31-F31))*2),0) -> 0
E32: =(B32-A32) -> 0 | F32: 0 | G32: =IF(E32>0,IF('NO DELETE'!$AA$4=1,(E32-F32)*C32*1.01,(E32-F32)*C32*1),) -> 0 | H32: =IF(D32>0,(E32-F32)*(D32*2),"") | J32: =IF(I32>0,(G32*I32+(0.5*(D32+D32+I32*2)*I32*(E32-F32))*2),0) -> 0
E33: =(B33-A33) -> 0 | F33: 0 | G33: =IF(E33>0,IF('NO DELETE'!$AA$4=1,(E33-F33)*C33*1.01,(E33-F33)*C33*1),) -> 0 | H33: =IF(D33>0,(E33-F33)*(D33*2),"") | J33: =IF(I33>0,(G33*I33+(0.5*(D33+D33+I33*2)*I33*(E33-F33))*2),0) -> 0
A34: รวม | E34: =ROUND(SUM(E28:E33),) -> 0 | F34: =ROUND(SUM(F28:F33),) -> 0 | G34: =ROUND(SUM(G28:G33),) -> 0 | H34: =ROUND(SUM(H28:H33),) -> 0 | J34: =ROUND(SUM(J28:J33),) -> 0
D36: ระยะทางรวมทั้งหมด | F36: =+(E34+E23+E13)/1000-(F34/1000) -> 1.523 | H36: กิโลเมตร
A38: กรณี ขยายไหล่ทางลูกรัง
A39: กม. ถึง กม. | C39: ระยะทาง | D39: หักสะพานยาว (เมตร) | E39: ขยายไหล่ทาง กว้าง(ม.) | F39: เสริมหินคลุกหนา(ม.) | G39: เสริมลูกรัง หนา(ม.) | H39: หน้าตัดดินถมเฉลี่ย(ม.) | I39: ปริมาตร | J39: ปริมาตร | K39: จำนวนด้านที่ขยาย
C40: (เมตร) | I40: ลูกรัง(ลบ.ม.) | J40: ดินถม(ลบ.ม.)
C41: =(B41-A41) -> 0 | I41: =0.5*((E41+2*F41)+(E41+2*F41+2*G41))*G41*C41*K41 -> 0 | J41: =+H41*C41*K41 -> 0 | K41: 2
C42: =(B42-A42) -> 0 | I42: =0.5*((E42+2*F42)+(E42+2*F42+2*G42))*G42*C42*K42 -> 0 | J42: =0.5*((E42+2*(F42+G42+H42)+E42+2*(F42+G42))*H42*K42)*(C42-D42) -> 0
C43: =(B43-A43) -> 0 | I43: =0.5*((E43+2*F43)+(E43+2*F43+2*G43))*G43*C43*K43 -> 0 | J43: =0.5*((E43+2*(F43+G43+H43)+E43+2*(F43+G43))*H43*K43)*(C43-D43) -> 0
C44: =(B44-A44) -> 0 | I44: =0.5*((E44+2*F44)+(E44+2*F44+2*G44))*G44*C44*K44 -> 0 | J44: =0.5*((E44+2*(F44+G44+H44)+E44+2*(F44+G44))*H44*K44)*(C44-D44) -> 0
C45: =(B45-A45) -> 0 | I45: =0.5*((E45+2*F45)+(E45+2*F45+2*G45))*G45*C45*K45 -> 0 | J45: =0.5*((E45+2*(F45+G45+H45)+E45+2*(F45+G45))*H45*K45)*(C45-D45) -> 0
I46: =ROUNDDOWN(SUM(I41:I45),) -> 0 | J46: =ROUNDDOWN(SUM(J41:J45),) -> 0
A48: =A1 -> บำรุงพิเศษ ซ่อมสร้างผิวทาง Asphaltic Concrete
B49: =B2 -> ปน.4031 | C49: =C2 -> แยกทางหลวงหมายเลข 4157-บ้านปาตา | H49: =H2 -> อำเภอ ปะนาเระ,ยะหริ่ง จังหวัด ปัตตานี
A64: CONCRETE SLOPE PROTECTION
A65: จุดที่ | B65: กม.ที่ ถึง | C65: กม.ที่ | D65: ความยาว | E65: ความชันของ SLOPE | H65: ความยาว SLOP(ม.) | I65: พื้นที่ | J65: Right/Left
E66: High | F66: ความลาด
A67: 1 | B67: 0 | C67: 1000 | D67: =+C67-B67 -> 1000 | E67: 3.5 | F67: 1 | G67: 1.5 | H67: =+ROUND(SQRT(E67^2+(G67*E67)^2),2) -> 6.31 | I67: =+SQRT(E67^2+(E67*G67)^2)*D67 -> 6309.7147 | J67: R
A68: 2 | D68: =+C68-B68 -> 0 | E68: 2 | F68: 1 | G68: 1.5 | H68: =+ROUND(SQRT(E68^2+(G68*E68)^2),2) -> 3.61 | I68: =+SQRT(E68^2+(E68*G68)^2)*D68 -> 0 | J68: L
A69: 3 | D69: =+C69-B69 -> 0 | H69: =+ROUND(SQRT(E69^2+(G69*E69)^2),2) -> 0 | I69: =+SQRT(E69^2+(E69*G69)^2)*D69 -> 0
A70: 4 | D70: =+C70-B70 -> 0 | H70: =+ROUND(SQRT(E70^2+(G70*E70)^2),2) -> 0 | I70: =+SQRT(E70^2+(E70*G70)^2)*D70 -> 0
A71: 5 | D71: =+C71-B71 -> 0 | H71: =+ROUND(SQRT(E71^2+(G71*E71)^2),2) -> 0 | I71: =+SQRT(E71^2+(E71*G71)^2)*D71 -> 0
A72: 6 | D72: =+C72-B72 -> 0 | H72: =+ROUND(SQRT(E72^2+(G72*E72)^2),2) -> 0 | I72: =+SQRT(E72^2+(E72*G72)^2)*D72 -> 0
D73: =ROUND(SUM(D67:D72),) -> 1000 | I73: =ROUND(SUM(I67:I72),) -> 6310
A82: รางระบายน้ำ | L82: เหล็ก Wire mash
A83: ท้องรางกว้าง | B83: ลึก | C83: ยาว | D83: คอนกรีต | E83: ไม้แบบ | F83: RB 24 Ø 6 mm. | J83: นน.เหล็ก
A84: (ม.) | B84: (ม.) | C84: (ม.) | D84: (ม.3) | E84: (ม.2) | F84: L | G84: NO. | H84: L | I84: NO. | J84: ( กก.)
A85: 0.5 | B85: 0.5 | C85: 1 | D85: =ROUND((SQRT((B85^2+B85^2))+A85+SQRT((1^2+0.5^2)))*0.07,3) -> 0.163 | E85: =F85*0.07 -> 0.16275 | F85: =ROUND((SQRT((B85^2+B85^2))+A85+SQRT((1^2+0.5^2))),3) -> 2.325 | G85: 6 | H85: 1 | I85: =ROUND(10+(A85/0.2),) -> 13 | J85: =ROUND((F85*G85+H85*I85)*0.222,3) -> 5.983 | L85: 1
A87: ตำแหน่งรางระบายน้ำ | G87: ตำแหน่ง คันหิน
A88: STA | B88: TO | C88: STA. | D88: LONG | E88: AREA | G88: STA | H88: TO | I88: STA. | J88: LONG
A90: 0 | B90: - | C90: 1000 | D90: =+C90-A90 -> 1000 | E90: =+D90*$F$85 -> 2325 | F90: RT | H90: - | J90: =+I90-G90 -> 0 | K90: RT
B91: - | D91: =+C91-A91 -> 0 | E91: =+D91*$F$85 -> 0 | F91: LT | H91: - | J91: =+I91-G91 -> 0 | K91: RT
B92: - | D92: =+C92-A92 -> 0 | E92: =+D92*$F$85 -> 0 | F92: RT | H92: - | J92: =+I92-G92 -> 0 | K92: LT
B93: - | D93: =+C93-A93 -> 0 | E93: =+D93*$F$85 -> 0 | F93: LT | H93: - | J93: =+I93-G93 -> 0 | K93: RT
B94: - | D94: =+C94-A94 -> 0 | E94: =+D94*$F$85 -> 0 | F94: LT | J94: =+I94-G94 -> 0 | K94: RT
B97: - | H97: -
B98: - | H98: -
A99: รวม | D99: =SUM(D90:D98) -> 1000 | E99: =ROUND(SUM(E90:E98),) -> 2325 | G99: รวม | J99: =SUM(J90:J98) -> 0
G101: ตำแหน่ง Guard Rail
A102: กม. | B102: ซ้ายทาง | C102: ขวาทาง | G102: STA | H102: TO | I102: STA. | J102: LONG
G104: 31075 | I104: 31275 | J104: =+I104-G104 -> 200 | K104: =+J104/4 -> 50 | L104: RT
G105: 31300 | I105: 31420 | J105: =+I105-G105 -> 120 | K105: =+J105/4 -> 30 | L105: RT
H106: - | J106: =+I106-G106 -> 0 | K106: =+J106/4 -> 0 | L106: LT
H107: - | J107: =+I107-G107 -> 0 | K107: =+J107/4 -> 0 | L107: RT
H108: - | J108: =+I108-G108 -> 0 | K108: =+J108/4 -> 0 | L108: RT
J109: =+I109-G109 -> 0 | K109: =+J109/4 -> 0 | L109: RT
J110: =+I110-G110 -> 0 | K110: =+J110/4 -> 0 | L110: RT
J111: =+I111-G111 -> 0 | K111: =+J111/4 -> 0 | L111: LT
J112: =+I112-G112 -> 0 | K112: =+J112/4 -> 0 | L112: RT
J113: =+I113-G113 -> 0 | K113: =+J113/4 -> 0
J114: =+I114-G114 -> 0 | K114: =+J114/4 -> 0
J115: =+I115-G115 -> 0 | K115: =+J115/4 -> 0
J116: =+I116-G116 -> 0 | K116: =+J116/4 -> 0
J117: =+I117-G117 -> 0 | K117: =+J117/4 -> 0
J118: =+I118-G118 -> 0 | K118: =+J118/4 -> 0
G119: รวม | J119: =SUM(J104:J118) -> 320
F121: ท่อ คสล.
F122: 3845 | G122: 1 - 1.00 x 16.00
F123: 3681 | G123: 1 - 1.00 x 16.00
F124: 4883 | G124: 1 - 1.00 x 16.00

Sheet BackupCon
B1: =ปร.5_Roads!C4 -> บำรุงพิเศษ ซ่อมสร้างผิวทาง Asphaltic Concrete
C2: =+ปร.5_Roads!C6 -> ปน.4031 | D2: =+ปร.5_Roads!F6 -> แยกทางหลวงหมายเลข 4157-บ้านปาตา | I2: =+ปร.5_Roads!C7 -> อำเภอ ปะนาเระ,ยะหริ่ง จังหวัด ปัตตานี
B3: ลักษณะความกว้างพื้นผิวจราจร
B4: ผิวทางคอนกรีต
B5: กม. ถึง กม. | D5: ผิวทาง | E5: ระยะทาง | F5: หักสะพานยาว (เมตร) | G5: พื้นที่ผิวทาง | H5: ปริมาณคอนกรีต | I5: ทรายรองพื้นทาง | J5: ลูกรังปิดไหล่ทาง | K5: นน.
D6: กว้าง(ม.) | E6: (เมตร) | G6: (ตรม.) | H6: (ลบ.ม.) | I6: (ลบ.ม.) | J6: (ลบ.ม.) | K6: (ตัน)
B7: 8125 | C7: 9000 | D7: 6 | E7: =(C7-B7) -> 875 | F7: 0 | G7: =IF(E7>0,(E7-F7)*D7*1,) -> 5250 | H7: =+G7*'NO DELETE'!$AZ$8 -> 1050 | I7: =+IF('NO DELETE'!$BE$31=1,BackupCon!G7*0.1*1.1,0) -> 577.5 | J7: =+IF('NO DELETE'!$BE$31=1,(BackupCon!E7*0.5*(+'NO DELETE'!AZ8+0.1)*(+'NO DELETE'!AZ8+0.1)*2)*2,(BackupCon!E7*0.5*(+'NO DELETE'!AZ8)*(+'NO DELETE'!AZ8)*2)*2) -> 157.5 | K7: =+G7*1.32/1000 -> 6.93
E8: =(C8-B8) -> 0 | F8: 0 | G8: =IF(E8>0,(E8-F8)*D8*1,) -> 0 | H8: =+G8*'NO DELETE'!$AZ$8 -> 0 | I8: =+IF('NO DELETE'!$BE$31=1,BackupCon!G8*0.1*1.1,0) -> 0 | J8: =+IF('NO DELETE'!$BE$31=1,(BackupCon!E8*0.5*(+'NO DELETE'!BM27+0.1)*(+'NO DELETE'!BM27+0.1)*2)*2,(BackupCon!E8*0.5*(+'NO DELETE'!BM27)*(+'NO DELETE'!BM27)*2)*2) -> 0 | K8: =+G8*1.32/1000 -> 0
E9: =(C9-B9) -> 0 | F9: 0 | G9: =IF(E9>0,(E9-F9)*D9*1,) -> 0 | H9: =+G9*'NO DELETE'!$AZ$8 -> 0 | I9: =+IF('NO DELETE'!$BE$31=1,BackupCon!G9*0.1*1.1,0) -> 0 | J9: =+IF('NO DELETE'!$BE$31=1,(BackupCon!E9*0.5*(+'NO DELETE'!BM28+0.1)*(+'NO DELETE'!BM28+0.1)*2)*2,(BackupCon!E9*0.5*(+'NO DELETE'!BM28)*(+'NO DELETE'!BM28)*2)*2) -> 0 | K9: =+G9*1.32/1000 -> 0
E10: =(C10-B10) -> 0 | F10: 0 | G10: =IF(E10>0,(E10-F10)*D10*1,) -> 0 | H10: =+G10*'NO DELETE'!$AZ$8 -> 0 | I10: =+IF('NO DELETE'!$BE$31=1,BackupCon!G10*0.1*1.1,0) -> 0 | J10: =+IF('NO DELETE'!$BE$31=1,(BackupCon!E10*0.5*(+'NO DELETE'!BM29+0.1)*(+'NO DELETE'!BM29+0.1)*2)*2,(BackupCon!E10*0.5*(+'NO DELETE'!BM29)*(+'NO DELETE'!BM29)*2)*2) -> 0 | K10: =+G10*1.32/1000 -> 0
E11: =(C11-B11) -> 0 | F11: 0 | G11: =IF(E11>0,(E11-F11)*D11*1,) -> 0 | H11: =+G11*'NO DELETE'!$AZ$8 -> 0 | I11: =+IF('NO DELETE'!$BE$31=1,BackupCon!G11*0.1*1.1,0) -> 0 | J11: =+IF('NO DELETE'!$BE$31=1,(BackupCon!E11*0.5*(+'NO DELETE'!BM30+0.1)*(+'NO DELETE'!BM30+0.1)*2)*2,(BackupCon!E11*0.5*(+'NO DELETE'!BM30)*(+'NO DELETE'!BM30)*2)*2) -> 0 | K11: =+G11*1.32/1000 -> 0
E12: =(C12-B12) -> 0 | F12: 0 | G12: =IF(E12>0,(E12-F12)*D12*1,) -> 0 | H12: =+G12*'NO DELETE'!$AZ$8 -> 0 | I12: =+IF('NO DELETE'!$BE$31=1,BackupCon!G12*0.1*1.1,0) -> 0 | J12: =+IF('NO DELETE'!$BE$31=1,(BackupCon!E12*0.5*(+'NO DELETE'!BM31+0.1)*(+'NO DELETE'!BM31+0.1)*2)*2,(BackupCon!E12*0.5*(+'NO DELETE'!BM31)*(+'NO DELETE'!BM31)*2)*2) -> 0 | K12: =+G12*1.32/1000 -> 0
B13: รวม | E13: =SUM(E7:E12) -> 875 | F13: =SUM(F7:F12) -> 0 | G13: =ROUNDUP(SUM(G7:G12),) -> 5250 | H13: =ROUNDUP(SUM(H7:H12),) -> 1050 | I13: =ROUNDUP(SUM(I7:I12),) -> 578 | J13: =ROUNDUP(SUM(J7:J12),) -> 158 | K13: =ROUNDUP(SUM(K7:K12),) -> 7
B15: Transverse temperature steel | G15: Longitudinal temperature steel
B16: 6 RB 24 | G16: 9 RB 24
B17: ยาว(ม.) | C17: @ | D17: จำนวน | E17: รวม(ม.) | G17: ยาว(ม.) | H17: @ | I17: จำนวน | J17: รวม(ม.)
B18: =+'NO DELETE'!BE8*2 -> 6 | C18: =+VLOOKUP('NO DELETE'!$BD$8,'NO DELETE'!BD13:BF17,3) -> 0.2 | D18: =+ROUND('NO DELETE'!$BE$8/C18+1,)*2 -> 32 | E18: =+D18*B18 -> 192 | G18: 10 | H18: =+'NO DELETE'!BG13 -> 0.2 | I18: =+ROUND('NO DELETE'!$BE$8/H18+1,)*2 -> 32 | J18: =+I18*G18 -> 320
B20: Smooth dowel bars | G20: Deformed tie bar
B21: 25 RB 24 | G21: 12 DB 30
B22: ยาว(ม.) | C22: @ | D22: จำนวน | E22: รวม(ม.) | G22: ยาว(ม.) | H22: @ | I22: จำนวน | J22: รวม(ม.)
B23: 0.5 | C23: 0.3 | D23: =+ROUND('NO DELETE'!$BE$8/C23+1,)*2 -> 22 | E23: =+D23*B23 -> 11 | G23: 0.5 | H23: 0.5 | I23: =+ROUND(10/H23+1,)/2 -> 10.5 | J23: =+I23*G23 -> 5.25
F25: ต่อ 10 เมตร | G25: ทั้งโครงการ | H25: KG. | I25: ไม้แบบ | J25: Wire mash
B26: Transverse temperature steel 6 RB 24 | F26: =+E18*2 -> 384 | G26: =+F26*$F$30*1.1 -> 36960 | H26: =+G26*0.222 -> 8205.12 | I26: =+E13*'NO DELETE'!AZ8*2 -> 350 | J26: =+G13 -> 5250
B27: Longitudinal temperature steel 9 RB 24 | F27: =+J18*2 -> 640 | G27: =+(F27*$F$30-E23)*1.1 -> 61587.9 | H27: =+G27*0.499 -> 30732.362
B28: Smooth dowel bars 25 RB 24 | F28: =+E23*2 -> 22 | G28: =+F28*$F$30*1.1 -> 2117.5 | H28: =+G28*3.85 -> 8152.375
B29: Deformed tie bar 12 DR 30 | F29: =+J23 -> 5.25 | G29: =+F29*$F$30*1.1 -> 505.3125 | H29: =+G29*0.889 -> 449.22281
B30: จำนวน ช่วงทั้งหมด | F30: =+E7/10 -> 87.5 | H30: =SUM(H26:H29) -> 47539.08 | I30: =SUM(I26:I29) -> 350 | J30: =SUM(J26:J29) -> 5250
B31: Joint Sealer | F31: =+'NO DELETE'!BE8*2*0.025*0.025+5*0.01*0.05 -> 0.00625 | G31: =+F31*$F$30 -> 0.546875 | H31: =+F30*2 -> 175 | I31: =+H31/15 -> 11.666667 | J31: =+I31*1000 -> 11666.667
B32: ใช้เหล็ก Wire Meshr | G32: =+G13 -> 5250
B33: แผ่นพลาสติก | F33: =1.2*'NO DELETE'!BE8*2 -> 7.2 | G33: =+F30*F33 -> 630

Sheet ราคากลาง
A1: ="สรุปราคากลางค่า"&'NO DELETE'!P49 -> สรุปราคากลางค่าบำรุงรักษาระบบโครงข่ายทาง
A2: ='1.ต้นทุนถนน AC.'!$B$4 -> สำนักงานทางหลวงชนบทที่ 12(สงขลา) กรมทางหลวงชนบท
H3: =+"วันที่ "&แหล่งวัสดุ!I2&" "&แหล่งวัสดุ!K2&" พ.ศ. "&แหล่งวัสดุ!M2 -> วันที่ 10 พฤศจิกายน พ.ศ. 2558
A4: ประเภทงาน | C4: =+'1.ต้นทุนถนน AC.'!D6 -> บำรุงพิเศษ ซ่อมสร้างผิวทาง Asphaltic Concrete
A5: เจ้าของโครงการ | C5: ='1.ต้นทุนถนน AC.'!$D$7 -> แขวงทางหลวงชนบทสงขลา | I5: ปีงบประมาณ | J5: =+'1.ต้นทุนถนน AC.'!M7 -> 2559
A6: รหัสสายทาง | C6: =+แหล่งวัสดุ!C5 -> ปน.4031 | E6: ชื่อสายทาง | F6: ='1.ต้นทุนถนน AC.'!G8 -> แยกทางหลวงหมายเลข 4157-บ้านปาตา
A7: สถานที่ตั้ง | C7: =+ปร.5_Roads!C7 -> อำเภอ ปะนาเระ,ยะหริ่ง จังหวัด ปัตตานี | H7: ระยะทางตลอดสายทาง | J7: =+'1.ต้นทุนถนน AC.'!I9 -> 12.966 | K7: กิโลเมตร
A8: ลักษณะสายทางเดิม | D8: ชนิดผิวทาง | F8: =+ปร.5_Roads!F8 -> CS | G8: กว้าง | I8: =+ปร.5_Roads!I8 -> 6 | J8: เมตร
D9: ชนิดไหล่ทาง | F9: =+ปร.5_Roads!F9 -> CS | G9: กว้าง | I9: =+ปร.5_Roads!I9 -> 0.00 - 1.00 | J9: เมตร
A10: ปริมาณดำเนินการ | E10: 1 | G10: แห่ง | I10: ผิวทางกว้าง | J10: =+ปร.5_Roads!J10 -> 6.00 - 8.00 | K10: เมตร
C11: วิธีที่ 1 | D11: ช่วง กม. | E11: =+ปร.5_Roads!E11 -> 3437 | F11: ถึง กม. | G11: =+ปร.5_Roads!G11 -> 4960 | H11: ระยะทาง | I11: =+ปร.5_Roads!I11 -> 1.523 | J11: กิโลเมตร
D12: ช่วง กม. | F12: ถึง กม. | H12: ระยะทาง | J12: กิโลเมตร
C13: วิธีที่ 2 | D13: ช่วง กม. | F13: ถึง กม. | H13: ระยะทาง | J13: กิโลเมตร
D14: ช่วง กม. | F14: ถึง กม. | H14: ระยะทาง | J14: กิโลเมตร
A15: ที่ | B15: รายการ | I15: รวมค่างานก่อสร้าง | J15: หมายเหตุ
A16: 1 | B16: ค่างานต้นทุนงานทาง | I16: =+ปร.5_Roads!I18 -> 7547959.3 | J16: Factor F
A17: 2 | B17: =+ปร.5_Roads!B19 -> ค่างานต้นทุนท่อลอดเหลี่ยม | I17: =+ปร.5_Roads!I19 -> 0 | J17: - ดอกเบี้ยเงินกู้ | L17: =แหล่งวัสดุ!$L$25/100 -> 0.07
A18: 3 | B18: =+ปร.5_Roads!B20 -> ประเภทงานทั่วไป | I18: =+ปร.5_Roads!I20 -> 0 | J18: - เงินล่วงหน้าจ่าย | L18: =แหล่งวัสดุ!$L$26/100 -> 0.15
A19: 4 | B19: =+ปร.5_Roads!B21 -> แรงจูงใจการทำงานตามมติคณะรัฐมนตรี | I19: =+ปร.5_Roads!I21 -> 377393.45 | J19: - เงินประกันผลงานหัก | L19: =แหล่งวัสดุ!$L$28/100 -> 0
J20: ="- พื้นที่ ฝนตกชุก " -> - พื้นที่ ฝนตกชุก | K20: =+แหล่งวัสดุ!H4 -> 1
A21: สรุป | B21: รวมเป็นค่าก่อสร้าง | I21: =SUM(I16:I20) -> 7925352.7
B22: คิดเป็นเงินค่าก่อสร้างประมาณ | I22: =+ปร.5_Roads!I24 -> 7920000
B23: ="(เงิน"&BAHTTEXT($I$22)&")" -> (เงินเจ็ดล้านเก้าแสนสองหมื่นบาทถ้วน)
A25: คณะกรรมการกำหนดราคากลาง | H25: เรียน อธิบดีกรมทางหลวงชนบท
H26: ส่วนบูรณะได้ตรวจสอบราคากลางดังกล่าวข้างต้น
B27: (ลงชื่อ)....................................... | E27: ประธานฯ | H27: ตามที่คณะกรรมการกำหนดราคากลางเสนอ
B28: (นางสาวปิญาภา ศรีมณี) | E28: =+ปร.5_Roads!H36 -> วิศวกรโยธาชำนาญการ | H28: จึงเรียนมาเพื่อโปรดพิจารณาให้ความเห็นชอบ
B30: (ลงชื่อ)....................................... | E30: กรรมการฯ | H30: (ลงชื่อ)....................................................
B31: (นายวัลลภ มูสิกะเจริญ) | E31: นายช่างโยธาชำนาญงาน | I31: (นายวโรภาส แสงพายัพ)
H32: ผู้อำนวยการส่วนบูรณะ
B33: (ลงชื่อ)....................................... | E33: กรรมการฯ
B34: (นายศุภวัฒน์ กาญจนรัตน์) | E34: นายช่างโยธาชำนาญงาน
H35: เห็นชอบ
H36: (ลงชื่อ).....................................................
I37: (นายโชค นวลได้ศรี)
I38: ผู้อำนวยการสำนัก รักษาราชการแทน
H39: ผู้อำนวยการสำนักงานทางหลวงชนบทที่ 12 ปฏิบัติราชการแทน
I40: อธิบดีกรมทางหลวงชนบท

Sheet ปร.5_Roads
A1: ="สรุปประมาณราคาค่า"&'NO DELETE'!P49 -> สรุปประมาณราคาค่าบำรุงรักษาระบบโครงข่ายทาง
A2: ='1.ต้นทุนถนน AC.'!$B$4 -> สำนักงานทางหลวงชนบทที่ 12(สงขลา) กรมทางหลวงชนบท
H3: =+'1.ต้นทุนถนน AC.'!J5 -> วันที่ 10 พฤศจิกายน พ.ศ. 2558
A4: ประเภทงาน | C4: =+'1.ต้นทุนถนน AC.'!D6 -> บำรุงพิเศษ ซ่อมสร้างผิวทาง Asphaltic Concrete
A5: เจ้าของโครงการ | C5: ='1.ต้นทุนถนน AC.'!$D$7 -> แขวงทางหลวงชนบทสงขลา | I5: ปีงบประมาณ | J5: =+'1.ต้นทุนถนน AC.'!M7 -> 2559 | M5: =+C6 -> ปน.4031 | N5: =+F6 -> แยกทางหลวงหมายเลข 4157-บ้านปาตา
A6: รหัสสายทาง | C6: =+ราคากลาง!C6 -> ปน.4031 | E6: ชื่อสายทาง | F6: ='1.ต้นทุนถนน AC.'!G8 -> แยกทางหลวงหมายเลข 4157-บ้านปาตา | N6: =+C7 -> อำเภอ ปะนาเระ,ยะหริ่ง จังหวัด ปัตตานี
A7: สถานที่ตั้ง | C7: ='1.ต้นทุนถนน AC.'!$C$9 -> อำเภอ ปะนาเระ,ยะหริ่ง จังหวัด ปัตตานี | H7: ระยะทางตลอดสายทาง | J7: =+'1.ต้นทุนถนน AC.'!I9 -> 12.966 | K7: กิโลเมตร | N7: N | O7: E
A8: ลักษณะสายทางเดิม | D8: ชนิดผิวทาง | F8: CS | G8: กว้าง | I8: 6 | J8: เมตร | M8: เริ่มต้น 1
D9: ชนิดไหล่ทาง | F9: CS | G9: กว้าง | I9: 0.00 - 1.00 | J9: เมตร | M9: สิ้นสุด 1
A10: =++"ระยะทางดำเนินการ" -> ระยะทางดำเนินการ | E10: =SUM(I11:I16) -> 1.523 | G10: กม. | I10: ผิวทางกว้าง | J10: 6.00 - 8.00 | K10: เมตร | M10: เริ่มต้น 2
C11: วิธีที่ 1 | D11: ช่วง กม. | E11: =+BackupAC!A18 -> 3437 | F11: ถึง กม. | G11: =+BackupAC!B18 -> 4960 | H11: ระยะทาง | I11: =+(G11-E11)/1000 -> 1.523 | J11: กิโลเมตร | M11: สิ้นสุด 2
D12: ช่วง กม. | F12: ถึง กม. | H12: ระยะทาง | J12: กิโลเมตร | M12: เริ่มต้น 3
D13: ช่วง กม. | F13: ถึง กม. | H13: ระยะทาง | J13: กิโลเมตร | M13: สิ้นสุด 3
C14: วิธีที่ 2 | D14: ช่วง กม. | F14: ถึง กม. | H14: ระยะทาง | J14: กิโลเมตร
D15: ช่วง กม. | F15: ถึง กม. | H15: ระยะทาง | J15: กิโลเมตร
D16: ช่วง กม. | F16: ถึง กม. | H16: ระยะทาง | J16: กิโลเมตร
A17: ที่ | B17: รายการ | I17: รวมค่างานก่อสร้าง | J17: หมายเหตุ | N17: ตรวจสอบการใช้งบประมาณ
A18: 1 | B18: ค่างานต้นทุนงานทาง | I18: =+ปร.4_Roads!M170-ปร.5_Roads!I21 -> 7547959.3 | J18: Factor F | N18: งบประมาณที่ได้รับ | O18: 8160000
A19: 2 | B19: ค่างานต้นทุนท่อลอดเหลี่ยม | I19: =+ปร.4_Roads!M150+ปร.4_Roads!M151 -> 0 | J19: - ดอกเบี้ยเงินกู้ | L19: =แหล่งวัสดุ!$L$25/100 -> 0.07 | N19: ประมาณราคา | O19: =+I24 -> 7920000
A20: 3 | B20: ประเภทงานทั่วไป | I20: 0 | J20: - เงินล่วงหน้าจ่าย | L20: =แหล่งวัสดุ!$L$26/100 -> 0.15 | N20: ผลการประมาณราคา | O20: =+IF(O18=O19,"OK",O18-O19) -> 240000
A21: 4 | B21: แรงจูงใจการทำงานตามมติคณะรัฐมนตรี | I21: =+IF('NO DELETE'!P7>2,'NO DELETE'!X18,) -> 377393.45 | J21: - เงินประกันผลงานหัก | L21: =แหล่งวัสดุ!$L$28/100 -> 0
J22: ="- พื้นที่ ฝนตกชุก " -> - พื้นที่ ฝนตกชุก | K22: =+แหล่งวัสดุ!H4 -> 1
A23: สรุป | B23: รวมเป็นค่าก่อสร้าง | I23: =SUM(I18:I22) -> 7925352.7
B24: คิดเป็นเงินค่าก่อสร้างประมาณ | I24: =IF(I23<10000000,ROUNDDOWN(I23,-4),ROUNDDOWN(I23,-4)) -> 7920000
B25: ="(เงิน"&BAHTTEXT($I$24)&")" -> (เงินเจ็ดล้านเก้าแสนสองหมื่นบาทถ้วน)
B26: ระยะทางดำเนินการ | D26: =+E10 -> 1.523 | F26: กม.
B27: เฉลี่ยราคา กม.ละ | D27: =I24/D26 -> 5200262.6 | F27: บาท
F30: ประมาณราคา | H30: ..…………………………………………..
H31: =CONCATENATE("( ",แหล่งวัสดุ!K37," ) ",) -> ( นายวัลลภ มูสิกะเจริญ )
H32: =+แหล่งวัสดุ!N37 -> นายช่างโยธาชำนาญงาน
G34: ตรวจสอบ | H34: ..…………………………………………..
H35: =CONCATENATE("( ",แหล่งวัสดุ!K38," ) ") -> ( นางสาวปิญาภา ศรีมณี )
H36: =+แหล่งวัสดุ!N38 -> วิศวกรโยธาชำนาญการ
G38: เห็นชอบ | H38: ..…………………………………………..
H39: =CONCATENATE("( ",แหล่งวัสดุ!K39," ) ") -> ( นายวโรภาส แสงพายัพ )
H40: ผู้อำนวยการส่วนบูรณะ

Sheet ปร.4_Roads
A1: ="รายละเอียดการประมาณราคา "&'1.ต้นทุนถนน AC.'!D6 -> รายละเอียดการประมาณราคา บำรุงพิเศษ ซ่อมสร้างผิวทาง Asphaltic Concrete
A2: รหัสสายทาง | D2: =+ปร.5_Roads!C6 -> ปน.4031 | E2: ชื่อสายทาง | F2: =+'1.ต้นทุนถนน AC.'!G8 -> แยกทางหลวงหมายเลข 4157-บ้านปาตา | M2: ปีงบประมาณ | N2: =+'1.ต้นทุนถนน AC.'!M7 -> 2559
A3: สถานที่ตั้ง | D3: =+ปร.5_Roads!C7 -> อำเภอ ปะนาเระ,ยะหริ่ง จังหวัด ปัตตานี | H3: =+ราคากลาง!A10 -> ปริมาณดำเนินการ | J3: 1 | K3: แห่ง
A4: ที่ | B4: รายการ | E4: จำนวน | F4: หน่วย | G4: ราคาวัสดุ-ค่าแรง-ต่อหน่วย | J4: จำนวนเงิน | K4: Factor F | L4: ราคากลาง | N4: หมายเหตุ
G5: วัสดุ | H5: ค่าแรง | I5: รวม | J5: (บาท) | L5: ราคาต่อหน่วย | M5: รวม
A6: 1 | B6: งานปรับปรุงโครงสร้างทาง
B7: 1.1 | C7: งานถางป่าขุดตอ(ขนาดกลาง) | F7: ตร.ม. | G7: =IF(E7<=0,0,) -> 0 | H7: =IF(E7>0,'S2'!$BF$30,) -> 0 | I7: =ROUND(G7+H7,2) -> 0 | J7: =E7*I7 -> 0 | K7: =IF(E7>0,'NO DELETE'!$Q$18,) -> 0 | L7: =ROUND(K7*I7,1) -> 0 | M7: =L7*E7 -> 0
B8: 1.2 | C8: =+VLOOKUP('NO DELETE'!$AW$1,'NO DELETE'!$AQ$1:$AU$3,2) -> งานขุดรื้อพื้นทางหินคลุกเดิมแล้วบดทับ | E8: =+BackupAC!G23+BackupAC!H23 -> 12184 | F8: ตร.ม. | G8: =IF(E8<=0,0,) -> 0 | H8: =IF(E8>0,'NO DELETE'!$AW$2,) -> 14.13 | I8: =ROUND(G8+H8,2) -> 14.13 | J8: =E8*I8 -> 172159.92 | K8: =IF(E8>0,'NO DELETE'!$Q$18,) -> 1.4152 | L8: =ROUND(K8*I8,1) -> 20 | M8: =L8*E8 -> 243680
B9: 1.3 | C9: งานปรับคันทางเดิมแล้วบดทับ | F9: ตร.ม. | G9: =IF(E9<=0,0,) -> 0 | H9: =IF(E9>0,+'S2'!$BF$12,) -> 0 | I9: =ROUND(G9+H9,2) -> 0 | J9: =E9*I9 -> 0 | K9: =IF(E9>0,'NO DELETE'!$Q$18,) -> 0 | L9: =ROUND(K9*I9,1) -> 0 | M9: =L9*E9 -> 0
B10: 1.4 | C10: งาน Benching | F10: ลบ.ม. | G10: =IF(E10<=0,0,) -> 0 | H10: =IF(E10>0,+'S2'!$BF$31+'S2'!$BF$36,) -> 0 | I10: =ROUND(G10+H10,2) -> 0 | J10: =E10*I10 -> 0 | K10: =IF(E10>0,'NO DELETE'!$Q$18,) -> 0 | L10: =ROUND(K10*I10,1) -> 0 | M10: =L10*E10 -> 0
B11: 1.5 | C11: งานดินตัด | F11: ลบ.ม. | G11: =IF(E11<=0,0,0) -> 0 | H11: =IF(E11>0,'1.ต้นทุนถนน AC.'!$M$41,0) -> 0 | I11: =ROUND(G11+H11,2) -> 0 | J11: =E11*I11 -> 0 | K11: =IF(E11>0,'NO DELETE'!$Q$18,) -> 0 | L11: =ROUND(K11*I11,1) -> 0 | M11: =L11*E11 -> 0
B12: 1.6 | C12: งานดินถม ( จากการขนส่ง ) | F12: ลบ.ม. | G12: =IF(E12<=0,0,+'1.ต้นทุนถนน AC.'!$M$32) -> 0 | H12: =IF(E12<=0,0,+'1.ต้นทุนถนน AC.'!$M$33) -> 0 | I12: =ROUND(G12+H12,2) -> 0 | J12: =E12*I12 -> 0 | K12: =IF(E12>0,'NO DELETE'!$Q$18,) -> 0 | L12: =ROUND(K12*I12,1) -> 0 | M12: =L12*E12 -> 0
B13: 1.7 | C13: งานดินถม ( จากงานดินตัด ) | F13: ลบ.ม. | G13: 0 | H13: =IF(E13<=0,0,+'1.ต้นทุนถนน AC.'!$M$33) -> 0 | I13: =ROUND(G13+H13,2) -> 0 | J13: =E13*I13 -> 0 | K13: =IF(E13>0,'NO DELETE'!$Q$18,) -> 0 | L13: =ROUND(K13*I13,1) -> 0 | M13: =L13*E13 -> 0
B14: 1.8 | C14: งานรองพื้นทาง (ลูกรังบดอัดแน่น) | F14: ลบ.ม. | G14: =IF(E14<=0,0,+'1.ต้นทุนถนน AC.'!$M$55) -> 0 | H14: =IF(E14<=0,0,+'1.ต้นทุนถนน AC.'!$M$56) -> 0 | I14: =ROUND(G14+H14,2) -> 0 | J14: =E14*I14 -> 0 | K14: =IF(E14>0,'NO DELETE'!$Q$18,) -> 0 | L14: =ROUND(K14*I14,1) -> 0 | M14: =L14*E14 -> 0
B15: 1.9 | C15: หินคลุกบดอัดแน่น | E15: =+BackupAC!J23 -> 1506 | F15: ลบ.ม. | G15: =IF(E15<=0,0,+'1.ต้นทุนถนน AC.'!$M$62) -> 787.32 | H15: =IF(E15<=0,0,+'1.ต้นทุนถนน AC.'!$M$63+'1.ต้นทุนถนน AC.'!$M$64) -> 113.07 | I15: =ROUND(G15+H15,2) -> 900.39 | J15: =E15*I15 -> 1355987.3 | K15: =IF(E15>0,'NO DELETE'!$Q$18,) -> 1.4152 | L15: =ROUND(K15*I15,1) -> 1274.2 | M15: =L15*E15 -> 1918945.2
B16: 1.1 | C16: หินคลุกปรับระดับ (หลวม) | F16: ลบ.ม. | G16: =IF(E16<=0,0,+'1.ต้นทุนถนน AC.'!$M$78) -> 0 | H16: 0 | I16: =ROUND(G16+H16,2) -> 0 | J16: =E16*I16 -> 0 | K16: =IF(E16>0,'NO DELETE'!$Q$18,) -> 0 | L16: =ROUND(K16*I16,1) -> 0 | M16: =L16*E16 -> 0
B17: 1.11 | C17: Skin Patch /ปรับระดับผิวทาง | F17: ตร.ม. | G17: =IF(E17<=0,0,'1.ต้นทุนถนน AC.'!$M$82) -> 0 | H17: =IF(E17<=0,0,'1.ต้นทุนถนน AC.'!M83) -> 0 | I17: =ROUND(G17+H17,2) -> 0 | J17: =E17*I17 -> 0 | K17: =IF(E17>0,'NO DELETE'!$Q$18,) -> 0 | L17: =ROUND(K17*I17,1) -> 0 | M17: =L17*E17 -> 0
B18: 1.12 | C18: Deep Patch | E18: 52 | F18: ตร.ม. | G18: =IF(E18<=0,0,SUM('1.ต้นทุนถนน AC.'!$M$68:$M$71)) -> 218.364 | H18: =IF(E18<=0,0,SUM('1.ต้นทุนถนน AC.'!$M$72:$M$73)) -> 45.228 | I18: =ROUND(G18+H18,2) -> 263.59 | J18: =E18*I18 -> 13706.68 | K18: =IF(E18>0,'NO DELETE'!$Q$18,) -> 1.4152 | L18: =ROUND(K18*I18,1) -> 373 | M18: =L18*E18 -> 19396
B19: 1.13 | C19: งาน Pavement In - Place Recycling | F19: ตร.ม. | G19: =IF(E19<=0,0,'1.ต้นทุนถนน AC.'!$M$114) -> 0 | H19: =IF(E19<=0,0,'1.ต้นทุนถนน AC.'!$M$115) -> 0 | I19: =ROUND(IF(E19<=0,0,+'1.ต้นทุนถนน AC.'!$M$116),2) -> 0 | J19: =E19*I19 -> 0 | K19: =IF(E19>0,'NO DELETE'!$Q$18,) -> 0 | L19: =ROUND(K19*I19,1) -> 0 | M19: =L19*E19 -> 0 | N19: =+IF('NO DELETE'!$AB$45=1,"ลึก 0.15 ซม.","ลึก 0.20 ซม.") -> ลึก 0.20 ซม. | Q19: เลือกความหนาขุดกัด
A20: 2 | B20: งานผิวทาง
B21: 2.1 | C21: Prime Coat | E21: =+BackupAC!G23 -> 9138 | F21: ตร.ม. | G21: =IF(E21<=0,0,+'1.ต้นทุนถนน AC.'!$M$89) -> 24.14 | H21: =IF(E21<=0,0,+'S2'!$BF$15) -> 6.54 | I21: =ROUND(G21+H21,2) -> 30.68 | J21: =E21*I21 -> 280353.84 | K21: =IF(E21>0,'NO DELETE'!$Q$18,) -> 1.4152 | L21: =ROUND(K21*I21,1) -> 43.4 | M21: =L21*E21 -> 396589.2
B22: 2.2 | C22: Tack Coat | F22: ตร.ม. | G22: =IF(E22<=0,0,+'1.ต้นทุนถนน AC.'!$M$96) -> 0 | H22: =IF(E22<=0,0,+'S2'!$BF$16) -> 0 | I22: =ROUND(G22+H22,2) -> 0 | J22: =E22*I22 -> 0 | K22: =IF(E22>0,'NO DELETE'!$Q$18,) -> 0 | L22: =ROUND(K22*I22,1) -> 0 | M22: =L22*E22 -> 0
B23: 2.3 | C23: =+IF('NO DELETE'!$AQ$30=1,'NO DELETE'!$AR$30,IF('NO DELETE'!$AQ$30=2,'NO DELETE'!$AR$31,'NO DELETE'!$AR$32)) -> PARA Asphaltic Concrete
C24: =+IF('NO DELETE'!$AQ$30=1,'NO DELETE'!$AR$33,IF('NO DELETE'!$AQ$30=2,'NO DELETE'!$AR$34,'NO DELETE'!$AR$35)) -> - PARA Asphaltic Concrete (ปูบน Prime Coat) | E24: =+E21 -> 9138 | F24: ตร.ม. | G24: =IF(E24<=0,0,+'1.ต้นทุนถนน AC.'!$M$140) -> 278 | H24: =IF(E24<=0,0,+IF('1.ต้นทุนถนน AC.'!$G$127=5,'S2'!$BF$19,IF('1.ต้นทุนถนน AC.'!$G$127=4,'S2'!$BF$19*0.9,IF('1.ต้นทุนถนน AC.'!$G$127=3.5,'S2'!$BF$19*0.85,IF('1.ต้นทุนถนน AC.'!$G$127=3,'S2'!$BF$19*0.8))))) -> 13.113 | I24: =ROUND(G24+H24,2) -> 291.11 | J24: =E24*I24 -> 2660163.2 | K24: =IF(E24>0,'NO DELETE'!$Q$18,) -> 1.4152 | L24: =ROUND(K24*I24,1) -> 412 | M24: =L24*E24 -> 3764856 | N24: ='NO DELETE'!AB13 -> 4 | O24: ซม. | Q24: เลือกความหนา Asphaltic Concrete (ปูบน Prime Coat)
C25: =+IF('NO DELETE'!$AQ$30=1,'NO DELETE'!$AR$36,IF('NO DELETE'!$AQ$30=2,'NO DELETE'!$AR$37,'NO DELETE'!$AR$38)) -> - PARA Asphaltic Concrete (ปูบน Tack Coat) | F25: ตร.ม. | G25: =IF(E25<=0,0,+'1.ต้นทุนถนน AC.'!$M$141) -> 0 | H25: =IF(E25<=0,0,+IF('1.ต้นทุนถนน AC.'!$G$127=5,'S2'!$BF$20,IF('1.ต้นทุนถนน AC.'!$G$127=4,'S2'!$BF$20*0.9,IF('1.ต้นทุนถนน AC.'!$G$127=3.5,'S2'!$BF$20*0.85,IF('1.ต้นทุนถนน AC.'!$G$127=3,'S2'!$BF$20*0.8))))) -> 0 | I25: =ROUND(G25+H25,2) -> 0 | J25: =E25*I25 -> 0 | K25: =IF(E25>0,'NO DELETE'!$Q$18,) -> 0 | L25: =ROUND(K25*I25,1) -> 0 | M25: =L25*E25 -> 0 | N25: ='NO DELETE'!AB14 -> 4 | O25: ซม. | Q25: เลือกความหนา Asphaltic Concrete (ปูบน Tack Coat)
B26: 2.4 | C26: Reinforced Concrete | F26: ตร.ม. | G26: =+IF(E26>0,IF('NO DELETE'!$BG$6=1,'2.ต้นทุนถนน Con.'!L58,'2.ต้นทุนถนน Con.'!L80),) -> 0 | H26: =+IF(E26>0,IF('NO DELETE'!$BG$6=1,'2.ต้นทุนถนน Con.'!L57,'2.ต้นทุนถนน Con.'!L79),) -> 0 | I26: =ROUND(G26+H26,2) -> 0 | J26: =E26*I26 -> 0 | K26: =IF(E26>0,'NO DELETE'!$Q$18,) -> 0 | L26: =ROUND(K26*I26,1) -> 0 | M26: =L26*E26 -> 0 | N26: ='NO DELETE'!$AZ$8 -> 0.2 | O26: ซม.
A27: 3 | B27: งานผิวไหล่ทาง
B28: 3.1 | C28: Prime Coat | E28: =+BackupAC!H23 -> 3046 | F28: ตร.ม. | G28: =IF(E28<=0,0,+'1.ต้นทุนถนน AC.'!$M$89) -> 24.14 | H28: =IF(E28<=0,0,+'S2'!$BF$15) -> 6.54 | I28: =ROUND(G28+H28,2) -> 30.68 | J28: =E28*I28 -> 93451.28 | K28: =IF(E28>0,'NO DELETE'!$Q$18,) -> 1.4152 | L28: =ROUND(K28*I28,1) -> 43.4 | M28: =L28*E28 -> 132196.4
B29: 3.2 | C29: Tack Coat | F29: ตร.ม. | G29: =IF(E29<=0,0,+'1.ต้นทุนถนน AC.'!$M$96) -> 0 | H29: =IF(E29<=0,0,+'S2'!$BF$16) -> 0 | I29: =ROUND(G29+H29,2) -> 0 | J29: =E29*I29 -> 0 | K29: =IF(E29>0,'NO DELETE'!$Q$18,) -> 0 | L29: =ROUND(K29*I29,1) -> 0 | M29: =L29*E29 -> 0
B30: 3.3 | C30: =+$C$23 -> PARA Asphaltic Concrete
C31: =+$C$24 -> - PARA Asphaltic Concrete (ปูบน Prime Coat) | E31: =+E28 -> 3046 | F31: ตร.ม. | G31: =+IF(E31<=0,0,+'1.ต้นทุนถนน AC.'!$M$140) -> 278 | H31: =IF(E31<=0,0,+IF('1.ต้นทุนถนน AC.'!$G$127=5,'S2'!$BF$19,IF('1.ต้นทุนถนน AC.'!$G$127=4,'S2'!$BF$19*0.9,IF('1.ต้นทุนถนน AC.'!$G$127=3.5,'S2'!$BF$19*0.85,IF('1.ต้นทุนถนน AC.'!$G$127=3,'S2'!$BF$19*0.8))))) -> 13.113 | I31: =ROUND(G31+H31,2) -> 291.11 | J31: =E31*I31 -> 886721.06 | K31: =IF(E31>0,'NO DELETE'!$Q$18,) -> 1.4152 | L31: =ROUND(K31*I31,1) -> 412 | M31: =L31*E31 -> 1254952 | N31: =+$N$24 -> 4 | O31: ซม.
C32: =+$C$25 -> - PARA Asphaltic Concrete (ปูบน Tack Coat) | F32: ตร.ม. | G32: =IF(E32<=0,0,+'1.ต้นทุนถนน AC.'!$M$141) -> 0 | H32: =IF(E32<=0,0,+IF('1.ต้นทุนถนน AC.'!$G$127=5,'S2'!$BF$20,IF('1.ต้นทุนถนน AC.'!$G$127=4,'S2'!$BF$20*0.9,IF('1.ต้นทุนถนน AC.'!$G$127=3.5,'S2'!$BF$20*0.85,IF('1.ต้นทุนถนน AC.'!$G$127=3,'S2'!$BF$20*0.8))))) -> 0 | I32: =ROUND(G32+H32,2) -> 0 | J32: =E32*I32 -> 0 | K32: =IF(E32>0,'NO DELETE'!$Q$18,) -> 0 | L32: =ROUND(K32*I32,1) -> 0 | M32: =L32*E32 -> 0 | N32: =+$N$25 -> 4 | O32: ซม.
B33: 3.4 | C33: ลูกรังบดอัดแน่น | E33: 0 | F33: ลบ.ม. | G33: =IF(E33<=0,0,'1.ต้นทุนถนน AC.'!$M$55) -> 0 | H33: =IF(E33<=0,0,'1.ต้นทุนถนน AC.'!$M$56) -> 0 | I33: =ROUND(G33+H33,2) -> 0 | J33: =E33*I33 -> 0 | K33: =IF(E33>0,'NO DELETE'!$Q$18,) -> 0 | L33: =ROUND(K33*I33,1) -> 0 | M33: =L33*E33 -> 0
A34: 4 | B34: งานตีเส้นจราจร
B35: 4.1 | C35: =+"สีเทอร์โมพลาสติก "&VLOOKUP('NO DELETE'!AE17,'NO DELETE'!AE13:AF16,2) -> สีเทอร์โมพลาสติก เส้นกว้าง 0.10 ม.( 3 เส้น) | E35: =ROUND(IF('NO DELETE'!AE17=1,$J$3*0.245*1000,IF('NO DELETE'!AE17=2,$J$3*0.2*1000,IF('NO DELETE'!AE17=3,$J$3*0.36*1000,$J$3*0.3*1000))),) -> 245 | F35: ตร.ม. | G35: 0 | H35: 0 | I35: =ROUND(IF(E35<=0,0,'NO DELETE'!AL62),2) -> 280 | J35: =E35*I35 -> 68600 | K35: =IF(E35>0,'NO DELETE'!$Q$18,) -> 1.4152 | L35: =ROUND(K35*I35,1) -> 396.3 | M35: =L35*E35 -> 97093.5
B36: 4.2 | C36: สีเทอร์โมพลาสติก สีแดง | F36: ตร.ม. | G36: =IF(E36<=0,0,) -> 0 | H36: =IF(E36<=0,0,) -> 0 | I36: =ROUND(IF(E36<=0,0,430),2) -> 0 | J36: =E36*I36 -> 0 | K36: =IF(E36>0,'NO DELETE'!$Q$18,) -> 0 | L36: =ROUND(K36*I36,1) -> 0 | M36: =L36*E36 -> 0
B37: 4.3 | C37: Rumble Strip | F37: ตร.ม. | G37: =IF(E37<=0,0,) -> 0 | H37: =IF(E37<=0,0,) -> 0 | I37: =ROUND(IF(E37<=0,0,400),2) -> 0 | J37: =E37*I37 -> 0 | K37: =IF(E37>0,'NO DELETE'!$Q$18,) -> 0 | L37: =ROUND(K37*I37,1) -> 0 | M37: =L37*E37 -> 0
B38: 4.4 | C38: ทางม้าลาย | F38: แห่ง | G38: =IF(E38<=0,0,) -> 0 | H38: =IF(E38<=0,0,) -> 0 | I38: =ROUND(IF(E38<=0,0,2659),2) -> 0 | J38: =E38*I38 -> 0 | K38: =IF(E38>0,'NO DELETE'!$Q$18,) -> 0 | L38: =ROUND(K38*I38,1) -> 0 | M38: =L38*E38 -> 0
A39: 5 | B39: งานจราจรสงเคราะห์
B40: 5.1 | C40: งานปรับปรุง
C41: 5.1.1 | D41: หลักแนวโค้ง ค.ส.ล. | F41: หลัก | G41: =IF(E41<=0,0,90) -> 0 | H41: =IF(E41<=0,0,20) -> 0 | I41: =ROUND(G41+H41,2) -> 0 | J41: =E41*I41 -> 0 | K41: =IF(E41>0,'NO DELETE'!$Q$18,) -> 0 | L41: =ROUND(K41*I41,1) -> 0 | M41: =L41*E41 -> 0
C42: 5.1.2 | D42: หลักกิโลเมตร | F42: หลัก | G42: =IF(E42<=0,0,325) -> 0 | H42: =IF(E42<=0,0,75) -> 0 | I42: =ROUND(G42+H42,2) -> 0 | J42: =E42*I42 -> 0 | K42: =IF(E42>0,'NO DELETE'!$Q$18,) -> 0 | L42: =ROUND(K42*I42,1) -> 0 | M42: =L42*E42 -> 0
C43: 5.1.3 | D43: ป้ายจราจร | F43: ชุด | G43: =IF(E43<=0,0,) -> 0 | H43: =ROUND(IF(E43<=0,0,200),2) -> 0 | I43: =ROUND(G43+H43,2) -> 0 | J43: =E43*I43 -> 0 | K43: =IF(E43>0,'NO DELETE'!$Q$18,) -> 0 | L43: =ROUND(K43*I43,1) -> 0 | M43: =L43*E43 -> 0
C44: 5.1.4 | D44: GUARD RAIL | F44: เมตร | G44: =IF(E44<=0,0,) -> 0 | H44: =ROUND(IF(E44<=0,0,100),2) -> 0 | I44: =ROUND(G44+H44,2) -> 0 | J44: =E44*I44 -> 0 | K44: =IF(E44>0,'NO DELETE'!$Q$18,) -> 0 | L44: =ROUND(K44*I44,1) -> 0 | M44: =L44*E44 -> 0
B45: 5.2 | C45: งานติดตั้งป้ายจราจร
C46: 5.2.1 | D46: =+'NO DELETE'!AK2 -> ป้ายกำหนดน้ำหนักบรรทุก | F46: ชุด | G46: =IF(E46<=0,0,) -> 0 | H46: =IF(E46<=0,0,) -> 0 | I46: =ROUND(IF(E46<=0,0,'NO DELETE'!AL2),2) -> 0 | J46: =E46*I46 -> 0 | K46: =IF(E46>0,'NO DELETE'!$Q$18,) -> 0 | L46: =ROUND(K46*I46,1) -> 0 | M46: =L46*E46 -> 0 | Q46: หมายเหตุ
C47: 5.2.2 | D47: =+'NO DELETE'!AK4 -> ป้ายจราจรแบบ บ 1 | F47: ชุด | G47: =IF(E47<=0,0,) -> 0 | H47: =IF(E47<=0,0,) -> 0 | I47: =ROUND(IF(E47<=0,0,IF('NO DELETE'!$AH$35=1,'NO DELETE'!AL4,IF('NO DELETE'!$AH$35=2,'NO DELETE'!AM4,'NO DELETE'!AN4))),2) -> 0 | J47: =E47*I47 -> 0 | K47: =IF(E47>0,'NO DELETE'!$Q$18,) -> 0 | L47: =ROUND(K47*I47,1) -> 0 | M47: =L47*E47 -> 0 | N47: =+VLOOKUP('NO DELETE'!$AH$35,'NO DELETE'!$AD$44:$AE$46,2) -> SIZE 2 | Q47: 1.ขนาดป้ายจราจร 2 สำหรับทางหลวงชนบท ที่มีช่องจราจรไมเกิน 2 ช่องจราจร ทั่วๆไป
C48: 5.2.3 | D48: =+'NO DELETE'!AK5 -> ป้ายจราจรแบบ บ 1/1 | F48: ชุด | G48: =IF(E48<=0,0,) -> 0 | H48: =IF(E48<=0,0,) -> 0 | I48: =ROUND(IF(E48<=0,0,IF('NO DELETE'!$AH$35=1,'NO DELETE'!AL5,IF('NO DELETE'!$AH$35=2,'NO DELETE'!AM5,'NO DELETE'!AN5))),2) -> 0 | J48: =E48*I48 -> 0 | K48: =IF(E48>0,'NO DELETE'!$Q$18,) -> 0 | L48: =ROUND(K48*I48,1) -> 0 | M48: =L48*E48 -> 0 | N48: =+VLOOKUP('NO DELETE'!$AH$35,'NO DELETE'!$AD$44:$AE$46,2) -> SIZE 2
C49: 5.2.4 | D49: =+'NO DELETE'!AK6 -> ป้ายจราจรแบบ บ 2 | F49: ชุด | G49: =IF(E49<=0,0,) -> 0 | H49: =IF(E49<=0,0,) -> 0 | I49: =ROUND(IF(E49<=0,0,IF('NO DELETE'!$AH$35=1,'NO DELETE'!AL6,IF('NO DELETE'!$AH$35=2,'NO DELETE'!AM6,'NO DELETE'!AN6))),2) -> 0 | J49: =E49*I49 -> 0 | K49: =IF(E49>0,'NO DELETE'!$Q$18,) -> 0 | L49: =ROUND(K49*I49,1) -> 0 | M49: =L49*E49 -> 0 | N49: =+VLOOKUP('NO DELETE'!$AH$35,'NO DELETE'!$AD$44:$AE$46,2) -> SIZE 2 | Q49: 2.ขนาดป้ายจราจร 3 สำหรับทางหลวงชนบท ที่มีช่องจราจรไมเกิน 4 ช่องจราจร หรือถนน 2 ช่องจราจร 7/11 ม. ขึ้นไป
C50: 5.2.5 | D50: =+'NO DELETE'!AK7 -> ป้ายจราจรแบบ บ 2/1 | F50: ชุด | G50: =IF(E50<=0,0,) -> 0 | H50: =IF(E50<=0,0,) -> 0 | I50: =ROUND(IF(E50<=0,0,IF('NO DELETE'!$AH$35=1,'NO DELETE'!AL7,IF('NO DELETE'!$AH$35=2,'NO DELETE'!AM7,'NO DELETE'!AN7))),2) -> 0 | J50: =E50*I50 -> 0 | K50: =IF(E50>0,'NO DELETE'!$Q$18,) -> 0 | L50: =ROUND(K50*I50,1) -> 0 | M50: =L50*E50 -> 0 | N50: =+VLOOKUP('NO DELETE'!$AH$35,'NO DELETE'!$AD$44:$AE$46,2) -> SIZE 2
C51: 5.2.6 | D51: =+'NO DELETE'!AK8 -> ป้ายจราจร บ 3 - บ 55 | F51: ชุด | G51: =IF(E51<=0,0,) -> 0 | H51: =IF(E51<=0,0,) -> 0 | I51: =ROUND(IF(E51<=0,0,IF('NO DELETE'!$AH$35=1,'NO DELETE'!AL8,IF('NO DELETE'!$AH$35=2,'NO DELETE'!AM8,'NO DELETE'!AN8))),2) -> 0 | J51: =E51*I51 -> 0 | K51: =IF(E51>0,'NO DELETE'!$Q$18,) -> 0 | L51: =ROUND(K51*I51,1) -> 0 | M51: =L51*E51 -> 0 | N51: =+VLOOKUP('NO DELETE'!$AH$35,'NO DELETE'!$AD$44:$AE$46,2) -> SIZE 2
C52: 5.2.7 | D52: =+'NO DELETE'!AK9 -> ป้ายจราจร บ 31/1, บ 33/1 | F52: ชุด | G52: =IF(E52<=0,0,) -> 0 | H52: =IF(E52<=0,0,) -> 0 | I52: =ROUND(IF(E52<=0,0,IF('NO DELETE'!$AH$35=1,'NO DELETE'!AL9,IF('NO DELETE'!$AH$35=2,'NO DELETE'!AM9,'NO DELETE'!AN9))),2) -> 0 | J52: =E52*I52 -> 0 | K52: =IF(E52>0,'NO DELETE'!$Q$18,) -> 0 | L52: =ROUND(K52*I52,1) -> 0 | M52: =L52*E52 -> 0 | N52: =+VLOOKUP('NO DELETE'!$AH$35,'NO DELETE'!$AD$44:$AE$46,2) -> SIZE 2 | Q52: 3.ขนาดป้ายจราจร 4 สำหรับทางหลวงชนบท ที่มีช่องจราจรตั้งแต่ 4 ช่องขึ้นไป
C53: 5.2.8 | D53: =+'NO DELETE'!AK10 -> ป้ายจราจร บ 34/1, บ 35/1, บ 36/1 | F53: ชุด | G53: =IF(E53<=0,0,) -> 0 | H53: =IF(E53<=0,0,) -> 0 | I53: =ROUND(IF(E53<=0,0,IF('NO DELETE'!$AH$35=1,'NO DELETE'!AL10,IF('NO DELETE'!$AH$35=2,'NO DELETE'!AM10,'NO DELETE'!AN10))),2) -> 0 | J53: =E53*I53 -> 0 | K53: =IF(E53>0,'NO DELETE'!$Q$18,) -> 0 | L53: =ROUND(K53*I53,1) -> 0 | M53: =L53*E53 -> 0 | N53: =+VLOOKUP('NO DELETE'!$AH$35,'NO DELETE'!$AD$44:$AE$46,2) -> SIZE 2
C54: 5.2.9 | D54: =+'NO DELETE'!AK11 -> ป้ายจราจรแบบ ต 1 - ต 27,ต 31 - ต 60,ต 75 | F54: ชุด | G54: =IF(E54<=0,0,) -> 0 | H54: =IF(E54<=0,0,) -> 0 | I54: =ROUND(IF(E54<=0,0,IF('NO DELETE'!$AH$35=1,'NO DELETE'!AL11,IF('NO DELETE'!$AH$35=2,'NO DELETE'!AM11,'NO DELETE'!AN11))),2) -> 0 | J54: =E54*I54 -> 0 | K54: =IF(E54>0,'NO DELETE'!$Q$18,) -> 0 | L54: =ROUND(K54*I54,1) -> 0 | M54: =L54*E54 -> 0 | N54: =+VLOOKUP('NO DELETE'!$AH$35,'NO DELETE'!$AD$44:$AE$46,2) -> SIZE 2
C55: 5.2.10 | D55: =+'NO DELETE'!AK12 -> ป้ายจราจร ต 28 - ต 30,ต 62 | F55: ชุด | G55: =IF(E55<=0,0,) -> 0 | H55: =IF(E55<=0,0,) -> 0 | I55: =ROUND(IF(E55<=0,0,IF('NO DELETE'!$AH$35=1,'NO DELETE'!AL12,IF('NO DELETE'!$AH$35=2,'NO DELETE'!AM12,'NO DELETE'!AN12))),2) -> 0 | J55: =E55*I55 -> 0 | K55: =IF(E55>0,'NO DELETE'!$Q$18,) -> 0 | L55: =ROUND(K55*I55,1) -> 0 | M55: =L55*E55 -> 0 | N55: =+VLOOKUP('NO DELETE'!$AH$35,'NO DELETE'!$AD$44:$AE$46,2) -> SIZE 2
C56: 5.2.11 | D56: =+'NO DELETE'!AK13 -> ป้ายจราจร ต 61,ต 61/1 | F56: ชุด | G56: =IF(E56<=0,0,) -> 0 | H56: =IF(E56<=0,0,) -> 0 | I56: =ROUND(IF(E56<=0,0,IF('NO DELETE'!$AH$35=1,'NO DELETE'!AL13,IF('NO DELETE'!$AH$35=2,'NO DELETE'!AM13,'NO DELETE'!AN13))),2) -> 0 | J56: =E56*I56 -> 0 | K56: =IF(E56>0,'NO DELETE'!$Q$18,) -> 0 | L56: =ROUND(K56*I56,1) -> 0 | M56: =L56*E56 -> 0 | N56: =+VLOOKUP('NO DELETE'!$AH$35,'NO DELETE'!$AD$44:$AE$46,2) -> SIZE 2
A57: ยอดยกไป | J57: =SUM(J6:J56) -> 5531143.3 | M57: =SUM(M6:M56) -> 7827708.3
A58: =+A1 -> รายละเอียดการประมาณราคา บำรุงพิเศษ ซ่อมสร้างผิวทาง Asphaltic Concrete
A59: =+A2 -> รหัสสายทาง | D59: =+D2 -> ปน.4031 | E59: =+E2 -> ชื่อสายทาง | F59: =+F2 -> แยกทางหลวงหมายเลข 4157-บ้านปาตา | M59: ปีงบประมาณ | N59: =+N2 -> 2559
A60: =+A3 -> สถานที่ตั้ง | D60: =+D3 -> อำเภอ ปะนาเระ,ยะหริ่ง จังหวัด ปัตตานี | H60: =+H3 -> ปริมาณดำเนินการ | J60: =+J3 -> 1 | K60: =+K3 -> แห่ง
A61: ที่ | B61: รายการ | E61: จำนวน | F61: หน่วย | G61: ราคาวัสดุ-ค่าแรง-ต่อหน่วย | J61: จำนวนเงิน | K61: Factor F | L61: ราคากลาง | N61: หมายเหตุ
G62: วัสดุ | H62: ค่าแรง | I62: รวม | J62: (บาท) | L62: ราคาต่อหน่วย | M62: รวม
D63: ยอดยกมา | J63: =J57 -> 5531143.3 | M63: =M57 -> 7827708.3
C64: 5.2.12 | D64: =+'NO DELETE'!AK77 -> ป้ายจราจรแบบ ต 63,ต 66 (2 แผ่นป้ายต่อชุด) | F64: ชุด | G64: =IF(E64<=0,0,) -> 0 | H64: =IF(E64<=0,0,) -> 0 | I64: =(IF(E64<=0,0,'NO DELETE'!AL77)) -> 0 | J64: =E64*I64 -> 0 | K64: =IF(E64>0,'NO DELETE'!$Q$18,) -> 0 | L64: =ROUND(K64*I64,1) -> 0 | M64: =L64*E64 -> 0 | N64: =+VLOOKUP('NO DELETE'!$AH$35,'NO DELETE'!$AD$44:$AE$46,2) -> SIZE 2
C65: 5.2.13 | D65: =+'NO DELETE'!AK15 -> ป้ายจราจรแบบ ต 64,ต 67 | F65: ชุด | G65: =IF(E65<=0,0,) -> 0 | H65: =IF(E65<=0,0,) -> 0 | I65: =ROUND(IF(E65<=0,0,IF('NO DELETE'!$AH$35=1,'NO DELETE'!AL15,IF('NO DELETE'!$AH$35=2,'NO DELETE'!AM15,'NO DELETE'!AN15))),2) -> 0 | J65: =E65*I65 -> 0 | K65: =IF(E65>0,'NO DELETE'!$Q$18,) -> 0 | L65: =ROUND(K65*I65,1) -> 0 | M65: =L65*E65 -> 0 | N65: =+VLOOKUP('NO DELETE'!$AH$35,'NO DELETE'!$AD$44:$AE$46,2) -> SIZE 2
C66: 5.2.14 | D66: =+'NO DELETE'!AK16 -> ป้ายจราจรแบบ ต 65,ต 68, ต 70 | F66: ชุด | G66: =IF(E66<=0,0,) -> 0 | H66: =IF(E66<=0,0,) -> 0 | I66: =ROUND(IF(E66<=0,0,IF('NO DELETE'!$AH$35=1,'NO DELETE'!AL16,IF('NO DELETE'!$AH$35=2,'NO DELETE'!AM16,'NO DELETE'!AN16))),2) -> 0 | J66: =E66*I66 -> 0 | K66: =IF(E66>0,'NO DELETE'!$Q$18,) -> 0 | L66: =ROUND(K66*I66,1) -> 0 | M66: =L66*E66 -> 0 | N66: =+VLOOKUP('NO DELETE'!$AH$35,'NO DELETE'!$AD$44:$AE$46,2) -> SIZE 2
C67: 5.2.15 | D67: =+'NO DELETE'!AK17 -> ป้ายจราจรแบบ ต 69 | F67: ชุด | G67: =IF(E67<=0,0,) -> 0 | H67: =IF(E67<=0,0,) -> 0 | I67: =ROUND(IF(E67<=0,0,IF('NO DELETE'!$AH$35=1,'NO DELETE'!AL17,IF('NO DELETE'!$AH$35=2,'NO DELETE'!AM17,'NO DELETE'!AN17))),2) -> 0 | J67: =E67*I67 -> 0 | K67: =IF(E67>0,'NO DELETE'!$Q$18,) -> 0 | L67: =ROUND(K67*I67,1) -> 0 | M67: =L67*E67 -> 0 | N67: =+VLOOKUP('NO DELETE'!$AH$35,'NO DELETE'!$AD$44:$AE$46,2) -> SIZE 2
C68: 5.2.16 | D68: =+'NO DELETE'!AK18 -> ป้ายจราจรแบบ ต 71 | F68: ชุด | G68: =IF(E68<=0,0,) -> 0 | H68: =IF(E68<=0,0,) -> 0 | I68: =ROUND(IF(E68<=0,0,IF('NO DELETE'!$AH$35=1,'NO DELETE'!AL18,IF('NO DELETE'!$AH$35=2,'NO DELETE'!AM18,'NO DELETE'!AN18))),2) -> 0 | J68: =E68*I68 -> 0 | K68: =IF(E68>0,'NO DELETE'!$Q$18,) -> 0 | L68: =ROUND(K68*I68,1) -> 0 | M68: =L68*E68 -> 0 | N68: =+VLOOKUP('NO DELETE'!$AH$35,'NO DELETE'!$AD$44:$AE$46,2) -> SIZE 2
C69: 5.2.17 | D69: =+'NO DELETE'!AK19 -> ป้ายจราจรแบบ ต 72, ต 73 | F69: ชุด | G69: =IF(E69<=0,0,) -> 0 | H69: =IF(E69<=0,0,) -> 0 | I69: =ROUND(IF(E69<=0,0,IF('NO DELETE'!$AH$35=1,'NO DELETE'!AL19,IF('NO DELETE'!$AH$35=2,'NO DELETE'!AM19,'NO DELETE'!AN19))),2) -> 0 | J69: =E69*I69 -> 0 | K69: =IF(E69>0,'NO DELETE'!$Q$18,) -> 0 | L69: =ROUND(K69*I69,1) -> 0 | M69: =L69*E69 -> 0 | N69: =+VLOOKUP('NO DELETE'!$AH$35,'NO DELETE'!$AD$44:$AE$46,2) -> SIZE 2
C70: 5.2.18 | D70: =+'NO DELETE'!AK20 -> ป้ายจราจรแบบ ต 74 | F70: ชุด | G70: =IF(E70<=0,0,) -> 0 | H70: =IF(E70<=0,0,) -> 0 | I70: =ROUND(IF(E70<=0,0,IF('NO DELETE'!$AH$35=1,'NO DELETE'!AL20,IF('NO DELETE'!$AH$35=2,'NO DELETE'!AM20,'NO DELETE'!AN20))),2) -> 0 | J70: =E70*I70 -> 0 | K70: =IF(E70>0,'NO DELETE'!$Q$18,) -> 0 | L70: =ROUND(K70*I70,1) -> 0 | M70: =L70*E70 -> 0 | N70: =+VLOOKUP('NO DELETE'!$AH$35,'NO DELETE'!$AD$44:$AE$46,2) -> SIZE 2
C71: 5.2.19 | D71: =+'NO DELETE'!AK21 -> ป้ายจราจรแบบ ต 74/1 | F71: ชุด | G71: =IF(E71<=0,0,) -> 0 | H71: =IF(E71<=0,0,) -> 0 | I71: =ROUND(IF(E71<=0,0,IF('NO DELETE'!$AH$35=1,'NO DELETE'!AL21,IF('NO DELETE'!$AH$35=2,'NO DELETE'!AM21,'NO DELETE'!AN21))),2) -> 0 | J71: =E71*I71 -> 0 | K71: =IF(E71>0,'NO DELETE'!$Q$18,) -> 0 | L71: =ROUND(K71*I71,1) -> 0 | M71: =L71*E71 -> 0 | N71: =+VLOOKUP('NO DELETE'!$AH$35,'NO DELETE'!$AD$44:$AE$46,2) -> SIZE 2
C72: 5.2.20 | D72: =+'NO DELETE'!AK22 -> ป้ายจราจรแบบ ต 76 | F72: ชุด | G72: =IF(E72<=0,0,) -> 0 | H72: =IF(E72<=0,0,) -> 0 | I72: =ROUND(IF(E72<=0,0,IF('NO DELETE'!$AH$35=1,'NO DELETE'!AL22,IF('NO DELETE'!$AH$35=2,'NO DELETE'!AM22,'NO DELETE'!AN22))),2) -> 0 | J72: =E72*I72 -> 0 | K72: =IF(E72>0,'NO DELETE'!$Q$18,) -> 0 | L72: =ROUND(K72*I72,1) -> 0 | M72: =L72*E72 -> 0 | N72: =+VLOOKUP('NO DELETE'!$AH$35,'NO DELETE'!$AD$44:$AE$46,2) -> SIZE 2
C73: 5.2.21 | D73: =+'NO DELETE'!AK23 -> ป้ายจราจรแบบ ต 76/1 | F73: ชุด | G73: =IF(E73<=0,0,) -> 0 | H73: =IF(E73<=0,0,) -> 0 | I73: =ROUND(IF(E73<=0,0,IF('NO DELETE'!$AH$35=1,'NO DELETE'!AL23,IF('NO DELETE'!$AH$35=2,'NO DELETE'!AM23,'NO DELETE'!AN23))),2) -> 0 | J73: =E73*I73 -> 0 | K73: =IF(E73>0,'NO DELETE'!$Q$18,) -> 0 | L73: =ROUND(K73*I73,1) -> 0 | M73: =L73*E73 -> 0 | N73: =+VLOOKUP('NO DELETE'!$AH$35,'NO DELETE'!$AD$44:$AE$46,2) -> SIZE 2
C74: 5.2.22 | D74: =+'NO DELETE'!AK24 -> ป้ายจราจรแบบ ต 77 | F74: ชุด | G74: =IF(E74<=0,0,) -> 0 | H74: =IF(E74<=0,0,) -> 0 | I74: =ROUND(IF(E74<=0,0,IF('NO DELETE'!$AH$35=1,'NO DELETE'!AL24,IF('NO DELETE'!$AH$35=2,'NO DELETE'!AM24,'NO DELETE'!AN24))),2) -> 0 | J74: =E74*I74 -> 0 | K74: =IF(E74>0,'NO DELETE'!$Q$18,) -> 0 | L74: =ROUND(K74*I74,1) -> 0 | M74: =L74*E74 -> 0 | N74: =+VLOOKUP('NO DELETE'!$AH$35,'NO DELETE'!$AD$44:$AE$46,2) -> SIZE 2
C75: 5.2.23 | D75: =+'NO DELETE'!AK25 -> ป้ายจราจรแบบ ต 77/1 | F75: ชุด | G75: =IF(E75<=0,0,) -> 0 | H75: =IF(E75<=0,0,) -> 0 | I75: =ROUND(IF(E75<=0,0,IF('NO DELETE'!$AH$35=1,'NO DELETE'!AL25,IF('NO DELETE'!$AH$35=2,'NO DELETE'!AM25,'NO DELETE'!AN25))),2) -> 0 | J75: =E75*I75 -> 0 | K75: =IF(E75>0,'NO DELETE'!$Q$18,) -> 0 | L75: =ROUND(K75*I75,1) -> 0 | M75: =L75*E75 -> 0 | N75: =+VLOOKUP('NO DELETE'!$AH$35,'NO DELETE'!$AD$44:$AE$46,2) -> SIZE 2
C76: 5.2.24 | D76: =+'NO DELETE'!AK26 -> ป้ายจราจรแบบ ต 78 | F76: ชุด | G76: =IF(E76<=0,0,) -> 0 | H76: =IF(E76<=0,0,) -> 0 | I76: =ROUND(IF(E76<=0,0,IF('NO DELETE'!$AH$35=1,'NO DELETE'!AL26,IF('NO DELETE'!$AH$35=2,'NO DELETE'!AM26,'NO DELETE'!AN26))),2) -> 0 | J76: =E76*I76 -> 0 | K76: =IF(E76>0,'NO DELETE'!$Q$18,) -> 0 | L76: =ROUND(K76*I76,1) -> 0 | M76: =L76*E76 -> 0 | N76: =+VLOOKUP('NO DELETE'!$AH$35,'NO DELETE'!$AD$44:$AE$46,2) -> SIZE 2
... C80: 5.2.28 | D80: =+'NO DELETE'!AK30 -> ป้ายจราจรแบบ น 2 ( 2 ชิ้น) | F80: ชุด | G80: =IF(E80<=0,0,) -> 0 | H80: =IF(E80<=0,0,) -> 0 | I80: =ROUND(IF(E80<=0,0,IF('NO DELETE'!$AH$35=1,'NO DELETE'!AL30,IF('NO DELETE'!$AH$35=2,'NO DELETE'!AM30,'NO DELETE'!AN30))),2) -> 0 | J80: =E80*I80 -> 0 | K80: =IF(E80>0,'NO DELETE'!$Q$18,) -> 0 | L80: =ROUND(K80*I80,1) -> 0 | M80: =L80*E80 -> 0 | N80: =+VLOOKUP('NO DELETE'!$AH$35,'NO DELETE'!$AD$44:$AE$46,2) -> SIZE 2
C81: 5.2.29 | D81: =+'NO DELETE'!AK32 -> ป้ายจราจรแบบ น 2 ( 3 ชิ้น) | F81: ชุด | G81: =IF(E81<=0,0,) -> 0 | H81: =IF(E81<=0,0,) -> 0 | I81: =ROUND(IF(E81<=0,0,IF('NO DELETE'!$AH$35=1,'NO DELETE'!AL32,IF('NO DELETE'!$AH$35=2,'NO DELETE'!AM32,'NO DELETE'!AN32))),2) -> 0 | J81: =E81*I81 -> 0 | K81: =IF(E81>0,'NO DELETE'!$Q$18,) -> 0 | L81: =ROUND(K81*I81,1) -> 0 | M81: =L81*E81 -> 0 | N81: =+VLOOKUP('NO DELETE'!$AH$35,'NO DELETE'!$AD$44:$AE$46,2) -> SIZE 2
C82: 5.2.30 | D82: =+'NO DELETE'!AK33 -> ป้ายจราจรแบบ น 2 ( 4 ชิ้น) | F82: ชุด | G82: =IF(E82<=0,0,) -> 0 | H82: =IF(E82<=0,0,) -> 0 | I82: =ROUND(IF(E82<=0,0,IF('NO DELETE'!$AH$35=1,'NO DELETE'!AL33,IF('NO DELETE'!$AH$35=2,'NO DELETE'!AM33,'NO DELETE'!AN33))),2) -> 0 | J82: =E82*I82 -> 0 | K82: =IF(E82>0,'NO DELETE'!$Q$18,) -> 0 | L82: =ROUND(K82*I82,1) -> 0 | M82: =L82*E82 -> 0 | N82: =+VLOOKUP('NO DELETE'!$AH$35,'NO DELETE'!$AD$44:$AE$46,2) -> SIZE 2
C83: 5.2.31 | D83: =+'NO DELETE'!AK34 -> ป้ายจราจรแบบ น 3 ( 1 ชิ้น) | F83: ชุด | G83: =IF(E83<=0,0,) -> 0 | H83: =IF(E83<=0,0,) -> 0 | I83: =ROUND(IF(E83<=0,0,IF('NO DELETE'!$AH$35=1,'NO DELETE'!AL34,IF('NO DELETE'!$AH$35=2,'NO DELETE'!AM34,'NO DELETE'!AN34))),2) -> 0 | J83: =E83*I83 -> 0 | K83: =IF(E83>0,'NO DELETE'!$Q$18,) -> 0 | L83: =ROUND(K83*I83,1) -> 0 | M83: =L83*E83 -> 0 | N83: =+VLOOKUP('NO DELETE'!$AH$35,'NO DELETE'!$AD$44:$AE$46,2) -> SIZE 2
C84: 5.2.32 | D84: =+'NO DELETE'!AK35 -> ป้ายจราจรแบบ น 3 ( 2 ชิ้น) | F84: ชุด | G84: =IF(E84<=0,0,) -> 0 | H84: =IF(E84<=0,0,) -> 0 | I84: =ROUND(IF(E84<=0,0,IF('NO DELETE'!$AH$35=1,'NO DELETE'!AL35,IF('NO DELETE'!$AH$35=2,'NO DELETE'!AM35,'NO DELETE'!AN35))),2) -> 0 | J84: =E84*I84 -> 0 | K84: =IF(E84>0,'NO DELETE'!$Q$18,) -> 0 | L84: =ROUND(K84*I84,1) -> 0 | M84: =L84*E84 -> 0 | N84: =+VLOOKUP('NO DELETE'!$AH$35,'NO DELETE'!$AD$44:$AE$46,2) -> SIZE 2
C85: 5.2.33 | D85: =+'NO DELETE'!AK36 -> ป้ายจราจรแบบ น 3 ( 3 ชิ้น) | F85: ชุด | G85: =IF(E85<=0,0,) -> 0 | H85: =IF(E85<=0,0,) -> 0 | I85: =ROUND(IF(E85<=0,0,IF('NO DELETE'!$AH$35=1,'NO DELETE'!AL36,IF('NO DELETE'!$AH$35=2,'NO DELETE'!AM36,'NO DELETE'!AN36))),2) -> 0 | J85: =E85*I85 -> 0 | K85: =IF(E85>0,'NO DELETE'!$Q$18,) -> 0 | L85: =ROUND(K85*I85,1) -> 0 | M85: =L85*E85 -> 0 | N85: =+VLOOKUP('NO DELETE'!$AH$35,'NO DELETE'!$AD$44:$AE$46,2) -> SIZE 2
C86: 5.2.34 | D86: =+'NO DELETE'!AK37 -> ป้ายจราจรแบบ น 4 | F86: ชุด | G86: =IF(E86<=0,0,) -> 0 | H86: =IF(E86<=0,0,) -> 0 | I86: =ROUND(IF(E86<=0,0,IF('NO DELETE'!$AH$35=1,'NO DELETE'!AL37,IF('NO DELETE'!$AH$35=2,'NO DELETE'!AM37,'NO DELETE'!AN37))),2) -> 0 | J86: =E86*I86 -> 0 | K86: =IF(E86>0,'NO DELETE'!$Q$18,) -> 0 | L86: =ROUND(K86*I86,1) -> 0 | M86: =L86*E86 -> 0 | N86: =+VLOOKUP('NO DELETE'!$AH$35,'NO DELETE'!$AD$44:$AE$46,2) -> SIZE 2
C87: 5.2.35 | D87: =+'NO DELETE'!AK38 -> ป้ายจราจรแบบ น 5 | F87: ชุด | G87: =IF(E87<=0,0,) -> 0 | H87: =IF(E87<=0,0,) -> 0 | I87: =ROUND(IF(E87<=0,0,IF('NO DELETE'!$AH$35=1,'NO DELETE'!AL38,IF('NO DELETE'!$AH$35=2,'NO DELETE'!AM38,'NO DELETE'!AN38))),2) -> 0 | J87: =E87*I87 -> 0 | K87: =IF(E87>0,'NO DELETE'!$Q$18,) -> 0 | L87: =ROUND(K87*I87,1) -> 0 | M87: =L87*E87 -> 0 | N87: =+VLOOKUP('NO DELETE'!$AH$35,'NO DELETE'!$AD$44:$AE$46,2) -> SIZE 2
C88: 5.2.36 | D88: =+'NO DELETE'!AK39 -> ป้ายจราจรแบบ น 6 | F88: ชุด | G88: =IF(E88<=0,0,) -> 0 | H88: =IF(E88<=0,0,) -> 0 | I88: =ROUND(IF(E88<=0,0,IF('NO DELETE'!$AH$35=1,'NO DELETE'!AL39,IF('NO DELETE'!$AH$35=2,'NO DELETE'!AM39,'NO DELETE'!AN39))),2) -> 0 | J88: =E88*I88 -> 0 | K88: =IF(E88>0,'NO DELETE'!$Q$18,) -> 0 | L88: =ROUND(K88*I88,1) -> 0 | M88: =L88*E88 -> 0 | N88: =+VLOOKUP('NO DELETE'!$AH$35,'NO DELETE'!$AD$44:$AE$46,2) -> SIZE 2
C89: 5.2.37 | D89: =+'NO DELETE'!AK40 -> ป้ายจราจรแบบ น 7 | F89: ชุด | G89: =IF(E89<=0,0,) -> 0 | H89: =IF(E89<=0,0,) -> 0 | I89: =ROUND(IF(E89<=0,0,IF('NO DELETE'!$AH$35=1,'NO DELETE'!AL40,IF('NO DELETE'!$AH$35=2,'NO DELETE'!AM40,'NO DELETE'!AN40))),2) -> 0 | J89: =E89*I89 -> 0 | K89: =IF(E89>0,'NO DELETE'!$Q$18,) -> 0 | L89: =ROUND(K89*I89,1) -> 0 | M89: =L89*E89 -> 0 | N89: =+VLOOKUP('NO DELETE'!$AH$35,'NO DELETE'!$AD$44:$AE$46,2) -> SIZE 2
C90: 5.2.38 | D90: =+'NO DELETE'!AK41 -> ป้ายจราจรแบบ น 8 | F90: ชุด | G90: =IF(E90<=0,0,) -> 0 | H90: =IF(E90<=0,0,) -> 0 | I90: =ROUND(IF(E90<=0,0,IF('NO DELETE'!$AH$35=1,'NO DELETE'!AL41,IF('NO DELETE'!$AH$35=2,'NO DELETE'!AM41,'NO DELETE'!AN41))),2) -> 0 | J90: =E90*I90 -> 0 | K90: =IF(E90>0,'NO DELETE'!$Q$18,) -> 0 | L90: =ROUND(K90*I90,1) -> 0 | M90: =L90*E90 -> 0 | N90: =+VLOOKUP('NO DELETE'!$AH$35,'NO DELETE'!$AD$44:$AE$46,2) -> SIZE 2
C91: 5.2.39 | D91: =+'NO DELETE'!AK42 -> ป้ายจราจรแบบ นส 1 - นส 14 | F91: ชุด | G91: =IF(E91<=0,0,) -> 0 | H91: =IF(E91<=0,0,) -> 0 | I91: =ROUND(IF(E91<=0,0,IF('NO DELETE'!$AH$35=1,'NO DELETE'!AL42,IF('NO DELETE'!$AH$35=2,'NO DELETE'!AM42,'NO DELETE'!AN42))),2) -> 0 | J91: =E91*I91 -> 0 | K91: =IF(E91>0,'NO DELETE'!$Q$18,) -> 0 | L91: =ROUND(K91*I91,1) -> 0 | M91: =L91*E91 -> 0 | N91: =+VLOOKUP('NO DELETE'!$AH$35,'NO DELETE'!$AD$44:$AE$46,2) -> SIZE 2
C92: 5.2.40 | D92: =+'NO DELETE'!AK43 -> ป้ายจราจรแบบ บ 3-บ 55 + ต 1-ต 27,ต 31- ต 60 | F92: ชุด | G92: =IF(E92<=0,0,) -> 0 | H92: =IF(E92<=0,0,) -> 0 | I92: =ROUND(IF(E92<=0,0,IF('NO DELETE'!$AH$35=1,'NO DELETE'!AL43,IF('NO DELETE'!$AH$35=2,'NO DELETE'!AM43,'NO DELETE'!AN43))),2) -> 0 | J92: =E92*I92 -> 0 | K92: =IF(E92>0,'NO DELETE'!$Q$18,) -> 0 | L92: =ROUND(K92*I92,1) -> 0 | M92: =L92*E92 -> 0 | N92: =+VLOOKUP('NO DELETE'!$AH$35,'NO DELETE'!$AD$44:$AE$46,2) -> SIZE 2
C93: 5.2.41 | D93: =+'NO DELETE'!AK44 -> ป้ายจราจรแบบ ต 1- ต 27 + ต1 - ต 27 | F93: ชุด | G93: =IF(E93<=0,0,) -> 0 | H93: =IF(E93<=0,0,) -> 0 | I93: =ROUND(IF(E93<=0,0,IF('NO DELETE'!$AH$35=1,'NO DELETE'!AL44,IF('NO DELETE'!$AH$35=2,'NO DELETE'!AM44,'NO DELETE'!AN44))),2) -> 0 | J93: =E93*I93 -> 0 | K93: =IF(E93>0,'NO DELETE'!$Q$18,) -> 0 | L93: =ROUND(K93*I93,1) -> 0 | M93: =L93*E93 -> 0 | N93: =+VLOOKUP('NO DELETE'!$AH$39,'NO DELETE'!$AD$44:$AE$46,2) -> SIZE 2
C94: 5.2.42 | D94: =+'NO DELETE'!AK45 -> ป้ายจราจรแบบ ต 1- ต 27 + ต31 - ต 60 | F94: ชุด | G94: =IF(E94<=0,0,) -> 0 | H94: =IF(E94<=0,0,) -> 0 | I94: =ROUND(IF(E94<=0,0,IF('NO DELETE'!$AH$35=1,'NO DELETE'!AL45,IF('NO DELETE'!$AH$35=2,'NO DELETE'!AM45,'NO DELETE'!AN45))),2) -> 0 | J94: =E94*I94 -> 0 | K94: =IF(E94>0,'NO DELETE'!$Q$18,) -> 0 | L94: =ROUND(K94*I94,1) -> 0 | M94: =L94*E94 -> 0 | N94: =+VLOOKUP('NO DELETE'!$AH$39,'NO DELETE'!$AD$44:$AE$46,2) -> SIZE 2
C95: 5.2.43 | D95: =+'NO DELETE'!AK46 -> ป้ายจราจรแบบ ต 31- ต 60 + ต31 - ต 60 | F95: ชุด | G95: =IF(E95<=0,0,) -> 0 | H95: =IF(E95<=0,0,) -> 0 | I95: =ROUND(IF(E95<=0,0,IF('NO DELETE'!$AH$35=1,'NO DELETE'!AL46,IF('NO DELETE'!$AH$35=2,'NO DELETE'!AM46,'NO DELETE'!AN46))),2) -> 0 | J95: =E95*I95 -> 0 | K95: =IF(E95>0,'NO DELETE'!$Q$18,) -> 0 | L95: =ROUND(K95*I95,1) -> 0 | M95: =L95*E95 -> 0 | N95: =+VLOOKUP('NO DELETE'!$AH$39,'NO DELETE'!$AD$44:$AE$46,2) -> SIZE 2
C96: 5.2.44 | D96: =+'NO DELETE'!AK47 -> ป้ายจราจรแบบ ต 1- ต 27 + ต 74 | F96: ชุด | G96: =IF(E96<=0,0,) -> 0 | H96: =IF(E96<=0,0,) -> 0 | I96: =ROUND(IF(E96<=0,0,IF('NO DELETE'!$AH$35=1,'NO DELETE'!AL47,IF('NO DELETE'!$AH$35=2,'NO DELETE'!AM47,'NO DELETE'!AN47))),2) -> 0 | J96: =E96*I96 -> 0 | K96: =IF(E96>0,'NO DELETE'!$Q$18,) -> 0 | L96: =ROUND(K96*I96,1) -> 0 | M96: =L96*E96 -> 0 | N96: =+VLOOKUP('NO DELETE'!$AH$39,'NO DELETE'!$AD$44:$AE$46,2) -> SIZE 2
C97: 5.2.45 | D97: =+'NO DELETE'!AK48 -> ป้ายจราจรแบบ ต 31- ต 60 + ต 74 | F97: ชุด | G97: =IF(E97<=0,0,) -> 0 | H97: =IF(E97<=0,0,) -> 0 | I97: =ROUND(IF(E97<=0,0,IF('NO DELETE'!$AH$35=1,'NO DELETE'!AL48,IF('NO DELETE'!$AH$35=2,'NO DELETE'!AM48,'NO DELETE'!AN48))),2) -> 0 | J97: =E97*I97 -> 0 | K97: =IF(E97>0,'NO DELETE'!$Q$18,) -> 0 | L97: =ROUND(K97*I97,1) -> 0 | M97: =L97*E97 -> 0 | N97: =+VLOOKUP('NO DELETE'!$AH$39,'NO DELETE'!$AD$44:$AE$46,2) -> SIZE 2
C98: 5.2.46 | D98: =+'NO DELETE'!AK49 -> ป้ายจราจรแบบ ต 1- ต 27 + ต 75 | F98: ชุด | G98: =IF(E98<=0,0,) -> 0 | H98: =IF(E98<=0,0,) -> 0 | I98: =ROUND(IF(E98<=0,0,IF('NO DELETE'!$AH$35=1,'NO DELETE'!AL49,IF('NO DELETE'!$AH$35=2,'NO DELETE'!AM49,'NO DELETE'!AN49))),2) -> 0 | J98: =E98*I98 -> 0 | K98: =IF(E98>0,'NO DELETE'!$Q$18,) -> 0 | L98: =ROUND(K98*I98,1) -> 0 | M98: =L98*E98 -> 0 | N98: =+VLOOKUP('NO DELETE'!$AH$39,'NO DELETE'!$AD$44:$AE$46,2) -> SIZE 2
C99: 5.2.47 | D99: =+'NO DELETE'!AK50 -> ป้ายจราจรแบบ ต 31- ต 60 + ต 75 | F99: ชุด | G99: =IF(E99<=0,0,) -> 0 | H99: =IF(E99<=0,0,) -> 0 | I99: =ROUND(IF(E99<=0,0,IF('NO DELETE'!$AH$35=1,'NO DELETE'!AL50,IF('NO DELETE'!$AH$35=2,'NO DELETE'!AM50,'NO DELETE'!AN50))),2) -> 0 | J99: =E99*I99 -> 0 | K99: =IF(E99>0,'NO DELETE'!$Q$18,) -> 0 | L99: =ROUND(K99*I99,1) -> 0 | M99: =L99*E99 -> 0 | N99: =+VLOOKUP('NO DELETE'!$AH$39,'NO DELETE'!$AD$44:$AE$46,2) -> SIZE 2
C100: 5.2.48 | D100: =+'NO DELETE'!AK51 -> ป้ายจราจรแบบ ต 1- ต 27 + ต 76 | F100: ชุด | G100: =IF(E100<=0,0,) -> 0 | H100: =IF(E100<=0,0,) -> 0 | I100: =ROUND(IF(E100<=0,0,IF('NO DELETE'!$AH$35=1,'NO DELETE'!AL51,IF('NO DELETE'!$AH$35=2,'NO DELETE'!AM51,'NO DELETE'!AN51))),2) -> 0 | J100: =E100*I100 -> 0 | K100: =IF(E100>0,'NO DELETE'!$Q$18,) -> 0 | L100: =ROUND(K100*I100,1) -> 0 | M100: =L100*E100 -> 0 | N100: =+VLOOKUP('NO DELETE'!$AH$39,'NO DELETE'!$AD$44:$AE$46,2) -> SIZE 2
C101: 5.2.49 | D101: =+'NO DELETE'!AK52 -> ป้ายจราจรแบบ ต 31- ต 60 + ต 76 | F101: ชุด | G101: =IF(E101<=0,0,) -> 0 | H101: =IF(E101<=0,0,) -> 0 | I101: =ROUND(IF(E101<=0,0,IF('NO DELETE'!$AH$35=1,'NO DELETE'!AL52,IF('NO DELETE'!$AH$35=2,'NO DELETE'!AM52,'NO DELETE'!AN52))),2) -> 0 | J101: =E101*I101 -> 0 | K101: =IF(E101>0,'NO DELETE'!$Q$18,) -> 0 | L101: =ROUND(K101*I101,1) -> 0 | M101: =L101*E101 -> 0 | N101: =+VLOOKUP('NO DELETE'!$AH$39,'NO DELETE'!$AD$44:$AE$46,2) -> SIZE 2
C102: 5.2.50 | D102: =+'NO DELETE'!AK53 -> ป้ายจราจรแบบ ต 1- ต 27 + ต 77 | F102: ชุด | G102: =IF(E102<=0,0,) -> 0 | H102: =IF(E102<=0,0,) -> 0 | I102: =ROUND(IF(E102<=0,0,IF('NO DELETE'!$AH$35=1,'NO DELETE'!AL53,IF('NO DELETE'!$AH$35=2,'NO DELETE'!AM53,'NO DELETE'!AN53))),2) -> 0 | J102: =E102*I102 -> 0 | K102: =IF(E102>0,'NO DELETE'!$Q$18,) -> 0 | L102: =ROUND(K102*I102,1) -> 0 | M102: =L102*E102 -> 0 | N102: =+VLOOKUP('NO DELETE'!$AH$39,'NO DELETE'!$AD$44:$AE$46,2) -> SIZE 2
C103: 5.2.51 | D103: =+'NO DELETE'!AK54 -> ป้ายจราจรแบบ ต 31- ต 60 + ต 77 | F103: ชุด | G103: =IF(E103<=0,0,) -> 0 | H103: =IF(E103<=0,0,) -> 0 | I103: =ROUND(IF(E103<=0,0,IF('NO DELETE'!$AH$35=1,'NO DELETE'!AL54,IF('NO DELETE'!$AH$35=2,'NO DELETE'!AM54,'NO DELETE'!AN54))),2) -> 0 | J103: =E103*I103 -> 0 | K103: =IF(E103>0,'NO DELETE'!$Q$18,) -> 0 | L103: =ROUND(K103*I103,1) -> 0 | M103: =L103*E103 -> 0 | N103: =+VLOOKUP('NO DELETE'!$AH$39,'NO DELETE'!$AD$44:$AE$46,2) -> SIZE 2
...

Sheet ปร.4_งานทั่วไป
A1: แบบประเมินราคางานทั่วไป
A2: ชื่อโครงการ | C2: =+ปร.5_Roads!C4&" "&ปร.5_Roads!C6&" "&ปร.5_Roads!F6&" "&ปร.5_Roads!C7 -> บำรุงพิเศษ ซ่อมสร้างผิวทาง Asphaltic Concrete ปน.4031 แยกทางหลวงหมายเลข 4157-บ้านปาตา อำเภอ ปะนาเระ,ยะหริ่ง จังหวัด ปัตตานี
A3: ระยะทาง | C3: 0.775 | D3: กม. | E3: จาก กม. | F3: 8225 | G3: ถึง กม. | H3: 9000
A4: ผิวทาง | C4: คอนกรีตเสริมเหล็ก | E4: กว้าง | F4: 6 | G4: เมตร
A5: ไหล่ทาง | E5: กว้างข้างละ | F5: 0 | G5: เมตร
A6: ประมาณราคา | D6: =+ปร.5_Roads!H3 -> วันที่ 10 พฤศจิกายน พ.ศ. 2558
A8: ลำดับที่ | B8: รายการ | E8: หน่วย | F8: ปริมาณ | G8: ค่างานต้นทุน (บาท) | I8: Factor F | J8: ราคากลาง (บาท)
G9: ราคาต่อหน่วย | H9: รวม | J9: ราคาต่อหน่วย | K9: รวม
B10: ประเภทงานทั่วไป
A11: 1 | B11: งานอำนวยการสำหรับผู้ควบคุมงาน
B12: 1.1 | C12: งานอาคารสำนักงานสนาม | K12: =ROUNDDOWN(F12*J12,2) -> 0
C13: 1.1 ค่าใช้จ่ายรายเดือน | E13: เดือน | G13: 5900 | H13: =ROUNDDOWN(F13*G13,2) -> 0 | I13: 1.07 | J13: =ROUNDDOWN(G13*I13,2) -> 6313 | K13: =ROUNDDOWN(H13*I13,2) -> 0
C14: 1.2 เหมาจ่ายตรง | E14: L.S. | G14: 47000 | H14: =ROUNDDOWN(F14*G14,2) -> 0 | I14: 1.07 | J14: =ROUNDDOWN(G14*I14,2) -> 50290 | K14: =ROUNDDOWN(H14*I14,2) -> 0
A15: 2 | B15: การจัดหารถยนต์ พร้อมน้ำมันเชื้อเพลิง การบำรุงรักษาและประกันภัย | E15: เดือน | F15: 3 | G15: 10000 | H15: =ROUNDDOWN(F15*G15,2) -> 30000 | I15: 1.07 | J15: =ROUNDDOWN(G15*I15,2) -> 10700 | K15: =ROUNDDOWN(H15*I15,2) -> 32100
A16: 3 | B16: เครื่องมือและอุปรณ์ในการสำรวจ | E16: เดือน | F16: 0 | G16: 1900 | H16: =ROUNDDOWN(F16*G16,2) -> 0 | I16: 1.07 | J16: =ROUNDDOWN(G16*I16,2) -> 2033 | K16: =ROUNDDOWN(H16*I16,2) -> 0
A17: 4 | B17: เครื่องมือและอุปรณ์ในการทดสอบ | E17: เดือน | F17: 0 | G17: 36000 | H17: =ROUNDDOWN(F17*G17,2) -> 0 | I17: 1.07 | J17: =ROUNDDOWN(G17*I17,2) -> 38520 | K17: =ROUNDDOWN(H17*I17,2) -> 0
A18: 2 | B18: งานตามคำสั่งของผู้ว่าจ้าง | H18: =ROUNDDOWN(F18*G18,2) -> 0 | K18: =ROUNDDOWN(H18*I18,2) -> 0
B19: 2.1 | C19: งานขยายเขตไฟฟ้าและติดตั้งหม้อแปลงสำหรับระบบไฟฟ้าแสงสว่าง | E19: เงินจร | H19: =ROUNDDOWN(F19*G19,2) -> 0 | I19: 1.07 | J19: =ROUNDDOWN(G19*I19,2) -> 0 | K19: =ROUNDDOWN(H19*I19,2) -> 0
B20: 2.2 | C20: งานรื้อย้ายสาธารณูปโภคที่ดำเนินการโดยหน่วยงานเจ้าของสาธารณูปโภค | E20: เงินจร | H20: =ROUNDDOWN(F20*G20,2) -> 0 | I20: 1.07 | J20: =ROUNDDOWN(G20*I20,2) -> 0 | K20: =ROUNDDOWN(H20*I20,2) -> 0
C21: งานรื้อย้ายเสาไฟฟ้าจำนวน ต้น | H21: =ROUNDDOWN(F21*G21,2) -> 0 | K21: =ROUNDDOWN(H21*I21,2) -> 0
B22: 2.3 | C22: งานเจาะสำรวจชั้นดินและงานทดสอบพิเศษ (นอกเหนือจากที่ระบุในสัญญา) | E22: เงินจร | H22: =ROUNDDOWN(F22*G22,2) -> 0 | I22: 1.07 | J22: =ROUNDDOWN(G22*I22,2) -> 0 | K22: =ROUNDDOWN(H22*I22,2) -> 0
B23: 2.4 | C23: งานทดสอบกำลังรับน้ำหนักบรรทุกของเสาเข็ม (จำนวน..............ต้น) | E23: เงินจร | H23: =ROUNDDOWN(F23*G23,2) -> 0 | I23: 1.07 | J23: =ROUNDDOWN(G23*I23,2) -> 0 | K23: =ROUNDDOWN(H23*I23,2) -> 0
B24: 2.5 | C24: งานการมีส่วนร่วมภาคประชาชน | E24: เงินจร | G24: 29000 | H24: =ROUNDDOWN(F24*G24,2) -> 0 | I24: 1.07 | J24: =ROUNDDOWN(G24*I24,2) -> 31030 | K24: =ROUNDDOWN(H24*I24,2) -> 0
B25: 2.6 | C25: งานลดผลกระทบสิ่งแวดล้อมในระหว่างการก่อสร้าง (นอกเหนือจากที่ระบุ | H25: =ROUNDDOWN(F25*G25,2) -> 0 | K25: =ROUNDDOWN(H25*I25,2) -> 0
C26: ในสัญญา ) | E26: เงินจร | H26: =ROUNDDOWN(F26*G26,2) -> 0 | I26: 1.07 | J26: =ROUNDDOWN(G26*I26,2) -> 0 | K26: =ROUNDDOWN(H26*I26,2) -> 0
B27: 2.7 | C27: งานอำนวยความปลอดภัยและจัดการจราจรในระหว่างการก่อสร้าง | H27: =ROUNDDOWN(F27*G27,2) -> 0 | K27: =ROUNDDOWN(H27*I27,2) -> 0
C28: (นอกเหนือจากที่ระบุในสัญญา) | E28: เงินจร | F28: 0 | G28: 20000 | H28: =ROUNDDOWN(F28*G28,2) -> 0 | I28: 1.07 | J28: =ROUNDDOWN(G28*I28,2) -> 21400 | K28: =ROUNDDOWN(H28*I28,2) -> 0
C31: รวมค่างานต้นทุนงานทั่วไป | H31: =SUM(H12:H28) -> 30000
C32: ภาษีมูลค่าเพิ่ม 7% = | I32: 1.07
C33: เป็นเงินค่างานประเมิน | K33: =ROUNDDOWN(H31*I32,2) -> 32100
A36: หมายเหตุ | C36: - จำนวนเงินหรือรายการที่รวมอยู่ในสัญญา ตามที่ระบุไว้ในตารางแสดงปริมาณงานและค่างาน เพื่อใช้ดำเนินการหรือจัดหาผลิตภัณฑ์ วัสดุหรือบริการ
C37: - จำนวนเงินในงานประเภททั่วไปอาจใช้ทั้งหมด หรือใช้บางส่วน หรืออาจไม่ใช้เลย ทั้งนี้ตามแต่คำสั่งและดุลพินิจของผู้ว่าจ้าง
C38: - การเบิกจ่ายค่างาน จะต้องได้รับความเห็นชอบจากผู้ว่าจ้างก่อน

Sheet GABION BOX
A1: รายการประมาณราคาต่อหน่วยของกล่องใส่หิน (Gabion Box) | P1: ข้อมูลแหล่งวัสดุและระยะทางขนส่ง
A2: โครงการก่อสร้างป้องกันการกัดเซาะคันทางแบบกล่องใส่หิน (GABION BOX) | F2: ช่วงกม.ที่ | G2: 2+800
A3: สายทาง | B3: =+'4.ต้นทุนระบายน้ำ'!C8&" "&'4.ต้นทุนระบายน้ำ'!F8&" "&'4.ต้นทุนระบายน้ำ'!C9 -> ปน.4031 แยกทางหลวงหมายเลข 4157-บ้านปาตา อำเภอ ปะนาเระ,ยะหริ่ง จังหวัด ปัตตานี | F3: ความยาว | G3: 160 | H3: ม.
A4: ลำดับที่ | B4: รายการ | C4: จำนวน | D4: หน่วย | E4: ค่าวัสดุ + ค่าแรง | H4: เป็นเงิน | J4: =+แหล่งวัสดุ!B71 -> สำนักดัชนีการค้า สตูล(กันยายน 58) | N4: =+แหล่งวัสดุ!E71 -> หินใหญ่ ขนาด 7 ซม. - 25 ซม. | P4: =+แหล่งวัสดุ!F71 -> 476.64 | Q4: บาท/ลบ.ม. | R4: ระยะขนส่ง | S4: =+แหล่งวัสดุ!H71 -> 150 | T4: = | U4: =IF(แหล่งวัสดุ!L$32=1,IF(S4<=200,VLOOKUP(S4,'S2'!B$5:'S2'!F$204,3),IF(S4>200,(S4-200)*'S2'!D$205+'S2'!D$204)),IF(แหล่งวัสดุ!L$32=2,IF(S4<=200,VLOOKUP(S4,'S2'!B$5:'S2'!F$204,5),IF(S4>200,(S4-200)*'S2'!F$205+'S2'!F$204)))) -> 472.35 | V4: บาท/ลบ.ม.
E5: ค่าวัสดุ | F5: ค่าแรง | G5: รวม | J5: งานหินใหญ่
A6: 1 | B6: =+แหล่งวัสดุ!$B$65 -> กล่อง Gabion Box ชนิดเคลือบสังกะสี ขนาด 1.50 x 1.00 x 1.00 ม. | C6: 1 | D6: กล่อง | E6: =+IF(C6>0,แหล่งวัสดุ!$F$65,) -> 1408 | F6: =+IF(C6>0,$U$11,) -> 60 | G6: =SUM(E6:F7) -> 1468 | H6: =G6*C6 -> 1468 | J6: - ค่าวัสดุ | T6: = | U6: =+P4 -> 476.64 | V6: บาท/ลบ.ม.(หลวม)
J7: - ค่าขนส่ง | T7: = | U7: =+U4 -> 472.35 | V7: บาท/ลบ.ม.(หลวม)
A8: =+A6+1 -> 2 | B8: =+แหล่งวัสดุ!$B$66 -> กล่อง Gabion Box ชนิดเคลือบสังกะสี ขนาด 2.00 x 1.00 x 1.00 ม. | C8: 1 | D8: กล่อง | E8: =+IF(C8>0,แหล่งวัสดุ!$F$66,) -> 1887 | F8: =+IF(C8>0,$U$11,) -> 60 | G8: =SUM(E8:F9) -> 1947 | H8: =G8*C8 -> 1947 | L8: รวมค่าวัสดุและขนส่ง | T8: = | U8: =ROUND(SUM(U6:U7),2) -> 948.99 | V8: บาท/ลบ.ม.(หลวม)
P9: อัตราการยุบตัว | Q9: 1.15 | T9: = | U9: =ROUND(Q9*U8,2) -> 1091.34 | V9: บาท/ลบ.ม.(แน่น)
A10: =+A8+1 -> 3 | B10: =+แหล่งวัสดุ!$B$67 -> กล่อง Mattress ชนิดเคลือบสังกะสี ขนาด 4.00 x 2.00 x 0.30 ม. | C10: 1 | D10: กล่อง | E10: =+IF(C10>0,แหล่งวัสดุ!$F$67,) -> 3322 | F10: =+IF(C10>0,$U$11,) -> 60 | G10: =SUM(E10:F11) -> 3382 | H10: =G10*C10 -> 3382 | L10: รวมค่าวัสดุและค่าแรงเป็นเงิน | T10: = | U10: =+U9 -> 1091.34 | V10: บาท/ลบ.ม.(แน่น)
J11: ค่าแรงประกอบกล่อง | L11: คิดจากฐานค่าแรงขั้นต่ำ | O11: 300 | P11: บาท/วัน | T11: = | U11: =+O11/5 -> 60 | V11: บาท/กล่อง
A12: =+A10+1 -> 4 | B12: =+แหล่งวัสดุ!$B$68 -> กล่อง Mattress ชนิดเคลือบสังกะสี ขนาด 3.00 x 2.00 x 0.30 ม. | C12: 1 | D12: กล่อง | E12: =+IF(C12>0,แหล่งวัสดุ!$F$68,) -> 2530 | F12: =+IF(C12>0,$U$11,) -> 60 | G12: =SUM(E12:F13) -> 2590 | H12: =G12*C12 -> 2590 | J12: ค่าแรงงานหิน | T12: = | U12: 224.38 | V12: บาท/ลบ.ม.
A14: =+A12+1 -> 5 | B14: =+แหล่งวัสดุ!$B$69 -> กล่อง Mattress ชนิดเคลือบสังกะสี ขนาด 6.00 x 2.00 x 0.30 ม. | C14: 1 | D14: กล่อง | E14: =+IF(C14>0,แหล่งวัสดุ!$F$69,) -> 4835 | F14: =+IF(C14>0,$U$11,) -> 60 | G14: =SUM(E14:F15) -> 4895 | H14: =G14*C14 -> 4895
A16: =+A14+1 -> 6 | B16: =+แหล่งวัสดุ!$B$70 -> แผ่นใยสังเคราะห์ชนิดที่ 2 | C16: 1 | D16: ตร.ม. | E16: =+IF(C16>0,แหล่งวัสดุ!$F$70,) -> 65 | F16: =+IF(C16>0,15,) -> 15 | G16: =SUM(E16:F16) -> 80 | H16: =C16*G16 -> 80
A17: =+A16+1 -> 7 | B17: หินใหญ่ ขนาด 7 ซม. - 25 ซม. | C17: 1 | D17: ลบ.ม. | E17: =+IF(C17>0,$U$10,) -> 1091.34 | F17: =+IF(C17>0,$U$12,) -> 224.38 | G17: =SUM(E17:F17) -> 1315.72 | H17: =C17*G17 -> 1315.72
A18: รวมราคาค่าก่อสร้างทั้งหมด | H18: =SUM(H6:H17) -> 15677.72
A20: ประมาณราคา ………………………………………….. | C20: ตรวจ …………………………………………….
B21: =ปร.4_Roads!D173 -> ( นายวัลลภ มูสิกะเจริญ ) นายช่างโยธาชำนาญงาน | E21: =ปร.4_Roads!H173 -> ( นางสาวปิญาภา ศรีมณี ) วิศวกรโยธาชำนาญการ
A22: รายการประมาณราคาต่อหน่วยของกล่องใส่หิน (Gabion Box)
A23: โครงการก่อสร้างป้องกันการกัดเซาะคันทางแบบกล่องใส่หิน (GABION BOX) | F23: ช่วงกม.ที่ | G23: 600
A24: =A3 -> สายทาง | B24: =B3 -> ปน.4031 แยกทางหลวงหมายเลข 4157-บ้านปาตา อำเภอ ปะนาเระ,ยะหริ่ง จังหวัด ปัตตานี | F24: ความยาว | G24: 75 | H24: ม.
A25: ลำดับที่ | B25: รายการ | C25: จำนวน | D25: หน่วย | E25: ค่าวัสดุ + ค่าแรง | H25: เป็นเงิน
E26: ค่าวัสดุ | F26: ค่าแรง | G26: รวม
A27: 1 | B27: =+แหล่งวัสดุ!$B$65 -> กล่อง Gabion Box ชนิดเคลือบสังกะสี ขนาด 1.50 x 1.00 x 1.00 ม. | C27: 1 | D27: กล่อง | E27: =+IF(C27>0,แหล่งวัสดุ!$F$65,) -> 1408 | F27: =+IF(C27>0,$U$11,) -> 60 | G27: =SUM(E27:F28) -> 1468 | H27: =G27*C27 -> 1468
A29: =+A27+1 -> 2 | B29: =+แหล่งวัสดุ!$B$66 -> กล่อง Gabion Box ชนิดเคลือบสังกะสี ขนาด 2.00 x 1.00 x 1.00 ม. | C29: 1 | D29: กล่อง | E29: =+IF(C29>0,แหล่งวัสดุ!$F$66,) -> 1887 | F29: =+IF(C29>0,$U$11,) -> 60 | G29: =SUM(E29:F30) -> 1947 | H29: =G29*C29 -> 1947
A31: =+A29+1 -> 3 | B31: =+แหล่งวัสดุ!$B$67 -> กล่อง Mattress ชนิดเคลือบสังกะสี ขนาด 4.00 x 2.00 x 0.30 ม. | C31: 1 | D31: กล่อง | E31: =+IF(C31>0,แหล่งวัสดุ!$F$67,) -> 3322 | F31: =+IF(C31>0,$U$11,) -> 60 | G31: =SUM(E31:F32) -> 3382 | H31: =G31*C31 -> 3382
A33: =+A31+1 -> 4 | B33: =+แหล่งวัสดุ!$B$68 -> กล่อง Mattress ชนิดเคลือบสังกะสี ขนาด 3.00 x 2.00 x 0.30 ม. | C33: 1 | D33: กล่อง | E33: =+IF(C33>0,แหล่งวัสดุ!$F$68,) -> 2530 | F33: =+IF(C33>0,$U$11,) -> 60 | G33: =SUM(E33:F34) -> 2590 | H33: =G33*C33 -> 2590
A35: =+A33+1 -> 5 | B35: =+แหล่งวัสดุ!$B$69 -> กล่อง Mattress ชนิดเคลือบสังกะสี ขนาด 6.00 x 2.00 x 0.30 ม. | C35: 1 | D35: กล่อง | E35: =+IF(C35>0,แหล่งวัสดุ!$F$69,) -> 4835 | F35: =+IF(C35>0,$U$11,) -> 60 | G35: =SUM(E35:F36) -> 4895 | H35: =G35*C35 -> 4895
A37: =+A35+1 -> 6 | B37: =+แหล่งวัสดุ!$B$70 -> แผ่นใยสังเคราะห์ชนิดที่ 2 | C37: 1 | D37: ตร.ม. | E37: =+IF(C37>0,แหล่งวัสดุ!$F$70,) -> 65 | F37: =+IF(C37>0,15,) -> 15 | G37: =SUM(E37:F37) -> 80 | H37: =C37*G37 -> 80
A38: =+A37+1 -> 7 | B38: หินใหญ่ ขนาด 7 ซม. - 25 ซม. | C38: 1 | D38: ลบ.ม. | E38: =+IF(C38>0,$U$10,) -> 1091.34 | F38: =+IF(C38>0,$U$12,) -> 224.38 | G38: =SUM(E38:F38) -> 1315.72 | H38: =C38*G38 -> 1315.72
A39: รวมราคาค่าก่อสร้างทั้งหมด | H39: =SUM(H27:H38) -> 15677.72
A41: ประมาณราคา ………………………………………….. | C41: ตรวจ …………………………………………….
B42: =+B21 -> ( นายวัลลภ มูสิกะเจริญ ) นายช่างโยธาชำนาญงาน | E42: =+E21 -> ( นางสาวปิญาภา ศรีมณี ) วิศวกรโยธาชำนาญการ
A43: รายการประมาณราคาต่อหน่วยของกล่องใส่หิน (Gabion Box)
A44: โครงการก่อสร้างป้องกันการกัดเซาะคันทางแบบกล่องใส่หิน (GABION BOX) | F44: ช่วงกม.ที่ | G44: 9850
A45: =A24 -> สายทาง | B45: =B24 -> ปน.4031 แยกทางหลวงหมายเลข 4157-บ้านปาตา อำเภอ ปะนาเระ,ยะหริ่ง จังหวัด ปัตตานี | F45: ความยาว | G45: =900-650 -> 250 | H45: ม.
A46: ลำดับที่ | B46: รายการ | C46: จำนวน | D46: หน่วย | E46: ค่าวัสดุ + ค่าแรง | H46: เป็นเงิน
E47: ค่าวัสดุ | F47: ค่าแรง | G47: รวม
A48: 1 | B48: =+แหล่งวัสดุ!$B$65 -> กล่อง Gabion Box ชนิดเคลือบสังกะสี ขนาด 1.50 x 1.00 x 1.00 ม. | C48: 1 | D48: กล่อง | E48: =+IF(C48>0,แหล่งวัสดุ!$F$65,) -> 1408 | F48: =+IF(C48>0,$U$11,) -> 60 | G48: =SUM(E48:F49) -> 1468 | H48: =G48*C48 -> 1468
A50: =+A48+1 -> 2 | B50: =+แหล่งวัสดุ!$B$66 -> กล่อง Gabion Box ชนิดเคลือบสังกะสี ขนาด 2.00 x 1.00 x 1.00 ม. | C50: 1 | D50: กล่อง | E50: =+IF(C50>0,แหล่งวัสดุ!$F$66,) -> 1887 | F50: =+IF(C50>0,$U$11,) -> 60 | G50: =SUM(E50:F51) -> 1947 | H50: =G50*C50 -> 1947
A52: =+A50+1 -> 3 | B52: =+แหล่งวัสดุ!$B$67 -> กล่อง Mattress ชนิดเคลือบสังกะสี ขนาด 4.00 x 2.00 x 0.30 ม. | C52: 1 | D52: กล่อง | E52: =+IF(C52>0,แหล่งวัสดุ!$F$67,) -> 3322 | F52: =+IF(C52>0,$U$11,) -> 60 | G52: =SUM(E52:F53) -> 3382 | H52: =G52*C52 -> 3382
A54: =+A52+1 -> 4 | B54: =+แหล่งวัสดุ!$B$68 -> กล่อง Mattress ชนิดเคลือบสังกะสี ขนาด 3.00 x 2.00 x 0.30 ม. | C54: 1 | D54: กล่อง | E54: =+IF(C54>0,แหล่งวัสดุ!$F$68,) -> 2530 | F54: =+IF(C54>0,$U$11,) -> 60 | G54: =SUM(E54:F55) -> 2590 | H54: =G54*C54 -> 2590
A56: =+A54+1 -> 5 | B56: =+แหล่งวัสดุ!$B$69 -> กล่อง Mattress ชนิดเคลือบสังกะสี ขนาด 6.00 x 2.00 x 0.30 ม. | C56: 1 | D56: กล่อง | E56: =+IF(C56>0,แหล่งวัสดุ!$F$69,) -> 4835 | F56: =+IF(C56>0,$U$11,) -> 60 | G56: =SUM(E56:F57) -> 4895 | H56: =G56*C56 -> 4895
A58: =+A56+1 -> 6 | B58: =+แหล่งวัสดุ!$B$70 -> แผ่นใยสังเคราะห์ชนิดที่ 2 | C58: 1 | D58: ตร.ม. | E58: =+IF(C58>0,แหล่งวัสดุ!$F$70,) -> 65 | F58: =+IF(C58>0,15,) -> 15 | G58: =SUM(E58:F58) -> 80 | H58: =C58*G58 -> 80
A59: =+A58+1 -> 7 | B59: หินใหญ่ ขนาด 7 ซม. - 25 ซม. | C59: 1 | D59: ลบ.ม. | E59: =+IF(C59>0,$U$10,) -> 1091.34 | F59: =+IF(C59>0,$U$12,) -> 224.38 | G59: =SUM(E59:F59) -> 1315.72 | H59: =C59*G59 -> 1315.72
A60: รวมราคาค่าก่อสร้างทั้งหมด | H60: =SUM(H48:H59) -> 15677.72
A62: ประมาณราคา ………………………………………….. | C62: ตรวจ …………………………………………….
B63: =+B42 -> ( นายวัลลภ มูสิกะเจริญ ) นายช่างโยธาชำนาญงาน | E63: =+E42 -> ( นางสาวปิญาภา ศรีมณี ) วิศวกรโยธาชำนาญการ

Sheet 1.ต้นทุนถนน AC.
D1: โปรแกรมประมาณราคางานบำรุงรักษาทาง
D2: จัดทำโดย | G2: ส่วนบูรณะ สำนักงานทางหลวงชนบทที่ 12 (สงขลา) | M2: 42298
B3: ข้อมูลประกอบการประมาณราคา งานบำรุงรักษาโครงข่ายทาง(ต้นทุนงานถนน) | P3: รายการหินที่เลือกใช้
B4: สำนักงานทางหลวงชนบทที่ 12(สงขลา) กรมทางหลวงชนบท | P4: =+IF(แหล่งวัสดุ!L10<แหล่งวัสดุ!L16,แหล่งวัสดุ!B10,แหล่งวัสดุ!B16) -> บ.เนียง อ.เมือง จ.ยะลา | R4: หินคลุก | S4: =+IF(แหล่งวัสดุ!L10<แหล่งวัสดุ!L16,แหล่งวัสดุ!F10,แหล่งวัสดุ!F16) -> 373.83 | T4: บาท/ลบ.ม. | U4: ระยะขนส่ง | V4: =+IF(แหล่งวัสดุ!L10<แหล่งวัสดุ!L16,แหล่งวัสดุ!H10,แหล่งวัสดุ!H16) -> 78 | W4: = | X4: =IF(แหล่งวัสดุ!L$23=1,IF(V4<=200,VLOOKUP(V4,'S2'!B$5:'S2'!F$204,3),IF(V4>200,(V4-200)*'S2'!D$205+'S2'!D$204)),IF(แหล่งวัสดุ!L$23=2,IF(V4<=200,VLOOKUP(V4,'S2'!B$5:'S2'!F$204,5),IF(V4>200,(V4-200)*'S2'!F$205+'S2'!F$204)))) -> 151.05 | Y4: บาท/ลบ.ม. ราคารวม = | Z4: =+X4+S4 -> 524.88 | AA4: บาท/ลบ.ม.
J5: =+ราคากลาง!H3 -> วันที่ 10 พฤศจิกายน พ.ศ. 2558 | P5: =+IF(แหล่งวัสดุ!L11<แหล่งวัสดุ!L17,แหล่งวัสดุ!B11,แหล่งวัสดุ!B17) -> บ.เนียง อ.เมือง จ.ยะลา | R5: หินฝุ่น | S5: =+IF(แหล่งวัสดุ!L11<แหล่งวัสดุ!L17,แหล่งวัสดุ!F11,แหล่งวัสดุ!F17) -> 476.64 | T5: บาท/ลบ.ม. | U5: ระยะขนส่ง | V5: =+IF(แหล่งวัสดุ!L11<แหล่งวัสดุ!L17,แหล่งวัสดุ!H11,แหล่งวัสดุ!H17) -> 78 | W5: = | X5: =IF(แหล่งวัสดุ!L$23=1,IF(V5<=200,VLOOKUP(V5,'S2'!B$5:'S2'!F$204,3),IF(V5>200,(V5-200)*'S2'!D$205+'S2'!D$204)),IF(แหล่งวัสดุ!L$23=2,IF(V5<=200,VLOOKUP(V5,'S2'!B$5:'S2'!F$204,5),IF(V5>200,(V5-200)*'S2'!F$205+'S2'!F$204)))) -> 151.05 | Y5: บาท/ลบ.ม. ราคารวม = | Z5: =+X5+S5 -> 627.69 | AA5: บาท/ลบ.ม.
B6: ประเภทงาน | D6: =+แหล่งวัสดุ!C3 -> บำรุงพิเศษ ซ่อมสร้างผิวทาง Asphaltic Concrete | P6: =+IF(แหล่งวัสดุ!L12<แหล่งวัสดุ!L18,แหล่งวัสดุ!B12,แหล่งวัสดุ!B18) -> บ.เนียง อ.เมือง จ.ยะลา | R6: หิน3/4" | S6: =+IF(แหล่งวัสดุ!L12<แหล่งวัสดุ!L18,แหล่งวัสดุ!F12,แหล่งวัสดุ!F18) -> 500 | T6: บาท/ลบ.ม. | U6: ระยะขนส่ง | V6: =+IF(แหล่งวัสดุ!L12<แหล่งวัสดุ!L18,แหล่งวัสดุ!H12,แหล่งวัสดุ!H18) -> 78 | W6: = | X6: =IF(แหล่งวัสดุ!L$23=1,IF(V6<=200,VLOOKUP(V6,'S2'!B$5:'S2'!F$204,3),IF(V6>200,(V6-200)*'S2'!D$205+'S2'!D$204)),IF(แหล่งวัสดุ!L$23=2,IF(V6<=200,VLOOKUP(V6,'S2'!B$5:'S2'!F$204,5),IF(V6>200,(V6-200)*'S2'!F$205+'S2'!F$204)))) -> 151.05 | Y6: บาท/ลบ.ม. ราคารวม = | Z6: =+X6+S6 -> 651.05 | AA6: บาท/ลบ.ม.
B7: เจ้าของโครงการ | D7: =+แหล่งวัสดุ!C4 -> แขวงทางหลวงชนบทสงขลา | K7: ปีงบประมาณ | M7: =+แหล่งวัสดุ!L4 -> 2559 | P7: =+IF(แหล่งวัสดุ!L13<แหล่งวัสดุ!L19,แหล่งวัสดุ!B13,แหล่งวัสดุ!B19) -> บ.เนียง อ.เมือง จ.ยะลา | R7: หิน1/2" | S7: =+IF(แหล่งวัสดุ!L13<แหล่งวัสดุ!L19,แหล่งวัสดุ!F13,แหล่งวัสดุ!F19) -> 500 | T7: บาท/ลบ.ม. | U7: ระยะขนส่ง | V7: =+IF(แหล่งวัสดุ!L13<แหล่งวัสดุ!L19,แหล่งวัสดุ!H13,แหล่งวัสดุ!H19) -> 78 | W7: = | X7: =IF(แหล่งวัสดุ!L$23=1,IF(V7<=200,VLOOKUP(V7,'S2'!B$5:'S2'!F$204,3),IF(V7>200,(V7-200)*'S2'!D$205+'S2'!D$204)),IF(แหล่งวัสดุ!L$23=2,IF(V7<=200,VLOOKUP(V7,'S2'!B$5:'S2'!F$204,5),IF(V7>200,(V7-200)*'S2'!F$205+'S2'!F$204)))) -> 151.05 | Y7: บาท/ลบ.ม. ราคารวม = | Z7: =+X7+S7 -> 651.05 | AA7: บาท/ลบ.ม.
B8: =+"สายทาง " -> สายทาง | D8: =+แหล่งวัสดุ!C5 -> ปน.4031 | E8: ชื่อสายทาง | G8: =+แหล่งวัสดุ!F5 -> แยกทางหลวงหมายเลข 4157-บ้านปาตา | P8: =+IF(แหล่งวัสดุ!L14<แหล่งวัสดุ!L20,แหล่งวัสดุ!B14,แหล่งวัสดุ!B20) -> บ.เนียง อ.เมือง จ.ยะลา | R8: หิน3/8" | S8: =+IF(แหล่งวัสดุ!L14<แหล่งวัสดุ!L20,แหล่งวัสดุ!F14,แหล่งวัสดุ!F20) -> 476.64 | T8: บาท/ลบ.ม. | U8: ระยะขนส่ง | V8: =+IF(แหล่งวัสดุ!L14<แหล่งวัสดุ!L20,แหล่งวัสดุ!H14,แหล่งวัสดุ!H20) -> 78 | W8: = | X8: =IF(แหล่งวัสดุ!L$23=1,IF(V8<=200,VLOOKUP(V8,'S2'!B$5:'S2'!F$204,3),IF(V8>200,(V8-200)*'S2'!D$205+'S2'!D$204)),IF(แหล่งวัสดุ!L$23=2,IF(V8<=200,VLOOKUP(V8,'S2'!B$5:'S2'!F$204,5),IF(V8>200,(V8-200)*'S2'!F$205+'S2'!F$204)))) -> 151.05 | Y8: บาท/ลบ.ม. ราคารวม = | Z8: =+X8+S8 -> 627.69 | AA8: บาท/ลบ.ม.
B9: สถานที่ตั้ง | C9: =+แหล่งวัสดุ!C6 -> อำเภอ ปะนาเระ,ยะหริ่ง จังหวัด ปัตตานี | H9: ระยะทางตลอดสาย | I9: =+แหล่งวัสดุ!H6 -> 12.966 | J9: กม. ระยะทางดำเนินการ | M9: =+แหล่งวัสดุ!L6 -> 1.523 | N9: กม.
H10: ข้อมูลแหล่งวัสดุและระยะทางขนส่ง | P10: รายการแอสฟัลท์ที่เลือกใช้
A11: 1 | B11: =+P4 -> บ.เนียง อ.เมือง จ.ยะลา | F11: หินคลุก | H11: =+S4 -> 373.83 | I11: บาท/ลบ.ม. | J11: ระยะขนส่ง | K11: =+V4 -> 78 | L11: = | M11: =IF(แหล่งวัสดุ!L$23=1,IF(K11<=200,VLOOKUP(K11,'S2'!B$5:'S2'!F$204,3),IF(K11>200,(K11-200)*'S2'!D$205+'S2'!D$204)),IF(แหล่งวัสดุ!L$23=2,IF(K11<=200,VLOOKUP(K11,'S2'!B$5:'S2'!F$204,5),IF(K11>200,(K11-200)*'S2'!F$205+'S2'!F$204)))) -> 151.05 | N11: บาท/ลบ.ม. | P11: =+IF($Z$15<$Z$19,P15,P19) -> อ.ศรีราชา จ.ชลบุรี | R11: =+แหล่งวัสดุ!E36 -> ยาง CSS-1 | S11: =+IF($Z$15<$Z$19,S15,S19) -> 22515.5 | T11: บาท/ตัน | U11: ระยะขนส่ง | V11: =+IF($Z$15<$Z$19,V15,V19) -> 1180 | W11: = | X11: =+IF($Z$15<$Z$19,X15,X19) -> 1628.19 | Y11: บาท/ลบ.ม. ราคารวม = | Z11: =+X11+S11 -> 24143.69 | AA11: บาท/ลบ.ม.
A12: 2 | B12: =+P5 -> บ.เนียง อ.เมือง จ.ยะลา | F12: หินฝุ่น | H12: =+S5 -> 476.64 | I12: บาท/ลบ.ม. | J12: ระยะขนส่ง | K12: =+V5 -> 78 | L12: = | M12: =IF(แหล่งวัสดุ!L$23=1,IF(K12<=200,VLOOKUP(K12,'S2'!B$5:'S2'!F$204,3),IF(K12>200,(K12-200)*'S2'!D$205+'S2'!D$204)),IF(แหล่งวัสดุ!L$23=2,IF(K12<=200,VLOOKUP(K12,'S2'!B$5:'S2'!F$204,5),IF(K12>200,(K12-200)*'S2'!F$205+'S2'!F$204)))) -> 151.05 | N12: บาท/ลบ.ม. | P12: =+IF($Z$16<$Z$20,P16,P20) -> อ.ศรีราชา จ.ชลบุรี | R12: =+แหล่งวัสดุ!E37 -> ยาง AC 60-70 | S12: =+IF($Z$16<$Z$20,S16,S20) -> 25572.16 | T12: บาท/ตัน | U12: ระยะขนส่ง | V12: =+IF($Z$16<$Z$20,V16,V20) -> 1180 | W12: = | X12: =+IF($Z$16<$Z$20,X16,X20) -> 1628.19 | Y12: บาท/ลบ.ม. ราคารวม = | Z12: =+X12+S12 -> 27200.35 | AA12: บาท/ลบ.ม.
A13: 3 | B13: =+P6 -> บ.เนียง อ.เมือง จ.ยะลา | F13: หิน3/4" | H13: =+S6 -> 500 | I13: บาท/ลบ.ม. | J13: ระยะขนส่ง | K13: =+V6 -> 78 | L13: = | M13: =IF(แหล่งวัสดุ!L$23=1,IF(K13<=200,VLOOKUP(K13,'S2'!B$5:'S2'!F$204,3),IF(K13>200,(K13-200)*'S2'!D$205+'S2'!D$204)),IF(แหล่งวัสดุ!L$23=2,IF(K13<=200,VLOOKUP(K13,'S2'!B$5:'S2'!F$204,5),IF(K13>200,(K13-200)*'S2'!F$205+'S2'!F$204)))) -> 151.05 | N13: บาท/ลบ.ม. | P13: =+IF($Z$17<$Z$21,P17,P21) -> อ.ศรีราชา จ.ชลบุรี | R13: =+แหล่งวัสดุ!E38 -> ยาง CRS-2 | S13: =+IF($Z$17<$Z$21,S17,S21) -> 21735.5 | T13: บาท/ตัน | U13: ระยะขนส่ง | V13: =+IF($Z$17<$Z$21,V17,V21) -> 1180 | W13: = | X13: =+IF($Z$17<$Z$21,X17,X21) -> 1628.19 | Y13: บาท/ลบ.ม. ราคารวม = | Z13: =+X13+S13 -> 23363.69 | AA13: บาท/ลบ.ม.
A14: 4 | B14: =+P7 -> บ.เนียง อ.เมือง จ.ยะลา | F14: หิน1/2" | H14: =+S7 -> 500 | I14: บาท/ลบ.ม. | J14: ระยะขนส่ง | K14: =+V7 -> 78 | L14: = | M14: =IF(แหล่งวัสดุ!L$23=1,IF(K14<=200,VLOOKUP(K14,'S2'!B$5:'S2'!F$204,3),IF(K14>200,(K14-200)*'S2'!D$205+'S2'!D$204)),IF(แหล่งวัสดุ!L$23=2,IF(K14<=200,VLOOKUP(K14,'S2'!B$5:'S2'!F$204,5),IF(K14>200,(K14-200)*'S2'!F$205+'S2'!F$204)))) -> 151.05 | N14: บาท/ลบ.ม. | P14: แหล่งที่ 1
A15: 5 | B15: =+P8 -> บ.เนียง อ.เมือง จ.ยะลา | F15: หิน3/8" | H15: =+S8 -> 476.64 | I15: บาท/ลบ.ม. | J15: ระยะขนส่ง | K15: =+V8 -> 78 | L15: = | M15: =IF(แหล่งวัสดุ!L$23=1,IF(K15<=200,VLOOKUP(K15,'S2'!B$5:'S2'!F$204,3),IF(K15>200,(K15-200)*'S2'!D$205+'S2'!D$204)),IF(แหล่งวัสดุ!L$23=2,IF(K15<=200,VLOOKUP(K15,'S2'!B$5:'S2'!F$204,5),IF(K15>200,(K15-200)*'S2'!F$205+'S2'!F$204)))) -> 151.05 | N15: บาท/ลบ.ม. | P15: =+แหล่งวัสดุ!B36 -> อ.ศรีราชา จ.ชลบุรี | R15: =+แหล่งวัสดุ!E36 -> ยาง CSS-1 | S15: =+แหล่งวัสดุ!F36 -> 22515.5 | T15: บาท/ตัน | U15: ระยะขนส่ง | V15: =+แหล่งวัสดุ!H36 -> 1180 | W15: = | X15: =+IF(แหล่งวัสดุ!L$24=1,IF(V15<=200,VLOOKUP(V15,'S2'!B$5:'S2'!F$204,2),IF(V15>200,(V15-200)*'S2'!C$205+'S2'!C$204)),IF(แหล่งวัสดุ!L$24=2,IF(V15<=200,VLOOKUP(V15,'S2'!B$5:'S2'!F$204,4),IF(V15>200,(V15-200)*'S2'!E$205+'S2'!E$204)))) -> 1628.19 | Y15: บาท/ตัน. ราคารวม = | Z15: =+X15+S15 -> 24143.69 | AA15: บาท/ลบ.ม.
A16: 6 | B16: =B13 -> บ.เนียง อ.เมือง จ.ยะลา | F16: หินผสมแอสฟัลต์ | H16: =0.5*H12+0.25*H13+0.1*H14+0.15*H15 -> 484.816 | I16: บาท/ลบ.ม. | J16: ระยะขนส่ง | K16: =0.5*K12+0.25*K13+0.1*K14+0.15*K15 -> 78 | L16: = | M16: =IF(แหล่งวัสดุ!L$23=1,IF(K16<=200,VLOOKUP(K16,'S2'!B$5:'S2'!F$204,3),IF(K16>200,(K16-200)*'S2'!D$205+'S2'!D$204)),IF(แหล่งวัสดุ!L$23=2,IF(K16<=200,VLOOKUP(K16,'S2'!B$5:'S2'!F$204,5),IF(K16>200,(K16-200)*'S2'!F$205+'S2'!F$204)))) -> 151.05 | N16: บาท/ลบ.ม. | P16: =+P15 -> อ.ศรีราชา จ.ชลบุรี | R16: =+แหล่งวัสดุ!E37 -> ยาง AC 60-70 | S16: =+แหล่งวัสดุ!F37 -> 25572.16 | T16: บาท/ตัน | U16: ระยะขนส่ง | V16: =+แหล่งวัสดุ!H37 -> 1180 | W16: = | X16: =+IF(แหล่งวัสดุ!L$24=1,IF(V16<=200,VLOOKUP(V16,'S2'!B$5:'S2'!F$204,2),IF(V16>200,(V16-200)*'S2'!C$205+'S2'!C$204)),IF(แหล่งวัสดุ!L$24=2,IF(V16<=200,VLOOKUP(V16,'S2'!B$5:'S2'!F$204,4),IF(V16>200,(V16-200)*'S2'!E$205+'S2'!E$204)))) -> 1628.19 | Y16: บาท/ตัน. ราคารวม = | Z16: =+X16+S16 -> 27200.35 | AA16: บาท/ลบ.ม.
A17: 7 | B17: =+แหล่งวัสดุ!B24 -> ต.คลองเปียะ อ.จะนะ จ.สงขลา | F17: =+แหล่งวัสดุ!E24 -> หินใหญ่ | H17: =+แหล่งวัสดุ!F24 -> 476.64 | I17: บาท/ลบ.ม. | J17: ระยะขนส่ง | K17: =+แหล่งวัสดุ!H71 -> 150 | L17: = | M17: =IF(แหล่งวัสดุ!L$36=1,IF(K17<=200,VLOOKUP(K17,'S2'!B$5:'S2'!F$204,3),IF(K17>200,(K17-200)*'S2'!D$205+'S2'!D$204)),IF(แหล่งวัสดุ!L$36=2,IF(K17<=200,VLOOKUP(K17,'S2'!B$5:'S2'!F$204,5),IF(K17>200,(K17-200)*'S2'!F$205+'S2'!F$204)))) -> 472.35 | N17: บาท/ลบ.ม. | P17: =+P16 -> อ.ศรีราชา จ.ชลบุรี | R17: =+แหล่งวัสดุ!E38 -> ยาง CRS-2 | S17: =+แหล่งวัสดุ!F38 -> 21735.5 | T17: บาท/ตัน | U17: ระยะขนส่ง | V17: =+แหล่งวัสดุ!H38 -> 1180 | W17: = | X17: =+IF(แหล่งวัสดุ!L$24=1,IF(V17<=200,VLOOKUP(V17,'S2'!B$5:'S2'!F$204,2),IF(V17>200,(V17-200)*'S2'!C$205+'S2'!C$204)),IF(แหล่งวัสดุ!L$24=2,IF(V17<=200,VLOOKUP(V17,'S2'!B$5:'S2'!F$204,4),IF(V17>200,(V17-200)*'S2'!E$205+'S2'!E$204)))) -> 1628.19 | Y17: บาท/ตัน. ราคารวม = | Z17: =+X17+S17 -> 23363.69 | AA17: บาท/ลบ.ม.
A18: 8 | B18: =+แหล่งวัสดุ!B25 -> อ.มะนัง จ.สตูล | F18: ดินถม | H18: =+แหล่งวัสดุ!F25 -> 25 | I18: บาท/ลบ.ม. | J18: ระยะขนส่ง | K18: =+แหล่งวัสดุ!H25 -> 6 | L18: = | M18: =IF(แหล่งวัสดุ!$L$32=1,IF(K18<=200,VLOOKUP(K18,'S2'!B$5:'S2'!F$204,3),IF(K18>200,(K18-200)*'S2'!D$205+'S2'!D$204)),IF(แหล่งวัสดุ!$L$32=2,IF(K18<=200,VLOOKUP(K18,'S2'!B$5:'S2'!F$204,5),IF(K18>200,(K18-200)*'S2'!F$205+'S2'!F$204)))) -> 22.09 | N18: บาท/ลบ.ม. | P18: แหล่งที่ 2
A19: 9 | B19: =+แหล่งวัสดุ!B26 -> อ.มะนัง จ.สตูล | F19: ลูกรัง | H19: =+แหล่งวัสดุ!F26 -> 35 | I19: บาท/ลบ.ม. | J19: ระยะขนส่ง | K19: =+แหล่งวัสดุ!H26 -> 19 | L19: = | M19: =IF(แหล่งวัสดุ!$L$32=1,IF(K19<=200,VLOOKUP(K19,'S2'!B$5:'S2'!F$204,3),IF(K19>200,(K19-200)*'S2'!D$205+'S2'!D$204)),IF(แหล่งวัสดุ!$L$32=2,IF(K19<=200,VLOOKUP(K19,'S2'!B$5:'S2'!F$204,5),IF(K19>200,(K19-200)*'S2'!F$205+'S2'!F$204)))) -> 61.32 | N19: บาท/ลบ.ม. | P19: =+แหล่งวัสดุ!B33 -> สำนักดัชนีการค้า กรุงเทพฯ(ตุลาคม58) | R19: =+แหล่งวัสดุ!E33 -> ยาง CSS-1 | S19: =+แหล่งวัสดุ!F33 -> 22686.67 | T19: บาท/ลบ.ม. | U19: ระยะขนส่ง | V19: =+แหล่งวัสดุ!H33 -> 1075 | W19: = | X19: =+IF(แหล่งวัสดุ!L$24=1,IF(V19<=200,VLOOKUP(V19,'S2'!B$5:'S2'!F$204,2),IF(V19>200,(V19-200)*'S2'!C$205+'S2'!C$204)),IF(แหล่งวัสดุ!L$24=2,IF(V19<=200,VLOOKUP(V19,'S2'!B$5:'S2'!F$204,4),IF(V19>200,(V19-200)*'S2'!E$205+'S2'!E$204)))) -> 1483.29 | Y19: บาท/ตัน. ราคารวม = | Z19: =+X19+S19 -> 24169.96 | AA19: บาท/ลบ.ม.
A20: 10 | B20: =+แหล่งวัสดุ!B27 -> อ.มะนัง จ.สตูล | F20: วัสดุคัดเลือก | H20: =+แหล่งวัสดุ!F27 -> 35 | I20: บาท/ลบ.ม. | J20: ระยะขนส่ง | K20: =+แหล่งวัสดุ!H27 -> 0 | L20: = | M20: =IF(แหล่งวัสดุ!$L$32=1,IF(K20<=200,VLOOKUP(K20,'S2'!B$5:'S2'!F$204,3),IF(K20>200,(K20-200)*'S2'!D$205+'S2'!D$204)),IF(แหล่งวัสดุ!$L$32=2,IF(K20<=200,VLOOKUP(K20,'S2'!B$5:'S2'!F$204,5),IF(K20>200,(K20-200)*'S2'!F$205+'S2'!F$204)))) -> #N/A | N20: บาท/ลบ.ม. | P20: =+แหล่งวัสดุ!B34 -> สำนักดัชนีการค้า กรุงเทพฯ(ตุลาคม58) | R20: =+แหล่งวัสดุ!E34 -> ยาง AC 60-70 | S20: =+แหล่งวัสดุ!F34 -> 25743.33 | T20: บาท/ลบ.ม. | U20: ระยะขนส่ง | V20: =+แหล่งวัสดุ!H34 -> 1075 | W20: = | X20: =+IF(แหล่งวัสดุ!L$24=1,IF(V20<=200,VLOOKUP(V20,'S2'!B$5:'S2'!F$204,2),IF(V20>200,(V20-200)*'S2'!C$205+'S2'!C$204)),IF(แหล่งวัสดุ!L$24=2,IF(V20<=200,VLOOKUP(V20,'S2'!B$5:'S2'!F$204,4),IF(V20>200,(V20-200)*'S2'!E$205+'S2'!E$204)))) -> 1483.29 | Y20: บาท/ตัน. ราคารวม = | Z20: =+X20+S20 -> 27226.62 | AA20: บาท/ลบ.ม.
A21: 11 | B21: =+แหล่งวัสดุ!B30 -> สำนักดัชนีการค้า ปัตตานี (ตุลาคม 58) | F21: ซีเมนต์ Type 1 | H21: =+แหล่งวัสดุ!F30 -> 3003.11 | I21: บาท/ตัน | J21: ระยะขนส่ง | K21: =+แหล่งวัสดุ!H30 -> 65 | L21: = | M21: =IF(แหล่งวัสดุ!$L$30=1,IF(K21<=200,VLOOKUP(K21,'S2'!B$5:'S2'!F$204,2),IF(K21>200,(K21-200)*'S2'!C$205+'S2'!C$204)),IF(แหล่งวัสดุ!$L$30=2,IF(K21<=200,VLOOKUP(K21,'S2'!B$5:'S2'!F$204,4),IF(K21>200,(K21-200)*'S2'!E$205+'S2'!E$204)))) -> 90.01 | N21: บาท/ตัน | P21: =+แหล่งวัสดุ!B35 -> สำนักดัชนีการค้า กรุงเทพฯ(ตุลาคม58) | R21: =+แหล่งวัสดุ!E35 -> ยาง CRS-2 | S21: =+แหล่งวัสดุ!F35 -> 21906.67 | T21: บาท/ลบ.ม. | U21: ระยะขนส่ง | V21: =+แหล่งวัสดุ!H35 -> 1075 | W21: = | X21: =+IF(แหล่งวัสดุ!L$24=1,IF(V21<=200,VLOOKUP(V21,'S2'!B$5:'S2'!F$204,2),IF(V21>200,(V21-200)*'S2'!C$205+'S2'!C$204)),IF(แหล่งวัสดุ!L$24=2,IF(V21<=200,VLOOKUP(V21,'S2'!B$5:'S2'!F$204,4),IF(V21>200,(V21-200)*'S2'!E$205+'S2'!E$204)))) -> 1483.29 | Y21: บาท/ตัน. ราคารวม = | Z21: =+X21+S21 -> 23389.96 | AA21: บาท/ลบ.ม.
A22: 12 | B22: =+P11 -> อ.ศรีราชา จ.ชลบุรี | F22: ยาง CSS-1 | H22: =+S11 -> 22515.5 | I22: บาท/ตัน | J22: ระยะขนส่ง | K22: =+V11 -> 1180 | L22: = | M22: =IF(แหล่งวัสดุ!L$24=1,IF(K22<=200,VLOOKUP(K22,'S2'!B$5:'S2'!F$204,2),IF(K22>200,(K22-200)*'S2'!C$205+'S2'!C$204)),IF(แหล่งวัสดุ!L$24=2,IF(K22<=200,VLOOKUP(K22,'S2'!B$5:'S2'!F$204,4),IF(K22>200,(K22-200)*'S2'!E$205+'S2'!E$204)))) -> 1628.19 | N22: บาท/ตัน
A23: 13 | B23: =+P12 -> อ.ศรีราชา จ.ชลบุรี | F23: ยาง AC 60-70 | H23: =+S12 -> 25572.16 | I23: บาท/ตัน | J23: ระยะขนส่ง | K23: =+V12 -> 1180 | L23: = | M23: =IF(แหล่งวัสดุ!L$24=1,IF(K23<=200,VLOOKUP(K23,'S2'!B$5:'S2'!F$204,2),IF(K23>200,(K23-200)*'S2'!C$205+'S2'!C$204)),IF(แหล่งวัสดุ!L$24=2,IF(K23<=200,VLOOKUP(K23,'S2'!B$5:'S2'!F$204,4),IF(K23>200,(K23-200)*'S2'!E$205+'S2'!E$204)))) -> 1628.19 | N23: บาท/ตัน
A24: 14 | B24: =+P13 -> อ.ศรีราชา จ.ชลบุรี | F24: ยาง CRS-2 | H24: =+S13 -> 21735.5 | I24: บาท/ตัน | J24: ระยะขนส่ง | K24: =+V13 -> 1180 | L24: = | M24: =IF(แหล่งวัสดุ!L$24=1,IF(K24<=200,VLOOKUP(K24,'S2'!B$5:'S2'!F$204,2),IF(K24>200,(K24-200)*'S2'!C$205+'S2'!C$204)),IF(แหล่งวัสดุ!L$24=2,IF(K24<=200,VLOOKUP(K24,'S2'!B$5:'S2'!F$204,4),IF(K24>200,(K24-200)*'S2'!E$205+'S2'!E$204)))) -> 1628.19 | N24: บาท/ตัน
A25: 15 | B25: =+แหล่งวัสดุ!B32 -> สำนักดัชนีการค้า กรุงเทพฯ(ตุลาคม58) | F25: =+แหล่งวัสดุ!E32 -> PARA Asphaltic Concrete | H25: =+แหล่งวัสดุ!F32 -> 38465 | I25: บาท/ตัน | J25: ระยะขนส่ง | K25: =+แหล่งวัสดุ!H32 -> 1075 | L25: = | M25: =IF(แหล่งวัสดุ!L$24=1,IF(K25<=200,VLOOKUP(K25,'S2'!B$5:'S2'!F$204,2),IF(K25>200,(K25-200)*'S2'!C$205+'S2'!C$204)),IF(แหล่งวัสดุ!L$24=2,IF(K25<=200,VLOOKUP(K25,'S2'!B$5:'S2'!F$204,4),IF(K25>200,(K25-200)*'S2'!E$205+'S2'!E$204)))) -> 1483.29 | N25: บาท/ตัน
H26: รายการราคาค่างานต่อหน่วย
A27: 1 | B27: งานวัสดุดินถม ( จากการขนส่ง )
B28: - ค่าวัสดุที่แหล่ง | L28: = | M28: =+H18 -> 25 | N28: บาท/ลบ.ม.(หลวม)
B29: - ค่าเสื่อมราคาขุดตัก | L29: = | M29: =+'S2'!$BF$35 -> 21.14 | N29: บาท/ลบ.ม.(หลวม)
B30: - ค่าขนส่ง | D30: factor ค่าขนส่ง | F30: =+แหล่งวัสดุ!$N$61 -> 1 | L30: = | M30: =+M18*F30 -> 22.09 | N30: บาท/ลบ.ม.(หลวม)
D31: รวมค่าวัสดุและขนส่ง | L31: = | M31: =ROUND(SUM(M28:M30),2) -> 68.23 | N31: บาท/ลบ.ม.(หลวม)
H32: อัตราการยุบตัว | I32: 1.6 | L32: = | M32: =ROUND(I32*M31,2) -> 109.17 | N32: บาท/ลบ.ม.(แน่น)
B33: - ค่าเสื่อมราคาบดทับ | L33: = | M33: =+'S2'!$BF$36 -> 45.48 | N33: บาท/ลบ.ม.(แน่น)
D34: รวมค่าวัสดุและค่าแรงเป็นเงิน | L34: = | M34: =ROUND(SUM(M32:M33),2) -> 154.65 | N34: บาท/ลบ.ม.(แน่น)
A35: 2 | B35: งานดินตัด
B36: - ค่าดำเนินการ + ค่าเสื่อมราคา(ตัก) | L36: = | M36: =+'S2'!BF39 -> 8.14 | N36: บาท/ลบ.ม.(หลวม)
B37: - ค่าขนทิ้ง | D37: 1 | E37: กม. | L37: = | M37: =IF(แหล่งวัสดุ!$L$32=1,IF(D37<=200,VLOOKUP(D37,'S2'!B$5:'S2'!F$204,3),IF(D37>200,(D37-200)*'S2'!D$205+'S2'!D$204)),IF(แหล่งวัสดุ!$L$32=2,IF(D37<=200,VLOOKUP(D37,'S2'!B$5:'S2'!F$204,5),IF(D37>200,(D37-200)*'S2'!F$205+'S2'!F$204)))) -> 11.05 | N37: บาท/ลบ.ม.(หลวม)
B38: - ส่วนขยาย 1.25 % | L38: = | M38: =+(M36+M37)*1.25 -> 23.9875 | N38: บาท/ลบ.ม.(หลวม)
B39: - ค่าดำเนินการ + ค่าเสื่อมราคา(ขุดตัก) | L39: = | M39: =+'S2'!BF38 -> 20.92 | N39: บาท/ลบ.ม.(หลวม)
D40: ค่างานต้นทุน | L40: = | M40: =ROUND(SUM(M38:M39),2) -> 44.91 | N40: บาท/ลบ.ม.(หลวม)
D41: ค่างานต้นทุนเป็นเงิน | L41: = | M41: =ROUND(SUM(M40),2) -> 44.91 | N41: บาท/ลบ.ม.(แน่น)
A42: 3 | B42: งานหินทิ้ง/หินเรียง
A43: - ค่าวัสดุที่แหล่ง | L43: = | M43: =+H17 -> 476.64 | N43: บาท/ลบ.ม.(หลวม)
A44: - ค่าเสื่อมราคาขุดตัก | L44: = | M44: =+'S2'!BE41 -> 38.52 | N44: บาท/ลบ.ม.(หลวม)
A45: - ค่าขนส่ง | D45: factor ค่าขนส่ง | F45: =+แหล่งวัสดุ!N53 -> 1 | L45: = | M45: =+M17*F45 -> 472.35 | N45: บาท/ลบ.ม.(หลวม)
A46: - ค่าดำเนินการทิ้งหิน(กรมชลประทาน) | L46: = | M46: 74.68 | N46: บาท/ลบ.ม.(หลวม)
A47: - ค่าดำเนินการเรียงหิน(กรมชลประทาน) | L47: = | M47: 224.38 | N47: บาท/ลบ.ม.(หลวม)
D48: ค่างานต้นทุนหินทิ้งเป็นเงิน | J48: รวม | L48: = | M48: =SUM(M43:M46) -> 1062.19 | N48: บาท/ลบ.ม.(หลวม)
D49: ค่างานต้นทุนหินเรียงเป็นเงิน | J49: รวม | L49: = | M49: =SUM(M43:M45)+M47 -> 1211.89 | N49: บาท/ลบ.ม.(หลวม)
A50: 4 | B50: งานลูกรัง
B51: - ค่าวัสดุที่แหล่ง | L51: = | M51: =H19 -> 35 | N51: บาท/ลบ.ม.(หลวม)
B52: - ค่าเสื่อมราคาขุดตัก | L52: = | M52: ='S2'!$BF$5 -> 31.58 | N52: บาท/ลบ.ม.(หลวม)
B53: - ค่าขนส่ง | D53: factor ค่าขนส่ง | F53: =+แหล่งวัสดุ!N69 -> 1 | L53: = | M53: =M19*F53 -> 61.32 | N53: บาท/ลบ.ม.(หลวม)
D54: รวมค่าวัสดุและขนส่ง | L54: = | M54: =ROUND(SUM(M51:M53),2) -> 127.9 | N54: บาท/ลบ.ม.(หลวม)
H55: อัตราการยุบตัว | I55: 1.6 | L55: = | M55: =ROUND(I55*M54,2) -> 204.64 | N55: บาท/ลบ.ม.(แน่น)
B56: - ค่าเสื่อมราคาบดทับ | L56: = | M56: ='S2'!$BF$7 -> 54.58 | N56: บาท/ลบ.ม.(แน่น)
D57: รวมค่าวัสดุและค่าแรงเป็นเงิน | L57: = | M57: =ROUND(SUM(M55:M56),2) -> 259.22 | N57: บาท/ลบ.ม.(แน่น)
A58: 5 | B58: งานพื้นทาง
B59: - ค่าวัสดุ | L59: = | M59: =H11 -> 373.83 | N59: บาท/ลบ.ม.(หลวม)
B60: - ค่าขนส่ง | D60: factor ค่าขนส่ง | F60: =+แหล่งวัสดุ!N53 -> 1 | L60: = | M60: =M11*F60 -> 151.05 | N60: บาท/ลบ.ม.(หลวม)
D61: รวมค่าวัสดุและขนส่ง | L61: = | M61: =ROUND(SUM(M59:M60),2) -> 524.88 | N61: บาท/ลบ.ม.(หลวม)
H62: อัตราการยุบตัว | I62: 1.5 | L62: = | M62: =ROUND(I62*M61,2) -> 787.32 | N62: บาท/ลบ.ม.(แน่น)
B63: - ค่าผสม | L63: = | M63: =+'S2'!$BF$9 -> 24.76 | N63: บาท/ลบ.ม.(แน่น)
B64: - ค่าเสื่อมราคาบดทับ | L64: = | M64: =+'S2'!$BF$10 -> 88.31 | N64: บาท/ลบ.ม.(แน่น)
D65: รวมค่าวัสดุและค่าแรงเป็นเงิน | L65: = | M65: =ROUND(SUM(M62:M64),2) -> 900.39 | N65: บาท/ลบ.ม.(แน่น)
A66: 6 | B66: งานขุดซ่อมผิวทางเดิม (Deep Patch)
B67: - ค่าดำเนินการและค่าเสื่อมราคางานขุดรื้อพื้นทางเดิมแล้วบดทับ
B68: ผิวทาง (ขนทิ้ง) | L68: = | M68: ='S2'!$BF$14 -> 11.12 | N68: บาท/ตร.ม.
B69: ขุดรื้อหินคลุก | I69: 0.2 | J69: ม. ) | L69: = | M69: ='S2'!$BF$13*2 -> 28.26 | N69: บาท/ตร.ม.
B70: ขุดรื้อรองพื้นทาง(ลูกรัง) | I70: 0.2 | J70: ม. ) | L70: = | M70: ='S2'!$BF$12*2 -> 21.52 | N70: บาท/ตร.ม.
B71: - ค่าวัสดุหินคลุกใหม่ | I71: 0.2 | J71: ม. ) | L71: = | M71: =$M$62*$I$71 -> 157.464 | N71: บาท/ตร.ม.
B72: - ค่าดำเนินการ,ค่าเสื่อมราคาผสมและบดทับ (หินคลุกใหม่) | I72: =I69 -> 0.2 | J72: =J69 -> ม. ) | L72: = | M72: =('S2'!$BF$10+'S2'!$BF$9)*$I$72 -> 22.614 | N72: บาท/ตร.ม.
B73: - ค่าดำเนินการ,ค่าเสื่อมราคาผสมและบดทับรองพื้นทาง(หินคลุกเดิมแทนลูกรัง) | I73: =I70 -> 0.2 | J73: =J70 -> ม. ) | L73: = | M73: =('S2'!$BF$10+'S2'!$BF$9)*I73 -> 22.614 | N73: บาท/ตร.ม.
D74: รวมค่าวัสดุและค่าแรงเป็นเงิน | L74: = | M74: =ROUND(SUM(M68:M73),2) -> 263.59 | N74: บาท/ตร.ม.
A75: 7 | B75: งานพื้นทาง ( หินคลุกปรับระดับ )
B76: - ค่าวัสดุ | L76: = | M76: =H11 -> 373.83 | N76: บาท/ลบ.ม.(หลวม)
B77: - ค่าขนส่ง | D77: factor ค่าขนส่ง | F77: =+แหล่งวัสดุ!N53 -> 1 | L77: = | M77: =M11*F77 -> 151.05 | N77: บาท/ลบ.ม.(หลวม)
D78: รวมค่าวัสดุ | L78: = | M78: =ROUND(SUM(M76:M77),2) -> 524.88 | N78: บาท/ลบ.ม.(หลวม)
A79: 8 | B79: งานปะซ่อมผิวทางเดิม (Skin Patch)
B80: - Tack Coat | L80: = | M80: =M96 -> 4.67 | N80: บาท/ตร.ม.
B81: - Hot Mix | F81: ความหนา | G81: 3 | H81: ซม. | I81: =41.667/$G$81 -> 13.889 | J81: ตร.ม./ตัน ) | L81: = | M81: =$M$126/I81 -> 208.49765 | N81: บาท/ตร.ม.
D82: รวมค่าวัสดุ | L82: = | M82: =SUM(M80:M81) -> 213.16765 | N82: บาท/ตร.ม.
B83: - ค่าดำเนินการและค่าเสื่อมราคางาน Tack Coat ปูลาดและบดทับ | L83: = | M83: ='S2'!$BF$16+'S2'!$BF$20*0.8 -> 15.672 | N83: บาท/ตร.ม.
D84: รวมค่าวัสดุและค่าแรงเป็นเงิน | L84: = | M84: =ROUND(SUM(M82:M83),2) -> 228.84 | N84: บาท/ตร.ม.
A85: 9 | B85: งานไพร์มโค้ท
B86: - ราคายางจากโรงงาน | L86: = | M86: =H22 -> 22515.5 | N86: บาท/ตัน
B87: - ค่าขนส่ง | D87: factor ค่าขนส่ง | F87: =+แหล่งวัสดุ!U53 -> 1 | L87: = | M87: =M22*F87 -> 1628.19 | N87: บาท/ตัน
D88: รวมค่ายาง | L88: = | M88: =ROUND(SUM(M86:M87),2) -> 24143.69 | N88: บาท/ตัน
H89: อัตราการใช้ยาง | I89: =+IF('NO DELETE'!AA34=2,0.8,1) -> 1 | J89: ลิตร/ตร.ม. | L89: = | M89: =ROUND(M88*I89/1000,2) -> 24.14 | N89: บาท/ตร.ม.
B90: - ค่าดำเนินการและค่าเสื่อมราคางาน Prime Coat | L90: = | M90: =+'S2'!BF15 -> 6.54 | N90: บาท/ตร.ม.
D91: รวมค่าวัสดุและค่าแรงเป็นเงิน | L91: = | M91: =ROUND(SUM(M89:M90),2) -> 30.68 | N91: บาท/ตร.ม.
A92: 10 | B92: งานเทคโค้ท
B93: - ราคายางจากโรงงาน | L93: = | M93: =H24 -> 21735.5 | N93: บาท/ตัน
B94: - ค่าขนส่ง | D94: factor ค่าขนส่ง | F94: =+แหล่งวัสดุ!U53 -> 1 | L94: = | M94: =M24*F94 -> 1628.19 | N94: บาท/ตัน
D95: รวมค่ายาง | L95: = | M95: =ROUND(SUM(M93:M94),2) -> 23363.69 | N95: บาท/ตัน
H96: อัตราการใช้ยาง | I96: 0.2 | J96: ลิตร/ตร.ม. | L96: = | M96: =ROUND(M95*I96/1000,2) -> 4.67 | N96: บาท/ตร.ม.
B97: - ค่าดำเนินการและค่าเสื่อมราคางาน Tack Coat | L97: = | M97: =+'S2'!BF16 -> 6.44 | N97: บาท/ตร.ม.
D98: รวมค่าวัสดุและค่าแรงเป็นเงิน | L98: = | M98: =ROUND(SUM(M96:M97),2) -> 11.11 | N98: บาท/ตร.ม.
A99: 11 | B99: งาน Pavement In-Place Recycling
B100: 11.1 สูตรค่างาน Pavement In-Place Recycling
...

Sheet 2.ต้นทุนถนน Con.
D1: โปรแกรมประมาณราคางานบำรุงรักษาทาง
D2: จัดทำโดย | G2: ส่วนบูรณะ สำนักงานทางหลวงชนบทที่ 12 (สงขลา) | M2: 42298
B3: ข้อมูลประกอบการประมาณราคา งานบำรุงรักษาโครงข่ายทาง(ต้นทุนงานถนน Concrete)
B4: สำนักทางหลวงชนบทที่ 12(สงขลา) กรมทางหลวงชนบท
J5: =+'1.ต้นทุนถนน AC.'!J5 -> วันที่ 10 พฤศจิกายน พ.ศ. 2558
B6: ประเภทงาน | D6: =+แหล่งวัสดุ!C3 -> บำรุงพิเศษ ซ่อมสร้างผิวทาง Asphaltic Concrete
B7: เจ้าของโครงการ | D7: =+แหล่งวัสดุ!C4 -> แขวงทางหลวงชนบทสงขลา | K7: ปีงบประมาณ | M7: =+แหล่งวัสดุ!L4 -> 2559
B8: =+"สายทาง " -> สายทาง | D8: =+แหล่งวัสดุ!C5 -> ปน.4031 | E8: ชื่อสายทาง | G8: =+แหล่งวัสดุ!F5 -> แยกทางหลวงหมายเลข 4157-บ้านปาตา
B9: สถานที่ตั้ง | C9: =+แหล่งวัสดุ!C6 -> อำเภอ ปะนาเระ,ยะหริ่ง จังหวัด ปัตตานี | H9: ระยะทางตลอดสาย | I9: =+แหล่งวัสดุ!H6 -> 12.966 | J9: กม. ระยะทางดำเนินการ | M9: =+แหล่งวัสดุ!L6 -> 1.523 | N9: กม.
H10: ข้อมูลแหล่งวัสดุและระยะทางขนส่ง
A11: 7 | B11: =+แหล่งวัสดุ!B25 -> อ.มะนัง จ.สตูล | F11: ดินถม | H11: =+แหล่งวัสดุ!F25 -> 25 | I11: บาท/ลบ.ม. | J11: ระยะขนส่ง | K11: =+แหล่งวัสดุ!H25 -> 6 | L11: = | M11: =IF(แหล่งวัสดุ!$L$32=1,IF(K11<=200,VLOOKUP(K11,'S2'!B$5:'S2'!F$204,3),IF(K11>200,(K11-200)*'S2'!D$205+'S2'!D$204)),IF(แหล่งวัสดุ!$L$32=2,IF(K11<=200,VLOOKUP(K11,'S2'!B$5:'S2'!F$204,5),IF(K11>200,(K11-200)*'S2'!F$205+'S2'!F$204)))) -> 22.09 | N11: บาท/ลบ.ม.
A12: 8 | B12: =+แหล่งวัสดุ!B26 -> อ.มะนัง จ.สตูล | F12: ลูกรัง | H12: =+แหล่งวัสดุ!F26 -> 35 | I12: บาท/ลบ.ม. | J12: ระยะขนส่ง | K12: =+แหล่งวัสดุ!H26 -> 19 | L12: = | M12: =IF(แหล่งวัสดุ!$L$32=1,IF(K12<=200,VLOOKUP(K12,'S2'!B$5:'S2'!F$204,3),IF(K12>200,(K12-200)*'S2'!D$205+'S2'!D$204)),IF(แหล่งวัสดุ!$L$32=2,IF(K12<=200,VLOOKUP(K12,'S2'!B$5:'S2'!F$204,5),IF(K12>200,(K12-200)*'S2'!F$205+'S2'!F$204)))) -> 61.32 | N12: บาท/ลบ.ม.
A13: 9 | B13: =+แหล่งวัสดุ!B28 -> อ.มะนัง จ.สตูล | F13: =+แหล่งวัสดุ!E28 -> ทรายหยาบ | H13: =+แหล่งวัสดุ!F28 -> 485 | I13: บาท/ลบ.ม. | J13: ระยะขนส่ง | K13: =+แหล่งวัสดุ!H28 -> 73 | L13: = | M13: =IF(แหล่งวัสดุ!$L$32=1,IF(K13<=200,VLOOKUP(K13,'S2'!B$5:'S2'!F$204,3),IF(K13>200,(K13-200)*'S2'!D$205+'S2'!D$204)),IF(แหล่งวัสดุ!$L$32=2,IF(K13<=200,VLOOKUP(K13,'S2'!B$5:'S2'!F$204,5),IF(K13>200,(K13-200)*'S2'!F$205+'S2'!F$204)))) -> 230.62 | N13: บาท/ลบ.ม.
A14: 10 | B14: =+แหล่งวัสดุ!B23 -> ต.คลองเปียะ อ.จะนะ จ.สงขลา | F14: =+แหล่งวัสดุ!E23 -> หินผสมคอนกรีต | H14: =+แหล่งวัสดุ!F23 -> 400 | I14: บาท/ลบ.ม. | J14: ระยะขนส่ง | K14: =+แหล่งวัสดุ!H23 -> 40 | L14: = | M14: =IF(แหล่งวัสดุ!$L$32=1,IF(K14<=200,VLOOKUP(K14,'S2'!B$5:'S2'!F$204,3),IF(K14>200,(K14-200)*'S2'!D$205+'S2'!D$204)),IF(แหล่งวัสดุ!$L$32=2,IF(K14<=200,VLOOKUP(K14,'S2'!B$5:'S2'!F$204,5),IF(K14>200,(K14-200)*'S2'!F$205+'S2'!F$204)))) -> 127.15 | N14: บาท/ลบ.ม.
A15: 11 | B15: =+แหล่งวัสดุ!B31 -> สำนักดัชนีการค้า ปัตตานี (ตุลาคม 58) | F15: =+แหล่งวัสดุ!E31 -> คอนกรีตผสมเสร็จ 320 ksc | H15: =+แหล่งวัสดุ!F31 -> 0 | I15: บาท/ลบ.ม. | J15: ระยะขนส่ง | K15: =+แหล่งวัสดุ!H31 -> 65 | L15: = | M15: =IF(แหล่งวัสดุ!$L$31=1,IF(K15<=200,VLOOKUP(K15,'S2'!B$5:'S2'!F$204,3),IF(K15>200,(K15-200)*'S2'!D$205+'S2'!D$204)),IF(แหล่งวัสดุ!$L$31=2,IF(K15<=200,VLOOKUP(K15,'S2'!B$5:'S2'!F$204,5),IF(K15>200,(K15-200)*'S2'!F$205+'S2'!F$204)))) -> 205.51 | N15: บาท/ลบ.ม.
A16: 12 | B16: =+B15 -> สำนักดัชนีการค้า ปัตตานี (ตุลาคม 58) | F16: SR 24 Æ 6 มม. | H16: =+แหล่งวัสดุ!F39 -> 19898.17 | I16: บาท/ตัน | J16: ระยะขนส่ง | K16: =+แหล่งวัสดุ!H39 -> 65 | L16: = | M16: =IF(แหล่งวัสดุ!L$34=1,IF(K16<=200,VLOOKUP(K16,'S2'!B$5:'S2'!F$204,2),IF(K16>200,(K16-200)*'S2'!C$205+'S2'!C$204)),IF(แหล่งวัสดุ!L$34=2,IF(K16<=200,VLOOKUP(K16,'S2'!B$5:'S2'!F$204,4),IF(K16>200,(K16-200)*'S2'!E$205+'S2'!E$204)))) -> 146.79 | N16: บาท/ตัน
A17: 13 | B17: =+B16 -> สำนักดัชนีการค้า ปัตตานี (ตุลาคม 58) | F17: SR 24 Æ 9 มม. | H17: =+แหล่งวัสดุ!F40 -> 19220.78 | I17: บาท/ตัน | J17: ระยะขนส่ง | K17: =+แหล่งวัสดุ!H40 -> 65 | L17: = | M17: =IF(แหล่งวัสดุ!L$34=1,IF(K17<=200,VLOOKUP(K17,'S2'!B$5:'S2'!F$204,2),IF(K17>200,(K17-200)*'S2'!C$205+'S2'!C$204)),IF(แหล่งวัสดุ!L$34=2,IF(K17<=200,VLOOKUP(K17,'S2'!B$5:'S2'!F$204,4),IF(K17>200,(K17-200)*'S2'!E$205+'S2'!E$204)))) -> 146.79 | N17: บาท/ตัน
A18: 14 | B18: =+B17 -> สำนักดัชนีการค้า ปัตตานี (ตุลาคม 58) | F18: DB 30 Æ 12 มม. | H18: =+แหล่งวัสดุ!F44 -> 19042.06 | I18: บาท/ตัน | J18: ระยะขนส่ง | K18: =+แหล่งวัสดุ!H44 -> 65 | L18: = | M18: =IF(แหล่งวัสดุ!L$34=1,IF(K18<=200,VLOOKUP(K18,'S2'!B$5:'S2'!F$204,2),IF(K18>200,(K18-200)*'S2'!C$205+'S2'!C$204)),IF(แหล่งวัสดุ!L$34=2,IF(K18<=200,VLOOKUP(K18,'S2'!B$5:'S2'!F$204,4),IF(K18>200,(K18-200)*'S2'!E$205+'S2'!E$204)))) -> 146.79 | N18: บาท/ตัน
A19: 15 | B19: =+B18 -> สำนักดัชนีการค้า ปัตตานี (ตุลาคม 58) | F19: RB 24 Æ 25 มม. | H19: =+แหล่งวัสดุ!F43 -> 0 | I19: บาท/ตัน | J19: ระยะขนส่ง | K19: =+แหล่งวัสดุ!H43 -> 65 | L19: = | M19: =IF(แหล่งวัสดุ!L$34=1,IF(K19<=200,VLOOKUP(K19,'S2'!B$5:'S2'!F$204,2),IF(K19>200,(K19-200)*'S2'!C$205+'S2'!C$204)),IF(แหล่งวัสดุ!L$34=2,IF(K19<=200,VLOOKUP(K19,'S2'!B$5:'S2'!F$204,4),IF(K19>200,(K19-200)*'S2'!E$205+'S2'!E$204)))) -> 146.79 | N19: บาท/ตัน
A20: 16 | B20: =+แหล่งวัสดุ!B51 -> สำนักดัชนีการค้า สตูล(กันยายน 58) | F20: =+แหล่งวัสดุ!E51 -> เหล็ก Wire mash | H20: =+แหล่งวัสดุ!F51 -> 53 | I20: บาท/ตร.ม. | J20: ระยะขนส่ง | K20: =+แหล่งวัสดุ!H51 -> 65 | L20: = | M20: =IF(แหล่งวัสดุ!L$34=1,IF(K20<=200,VLOOKUP(K20,'S2'!B$5:'S2'!F$204,2),IF(K20>200,(K20-200)*'S2'!C$205+'S2'!C$204)),IF(แหล่งวัสดุ!L$34=2,IF(K20<=200,VLOOKUP(K20,'S2'!B$5:'S2'!F$204,4),IF(K20>200,(K20-200)*'S2'!E$205+'S2'!E$204)))) -> 146.79 | N20: บาท/ตัน
A21: 17 | B21: =+แหล่งวัสดุ!B30 -> สำนักดัชนีการค้า ปัตตานี (ตุลาคม 58) | F21: ซีเมนต์ Type 1 | H21: =+แหล่งวัสดุ!F30 -> 3003.11 | I21: บาท/ตัน | J21: ระยะขนส่ง | K21: =+แหล่งวัสดุ!H30 -> 65 | L21: = | M21: =IF(แหล่งวัสดุ!L$30=1,IF(K21<=200,VLOOKUP(K21,'S2'!B$5:'S2'!F$204,2),IF(K21>200,(K21-200)*'S2'!C$205+'S2'!C$204)),IF(แหล่งวัสดุ!L$30=2,IF(K21<=200,VLOOKUP(K21,'S2'!B$5:'S2'!F$204,4),IF(K21>200,(K21-200)*'S2'!E$205+'S2'!E$204)))) -> 90.01 | N21: บาท/ตัน
H22: รายการราคาค่างานต่อหน่วย
B23: Fator ระยะขนส่ง
B24: ปูนซีเมนต์ = | D24: =+แหล่งวัสดุ!$U$61 -> 1 | F24: =+"ทราย = "&แหล่งวัสดุ!$N$77 -> ทราย = 1 | H24: =+"เหล็ก = "&แหล่งวัสดุ!$U$69 -> เหล็ก = 1 | J24: =+"หิน = "&แหล่งวัสดุ!$N$53 -> หิน = 1 | K24: =+"ท่อ ="&แหล่งวัสดุ!$U$77 -> ท่อ =1
A25: 1 | B25: งานคอนกรีต ค 3
B26: ค่าปูนซีเมนต์ | F26: จำนวน | G26: 0.367 | H26: ตัน @ | J26: =+$H$21+$M$21*$D$24 -> 3093.12 | K26: บาท | L26: = | M26: =J26*G26 -> 1135.175 | N26: บาท
B27: ค่าทราย | F27: จำนวน | G27: 0.66 | H27: ลบ.ม. @ | J27: =+$H$13+$M$13*แหล่งวัสดุ!$N$77 -> 715.62 | K27: บาท | L27: = | M27: =J27*G27 -> 472.3092 | N27: บาท
B28: ค่าหินผสมคอนกรีต | F28: จำนวน | G28: 0.96 | H28: ลบ.ม. @ | J28: =+$H$14+$M$14 -> 527.15 | K28: บาท | L28: = | M28: =J28*G28 -> 506.064 | N28: บาท
B29: รวม | L29: = | M29: =SUM(M26:M28) -> 2113.5482 | N29: บาท
D30: ...ค่างานต้นทุนคอนกรีต ค.3 | L30: = | M30: =ROUNDDOWN(M29,2) -> 2113.54 | N30: บาท/ลบ.ม.
B31: =+F15 -> คอนกรีตผสมเสร็จ 320 ksc | L31: = | M31: =+H15+M15*แหล่งวัสดุ!U61 -> 205.51 | N31: บาท/ลบ.ม.
A32: 2 | B32: หาค่าวัสดุไม้แบบต่อพื้นที่ 1 ตารางเมตร
B33: - ไม้กะบาก จำนวน | D33: 1 | E33: ลบ.ฟ.ๆ ละ | G33: =+แหล่งวัสดุ!F52 -> 532.88 | H33: บาท คิดงานไม้ตามกรมบัญชีกลางให้ 1/4 ของราคา | L33: = | M33: =ROUND(G33/4,2) -> 133.22 | N33: บาท
B34: - ไม้อัดยางหนา 4 มม. | D34: 1 | E34: ตร.ม.ๆ ละ | G34: =+แหล่งวัสดุ!F53 -> 630 | H34: บาท คิดงานไม้ตามกรมบัญชีกลางให้ 1/4 ของราคา | L34: = | M34: =ROUND(G34/4,2) -> 157.5 | N34: บาท
B35: - ไม้คร่าว 1 1/2" | D35: 0.3 | E35: ลบ.ฟ.ๆ ละ | G35: =+แหล่งวัสดุ!F54 -> 409.91 | H35: บาท คิดงานไม้ตามกรมบัญชีกลางให้ 1/4 ของราคา | L35: = | M35: =ROUND(G35*D35/4,2) -> 30.74 | N35: ตร.ม.
B36: - ตะปู | D36: 0.25 | E36: กก. ๆ ละ | G36: =+แหล่งวัสดุ!F59 -> 39.49 | H36: บาท | L36: = | M36: =D36*G36 -> 9.8725 | N36: ตร.ม.
B37: - น้ำมันทาผิวไม้ | D37: 1 | E37: ตร.ม.ๆ ละ | G37: 20 | H37: บาท | L37: = | M37: =D37*G37 -> 20 | N37: บาท
B38: ค่าแบบรวม | I38: ตร.ม. ละ | L38: = | M38: =SUM(M33:M37) -> 351.3325 | N38: บาท
D39: ...ต้นทุนค่างานไม้แบบ | I39: ตร.ม. ละ | L39: = | M39: =ROUNDDOWN(M38,1) -> 351.3 | N39: บาท
A40: 3 | B40: งานผิวทางคอนกรีตเสริมเหล็ก
C41: ผิวทาง หนา | E41: =+'NO DELETE'!AZ8 -> 0.2 | F41: ม. | H41: W/2 = | I41: =+'NO DELETE'!BE8*2 -> 6 | J41: ม. พื้นที่ทั้งหมด | L41: =+BackupCon!G13 -> 5250 | N41: ตร.ม.
B42: คอนกรีต คสล. ค. 3 | E42: จำนวน | F42: =+BackupCon!H13 -> 1050 | H42: ลบ.ม. @ | I42: =+M30 -> 2113.54 | J42: บาท | K42: = | L42: =I42*F42 -> 2219217 | N42: บาท
B43: ไม้แบบ คิด 25% | E43: จำนวน | F43: =+BackupCon!I30 -> 350 | H43: ตร.ม. @ | I43: =+M39 -> 351.3 | J43: บาท | K43: = | L43: =I43*F43 -> 122955 | N43: บาท
B44: แผ่นพลาสติก | E44: จำนวน | F44: =+BackupCon!G33 -> 630 | H44: ตร.ม. @ | I44: 3.9 | J44: บาท | K44: = | L44: =+I44*F44 -> 2457 | N44: บาท
B45: Joint Sealer | E45: จำนวน | F45: =+BackupCon!G31 -> 0.546875 | H45: ตัน @ | I45: =+'1.ต้นทุนถนน AC.'!Z12 -> 27200.35 | J45: บาท | K45: = | L45: =+I45*F45 -> 14875.191 | N45: บาท
B46: เหล็กเสริม RB 6 mm. | E46: จำนวน | F46: =+BackupCon!H26 -> 8205.12 | H46: กก. @ | I46: =+ROUND((H16+M16*แหล่งวัสดุ!$U$69)/1000,2) -> 20.04 | J46: บาท | K46: = | L46: =I46*F46 -> 164430.6 | N46: บาท
B47: เหล็กเสริม RB 9 mm. | E47: จำนวน | F47: =+BackupCon!H27 -> 30732.362 | H47: กก. @ | I47: =+ROUND((H17+M17*แหล่งวัสดุ!$U$69)/1000,2) -> 19.37 | J47: บาท | K47: = | L47: =I47*F47 -> 595285.85 | N47: บาท
B48: เหล็กเสริม DB 12 mm. | E48: จำนวน | F48: =+BackupCon!G29 -> 505.3125 | H48: กก. @ | I48: =+ROUND((H18+M18*แหล่งวัสดุ!$U$69)/1000,2) -> 19.19 | J48: บาท | K48: = | L48: =I48*F48 -> 9696.9469 | N48: บาท
B49: เหล็กเสริม RB 25 mm. | E49: จำนวน | F49: =+BackupCon!G28 -> 2117.5 | H49: กก. @ | I49: =+ROUND((H19+M19*แหล่งวัสดุ!$U$69)/1000,2) -> 0.15 | J49: บาท | K49: = | L49: =I49*F49 -> 317.625 | N49: บาท
B50: ลวดผูกเหล็ก | E50: จำนวน | F50: =ROUND(SUM(F46:F49)*0.025,2) -> 1039.01 | H50: กก. @ | I50: =+แหล่งวัสดุ!F58 -> 46.73 | J50: บาท | K50: = | L50: =I50*F50 -> 48552.937 | N50: บาท
B51: ทรายถมอัดแน่น | E51: จำนวน | F51: =+L41*0.1 -> 525 | H51: ลบ.ม. @ | I51: =+'3.ต้นทุนวางท่อ'!H73 -> 291.43 | J51: บาท | K51: = | L51: =F51*I51 -> 153000.75 | N51: บาท
B52: ค่าแรงตัด-ดัด-ผูก RB 6-9 mm. | E52: จำนวน | F52: =SUM(F46:G47) -> 38937.482 | H52: กก. @ | I52: =+แหล่งวัสดุ!V32/1000 -> 4.1 | J52: บาท | K52: = | L52: =F52*I52 -> 159643.68 | N52: บาท
B53: ค่าแรงตัด-ดัด-ผูก DB 12 mm. | E53: จำนวน | F53: =+F48 -> 505.3125 | H53: กก. @ | I53: =+แหล่งวัสดุ!V33/1000 -> 3.3 | J53: บาท | K53: = | L53: =F53*I53 -> 1667.5312 | N53: บาท
B54: ค่าแรงตัด-ดัด-ผูก RB 25 mm. | E54: จำนวน | F54: =+F49 -> 2117.5 | H54: กก. @ | I54: =+แหล่งวัสดุ!V34/1000 -> 2.9 | J54: บาท | K54: = | L54: =F54*I54 -> 6140.75 | N54: บาท
B55: ค่าแรงประกอบไม้แบบคอนกรีตเปลือย | E55: จำนวน | F55: =+BackupCon!I30 -> 350 | H55: ตร.ม. @ | I55: =+แหล่งวัสดุ!V26 -> 133 | J55: บาท | K55: = | L55: =F55*I55 -> 46550 | N55: บาท
B56: ค่าแรงผสมและเทคอนกรีตผสมเสร็จ | E56: จำนวน | F56: =+F42 -> 1050 | H56: ลบ.ม. @ | I56: =+แหล่งวัสดุ!V21 -> 306 | J56: บาท | K56: = | L56: =+I56*F56 -> 321300 | N56: บาท
D57: ...ค่าแรงงานผิวทางคอนกรีตเสริมเหล็ก/ตารางเมตร | K57: = | L57: =ROUND(SUM(L52:M56)/L41,2) -> 101.96 | N57: บาท/ตร.ม.
D58: ...ค่างานต้นทุนงานผิวทางคอนกรีตเสริมเหล็ก/ตารางเมตร | K58: = | L58: =ROUND(SUM(L42:M51)/L41,2) -> 634.44 | N58: บาท/ตร.ม.
D59: ...สรุปค่างานต้นทุนงานผิวทางคอนกรีตเสริมเหล็ก/ตารางเมตร | K59: = | L59: =ROUND(SUM(L57:M58),2) -> 736.4 | N59: บาท/ตร.ม.
A60: 9 | B60: กรณีใช้เหล็ก Wire mash
B61: ใช้เหล็ก Wire Mesh ขนาด Æ
B62: =+"Transverse temperature steel ที่ต้องใช้ "&'NO DELETE'!BF25&" Sq.mm/m." -> Transverse temperature steel ที่ต้องใช้ 62 Sq.mm/m.
C63: ระยะตะแกรงที่ต้องการ | F63: =+'NO DELETE'!BC38 -> 0.15 | G63: ม. = | H63: =+VLOOKUP('NO DELETE'!$AY$45,'NO DELETE'!$AY$48:$BC$50,5) -> 137.41 | I63: Sq.mm/m. | J63: =+IF(H63<'NO DELETE'!$BF$25,"ใช้ไม่ได้","ใช้ได้") -> ใช้ได้
B64: =+"Longitudinal temperature steel ที่ต้องใช้ "&'NO DELETE'!BE25&" Sq.mm/m." -> Longitudinal temperature steel ที่ต้องใช้ 139 Sq.mm/m.
C65: ระยะตะแกรงที่ต้องการ | F65: =+'NO DELETE'!AZ38 -> 0.15 | G65: ม. = | H65: =+VLOOKUP('NO DELETE'!$AY$45,'NO DELETE'!$AY$42:$BC$44,5) -> 137.41 | I65: Sq.mm/m. | J65: =+IF(H65<'NO DELETE'!$BE$25,"ใช้ไม่ได้","ใช้ได้") -> ใช้ไม่ได้
B66: =+B42 -> คอนกรีต คสล. ค. 3 | E66: จำนวน | F66: =+F42 -> 1050 | H66: ลบ.ม. @ | I66: =+I42 -> 2113.54 | J66: บาท | K66: = | L66: =+I66*F66 -> 2219217 | N66: บาท
B67: =+B43 -> ไม้แบบ คิด 25% | E67: จำนวน | F67: =+F43 -> 350 | H67: ตร.ม. @ | I67: =+I43 -> 351.3 | J67: บาท | K67: = | L67: =+I67*F67 -> 122955 | N67: บาท
B68: เหล็ก Wire mash | E68: จำนวน | F68: =+BackupCon!G32 -> 5250 | H68: ตร.ม. @ | I68: =+H20 -> 53 | J68: บาท | K68: = | L68: =+I68*F68 -> 278250 | N68: บาท
B69: ค่าขนส่งเหล็ก Wire mash | E69: จำนวน | F69: =+F68*1.32 -> 6930 | H69: กก. @ | I69: =+BackupCon!J31/'2.ต้นทุนถนน Con.'!F69 -> 1.6835017 | J69: บาท | K69: = | L69: =+I69*F69 -> 11666.667 | N69: บาท
B70: แผ่นพลาสติก | E70: จำนวน | F70: =+L41 -> 5250 | H70: ตร.ม. @ | I70: 3.9 | J70: บาท | K70: = | L70: =+I70*F70 -> 20475 | N70: บาท
B71: Joint Sealer | E71: จำนวน | F71: =+ROUND(BackupCon!G31,2) -> 0.55 | H71: ตัน @ | I71: =+I45 -> 27200.35 | J71: บาท | K71: = | L71: =+I71*F71 -> 14960.193 | N71: บาท
B72: =+B48 -> เหล็กเสริม DB 12 mm. | E72: จำนวน | F72: =+F48 -> 505.3125 | H72: กก. @ | I72: =+I48 -> 19.19 | J72: บาท | K72: = | L72: =+I72*F72 -> 9696.9469 | N72: บาท
B73: =+B49 -> เหล็กเสริม RB 25 mm. | E73: จำนวน | F73: =+F49 -> 2117.5 | H73: กก. @ | I73: =+I49 -> 0.15 | J73: บาท | K73: = | L73: =+I73*F73 -> 317.625 | N73: บาท
B74: ค่าแรงตัด-ดัด-ผูก DB 12 mm. | E74: จำนวน | F74: =+F72 -> 505.3125 | H74: กก. @ | I74: =+I53 -> 3.3 | J74: บาท | K74: = | L74: =F74*I74 -> 1667.5312 | N74: บาท
B75: ค่าแรงตัด-ดัด-ผูก RB 25 mm. | E75: จำนวน | F75: =+F73 -> 2117.5 | H75: กก. @ | I75: =+I54 -> 2.9 | J75: บาท | K75: = | L75: =F75*I75 -> 6140.75 | N75: บาท
B76: ค่าแรงประกอบไม้แบบคอนกรีตเปลือย | E76: จำนวน | F76: =+F55 -> 350 | H76: ตร.ม. @ | I76: =+I55 -> 133 | J76: บาท | K76: = | L76: =F76*I76 -> 46550 | N76: บาท
B77: ค่าแรงผสมและเทคอนกรีตผสมเสร็จ | E77: จำนวน | F77: =+F56 -> 1050 | H77: ลบ.ม. @ | I77: =+I56 -> 306 | J77: บาท | K77: = | L77: =+I77*F77 -> 321300 | N77: บาท
B78: ค่าแรงวางเหล็ก | E78: จำนวน | F78: =+F68 -> 5250 | H78: ตร.ม. @ | I78: =+แหล่งวัสดุ!V35 -> 5 | J78: บาท | K78: = | L78: =F78*I78 -> 26250 | N78: บาท
D79: ...ค่าแรงงานผิวทางคอนกรีตเสริมเหล็ก/ตารางเมตร | K79: = | L79: =ROUND(SUM(L74:M78)/L41,2) -> 76.55 | N79: บาท/ตร.ม.
D80: ...ค่างานต้นทุนงานผิวทางคอนกรีตเสริมเหล็ก/ตารางเมตร | K80: = | L80: =+(SUM(L66:M73))/L41 -> 510.00732 | N80: บาท/ตร.ม.
D81: ...สรุปค่างานต้นทุนงานผิวทางคอนกรีตเสริมเหล็ก/ตารางเมตร | K81: = | L81: =SUM(L79:M80) -> 586.55732 | N81: บาท/ตร.ม.
B82: หมายเหตุ
B83: - ราคน้ำมันโซล่า เฉลี่ย | G83: =แหล่งวัสดุ!C7 -> 23.5 | H83: บาท / ลิตร
B84: - สายทางอยู่ในเขตพื้นที่ | F84: =IF(แหล่งวัสดุ!H4=1,"ฝนตกชุก 1","ฝนตกชุก 2") -> ฝนตกชุก 1

Sheet 3.ต้นทุนวางท่อ
D1: โปรแกรมประมาณราคางานบำรุงรักษาทาง
D2: จัดทำโดย | G2: ส่วนบูรณะ สำนักงานทางหลวงชนบทที่ 12 (สงขลา) | N2: 42299
A3: ข้อมูลประกอบการประมาณราคา งานวางท่อกลม คสล.
A4: สำนักทางหลวงชนบทที่ 12(สงขลา) กรมทางหลวงชนบท กระทรวงคมนาคม
K5: =+'1.ต้นทุนถนน AC.'!J5 -> วันที่ 10 พฤศจิกายน พ.ศ. 2558
B6: ประเภทงาน | C6: =+ปร.5_Roads!C4 -> บำรุงพิเศษ ซ่อมสร้างผิวทาง Asphaltic Concrete
B7: เจ้าของโครงการ | C7: =+ปร.5_Roads!A2 -> สำนักงานทางหลวงชนบทที่ 12(สงขลา) กรมทางหลวงชนบท
B8: สายทาง | C8: =+ปร.5_Roads!C6 -> ปน.4031 | D8: ชื่อสายทาง | F8: =+ปร.5_Roads!F6 -> แยกทางหลวงหมายเลข 4157-บ้านปาตา
B9: สถานที่ตั้ง | C9: =+ปร.5_Roads!C7 -> อำเภอ ปะนาเระ,ยะหริ่ง จังหวัด ปัตตานี | H9: ระยะทางดำเนินการ | K9: =+'1.ต้นทุนถนน AC.'!M9 -> 1.523 | L9: กม.
A11: ข้อมูลแหล่งวัสดุและระยะทางขนส่ง [ ต้นทุนงานท่อ คสล. ]
A12: 1 | B12: =+'1.ต้นทุนถนน AC.'!B21 -> สำนักดัชนีการค้า ปัตตานี (ตุลาคม 58) | D12: ซีเมนต์ Type 1 | H12: =+'1.ต้นทุนถนน AC.'!H21 -> 3003.11 | J12: บาท/ตัน | K12: ระยะขนส่ง | L12: =+'1.ต้นทุนถนน AC.'!K21 -> 65 | M12: = | N12: =IF(แหล่งวัสดุ!L$23=1,IF(L12<=200,VLOOKUP(L12,'S2'!B$5:'S2'!F$204,2),IF(L12>200,(L12-200)*'S2'!C$205+'S2'!C$204)),IF(แหล่งวัสดุ!L$23=2,IF(L12<=200,VLOOKUP(L12,'S2'!B$5:'S2'!F$204,4),IF(L12>200,(L12-200)*'S2'!E$205+'S2'!E$204)))) -> 90.01 | O12: บาท/ตัน
A13: =A12+1 -> 2 | B13: =+แหล่งวัสดุ!B29 -> อ.มะนัง จ.สตูล | D13: ทรายถมที่ | H13: =+แหล่งวัสดุ!F29 -> 150 | J13: บาท/ลบ.ม. | K13: ระยะขนส่ง | L13: =+แหล่งวัสดุ!H29 -> 73 | M13: = | N13: =IF(แหล่งวัสดุ!L$23=1,IF(L13<=200,VLOOKUP(L13,'S2'!B$5:'S2'!F$204,3),IF(L13>200,(L13-200)*'S2'!D$205+'S2'!D$204)),IF(แหล่งวัสดุ!L$23=2,IF(L13<=200,VLOOKUP(L13,'S2'!B$5:'S2'!F$204,5),IF(L13>200,(L13-200)*'S2'!F$205+'S2'!F$204)))) -> 141.43 | O13: บาท/ลบ.ม.
A14: =A13+1 -> 3 | B14: =+แหล่งวัสดุ!B28 -> อ.มะนัง จ.สตูล | D14: ทรายผสมคอนกรีต | H14: =+แหล่งวัสดุ!F28 -> 485 | J14: บาท/ลบ.ม. | K14: ระยะขนส่ง | L14: =+แหล่งวัสดุ!H28 -> 73 | M14: = | N14: =IF(แหล่งวัสดุ!L$23=1,IF(L14<=200,VLOOKUP(L14,'S2'!B$5:'S2'!F$204,3),IF(L14>200,(L14-200)*'S2'!D$205+'S2'!D$204)),IF(แหล่งวัสดุ!L$23=2,IF(L14<=200,VLOOKUP(L14,'S2'!B$5:'S2'!F$204,5),IF(L14>200,(L14-200)*'S2'!F$205+'S2'!F$204)))) -> 141.43 | O14: บาท/ลบ.ม.
A15: =A14+1 -> 4 | B15: =+แหล่งวัสดุ!B23 -> ต.คลองเปียะ อ.จะนะ จ.สงขลา | D15: หินผสมคอนกรีต | H15: =+แหล่งวัสดุ!F23 -> 400 | J15: บาท/ลบ.ม. | K15: ระยะขนส่ง | L15: =+แหล่งวัสดุ!H23 -> 40 | M15: = | N15: =IF(แหล่งวัสดุ!L$23=1,IF(L15<=200,VLOOKUP(L15,'S2'!B$5:'S2'!F$204,3),IF(L15>200,(L15-200)*'S2'!D$205+'S2'!D$204)),IF(แหล่งวัสดุ!L$23=2,IF(L15<=200,VLOOKUP(L15,'S2'!B$5:'S2'!F$204,5),IF(L15>200,(L15-200)*'S2'!F$205+'S2'!F$204)))) -> 77.88 | O15: บาท/ลบ.ม.
A16: =A15+1 -> 5 | B16: =+B12 -> สำนักดัชนีการค้า ปัตตานี (ตุลาคม 58) | D16: เหล็กเสริม SR 24 Æ 6 มม. | H16: =+แหล่งวัสดุ!F39 -> 19898.17 | J16: บาท/ตัน | K16: ระยะขนส่ง | L16: =+แหล่งวัสดุ!H39 -> 65 | M16: = | N16: =IF(แหล่งวัสดุ!L$23=1,IF(L16<=200,VLOOKUP(L16,'S2'!B$5:'S2'!F$204,2),IF(L16>200,(L16-200)*'S2'!C$205+'S2'!C$204)),IF(แหล่งวัสดุ!L$23=2,IF(L16<=200,VLOOKUP(L16,'S2'!B$5:'S2'!F$204,4),IF(L16>200,(L16-200)*'S2'!E$205+'S2'!E$204)))) -> 90.01 | O16: บาท/ตัน
A17: =A16+1 -> 6 | B17: =+B16 -> สำนักดัชนีการค้า ปัตตานี (ตุลาคม 58) | D17: เหล็กเสริม SR 24 Æ 9 มม. | H17: =+แหล่งวัสดุ!F40 -> 19220.78 | J17: บาท/ตัน | K17: ระยะขนส่ง | L17: =+แหล่งวัสดุ!H40 -> 65 | M17: = | N17: =IF(แหล่งวัสดุ!L$23=1,IF(L17<=200,VLOOKUP(L17,'S2'!B$5:'S2'!F$204,2),IF(L17>200,(L17-200)*'S2'!C$205+'S2'!C$204)),IF(แหล่งวัสดุ!L$23=2,IF(L17<=200,VLOOKUP(L17,'S2'!B$5:'S2'!F$204,4),IF(L17>200,(L17-200)*'S2'!E$205+'S2'!E$204)))) -> 90.01 | O17: บาท/ตัน
A18: =A17+1 -> 7 | B18: =+B17 -> สำนักดัชนีการค้า ปัตตานี (ตุลาคม 58) | D18: เหล็กเสริม DB 30 Æ 12 มม. | H18: =+แหล่งวัสดุ!F44 -> 19042.06 | J18: บาท/ตัน | K18: ระยะขนส่ง | L18: =+แหล่งวัสดุ!H44 -> 65 | M18: = | N18: =IF(แหล่งวัสดุ!L$23=1,IF(L18<=200,VLOOKUP(L18,'S2'!B$5:'S2'!F$204,2),IF(L18>200,(L18-200)*'S2'!C$205+'S2'!C$204)),IF(แหล่งวัสดุ!L$23=2,IF(L18<=200,VLOOKUP(L18,'S2'!B$5:'S2'!F$204,4),IF(L18>200,(L18-200)*'S2'!E$205+'S2'!E$204)))) -> 90.01 | O18: บาท/ตัน
A19: =A18+1 -> 8 | B19: =+B18 -> สำนักดัชนีการค้า ปัตตานี (ตุลาคม 58) | D19: ลวดผูกเหล็ก | H19: =+แหล่งวัสดุ!F58 -> 46.73 | J19: บาท/กก | K19: ระยะขนส่ง | M19: = | O19: บาท/ตัน.
A20: =A19+1 -> 9 | B20: =+B19 -> สำนักดัชนีการค้า ปัตตานี (ตุลาคม 58) | D20: ไม้กะบาก | H20: =+แหล่งวัสดุ!F52 -> 532.88 | J20: บาท/ลฟ.ม. | K20: ระยะขนส่ง | M20: = | O20: บาท/ลฟ.ม.
A21: =A20+1 -> 10 | B21: =+B20 -> สำนักดัชนีการค้า ปัตตานี (ตุลาคม 58) | D21: ไม้อัดภายนอกหนา 4 มม. | H21: =+แหล่งวัสดุ!F53 -> 630 | J21: บาท/แผ่น | K21: ระยะขนส่ง | M21: = | O21: บาท/แผ่น
A22: =A21+1 -> 11 | B22: =+B21 -> สำนักดัชนีการค้า ปัตตานี (ตุลาคม 58) | D22: ไม้รัดแบบ-เคร่า | H22: =+แหล่งวัสดุ!F54 -> 409.91 | J22: บาท/ลฟ.ม. | K22: ระยะขนส่ง | M22: = | O22: บาท/ลฟ.ม.
A23: =A22+1 -> 12 | B23: =+B22 -> สำนักดัชนีการค้า ปัตตานี (ตุลาคม 58) | D23: ตะปู | H23: =+แหล่งวัสดุ!F59 -> 39.49 | J23: บาท/กก. | K23: ระยะขนส่ง | M23: = | O23: บาท/กก.
A24: =A23+1 -> 13 | B24: =+แหล่งวัสดุ!B60 -> สำนักดัชนีการค้า สตูล(กันยายน 58) | D24: ท่อ คสล. Æ 0.60 ม. | H24: =+แหล่งวัสดุ!F60 -> 800 | J24: บาท/ท่อน | K24: ระยะขนส่ง | L24: =+แหล่งวัสดุ!H60 -> 40 | M24: = | N24: =+'NO DELETE'!N41 -> 61.694167 | O24: บาท/ท่อน
A25: =A24+1 -> 14 | B25: =+แหล่งวัสดุ!B61 -> สำนักดัชนีการค้า สตูล(กันยายน 58) | D25: ท่อ คสล. Æ 0.80 ม. | H25: =+แหล่งวัสดุ!F61 -> 1720 | J25: บาท/ท่อน | K25: ระยะขนส่ง | L25: =+แหล่งวัสดุ!H61 -> 40 | M25: = | N25: =+'NO DELETE'!N42 -> 82.258889 | O25: บาท/ท่อน
A26: =A25+1 -> 15 | B26: =+แหล่งวัสดุ!B62 -> สำนักดัชนีการค้า สตูล(กันยายน 58) | D26: ท่อ คสล. Æ 1.00 ม. | H26: =+แหล่งวัสดุ!F62 -> 2360 | J26: บาท/ท่อน | K26: ระยะขนส่ง | L26: =+แหล่งวัสดุ!H62 -> 40 | M26: = | N26: =+'NO DELETE'!N43 -> 148.066 | O26: บาท/ท่อน
A27: =A26+1 -> 16 | B27: =+แหล่งวัสดุ!B63 -> สำนักดัชนีการค้า สตูล(กันยายน 58) | D27: ท่อ คสล. Æ 1.20 ม. | H27: =+แหล่งวัสดุ!F63 -> 3400 | J27: บาท/ท่อน | K27: ระยะขนส่ง | L27: =+แหล่งวัสดุ!H63 -> 40 | M27: = | N27: =+'NO DELETE'!N44 -> 185.0825 | O27: บาท/ท่อน
A28: =A27+1 -> 17 | B28: =+แหล่งวัสดุ!B64 -> สำนักดัชนีการค้า สตูล(กันยายน 58) | D28: ท่อ คสล. Æ 1.50 ม. | H28: =+แหล่งวัสดุ!F64 -> 4400 | J28: บาท/ท่อน | K28: ระยะขนส่ง | L28: =+แหล่งวัสดุ!H64 -> 40 | M28: = | N28: =+'NO DELETE'!N45 -> 296.132 | O28: บาท/ท่อน
A29: รายการราคาค่างานต่อหน่วยงานท่อ คสล.
B30: Fator ระยะขนส่ง
B31: ปูนซีเมนต์ = | C31: =+แหล่งวัสดุ!$U$61 -> 1 | D31: =+"ทราย = "&แหล่งวัสดุ!$N$77 -> ทราย = 1 | G31: =+"เหล็ก = "&แหล่งวัสดุ!$U$69 -> เหล็ก = 1 | I31: =+"หิน = "&แหล่งวัสดุ!$N$53 -> หิน = 1 | K31: =+"ท่อ ="&แหล่งวัสดุ!$U$77 -> ท่อ =1
B32: 1.หาค่างานต้นทุนซีเมนต์ยาแนว
B33: ค่าปูนซีเมนต์ | G33: จำนวน | H33: 0.525 | J33: ตัน @ | K33: =+H12+N12*แหล่งวัสดุ!U61 -> 3093.12 | L33: บาท | M33: = | N33: =K33*H33 -> 1623.888 | O33: บาท
B34: ค่าทราย | G34: จำนวน | H34: 0.952 | J34: ลบ.ม. @ | K34: =H14+N14*แหล่งวัสดุ!N77 -> 626.43 | L34: บาท | M34: = | N34: =K34*H34 -> 596.36136 | O34: บาท
B35: รวม | M35: = | N35: =ROUND(SUM(N33:N34),2) -> 2220.25 | O35: บาท
F36: ...ค่างานต้นทุนซีเมนต์ยาแนว | M36: = | N36: =ROUNDDOWN(N35,) -> 2220 | O36: บาท/ลบ.ม.
B37: 2.หาค่างานต้นทุนคอนกรีตหยาบ
B38: ค่าปูนซีเมนต์ | G38: จำนวน | H38: 0.26 | J38: ตัน @ | K38: =+K33 -> 3093.12 | L38: บาท | M38: = | N38: =K38*H38 -> 804.2112 | O38: บาท
B39: ค่าทราย | G39: จำนวน | H39: 0.62 | J39: ลบ.ม. @ | K39: =+K34 -> 626.43 | L39: บาท | M39: = | N39: =K39*H39 -> 388.3866 | O39: บาท
B40: ค่าหิน | G40: จำนวน | H40: 1.03 | J40: ลบ.ม. @ | K40: =H15+N15*แหล่งวัสดุ!N53 -> 477.88 | L40: บาท | M40: = | N40: =K40*H40 -> 492.2164 | O40: บาท
B41: รวม | M41: = | N41: =ROUND(SUM(N38:N40),2) -> 1684.81 | O41: บาท
B42: ค่าแรงผสมและเทคอนกรีต | G42: จำนวน | H42: 1 | J42: ลบ.ม. @ | K42: =+แหล่งวัสดุ!V17 -> 398 | L42: บาท | M42: = | N42: =K42*H42 -> 398 | O42: บาท
B43: รวม | M43: = | N43: =SUM(N41:N42) -> 2082.81 | O43: บาท
F44: ...ค่างานต้นทุนคอนกรีตหยาบ | M44: = | N44: =ROUNDDOWN(N43,) -> 2082 | O44: บาท/ลบ.ม.
B45: 3.หาค่างานต้นทุนคอนกรีต ค.1
B46: ค่าปูนซีเมนต์ | G46: จำนวน | H46: 0.304 | J46: ตัน @ | K46: =+K38 -> 3093.12 | L46: บาท | M46: = | N46: =K46*H46 -> 940.30848 | O46: บาท
B47: ค่าทราย | G47: จำนวน | H47: 0.43 | J47: ลบ.ม. @ | K47: =+K39 -> 626.43 | L47: บาท | M47: = | N47: =K47*H47 -> 269.3649 | O47: บาท
B48: ค่าหิน | G48: จำนวน | H48: 0.99 | J48: ลบ.ม. @ | K48: =+K40 -> 477.88 | L48: บาท | M48: = | N48: =K48*H48 -> 473.1012 | O48: บาท
B49: รวม | M49: = | N49: =ROUND(SUM(N46:N48),2) -> 1682.77 | O49: บาท
B50: ค่าแรงผสมและเทคอนกรีต | G50: จำนวน | H50: 1 | J50: ลบ.ม. @ | K50: =+แหล่งวัสดุ!V18 -> 436 | L50: บาท | M50: = | N50: =K50*H50 -> 436 | O50: บาท
B51: รวม | M51: = | N51: =SUM(N49:N50) -> 2118.77 | O51: บาท
F52: ...ค่างานต้นทุนคอนกรีต ค.1 | M52: = | N52: =ROUNDDOWN(N51,) -> 2118 | O52: บาท/ลบ.ม.
B53: 4. หาค่าวัสดุไม้แบบต่อพื้นที่ 1 ตารางเมตร
B54: - ไม้กะบาก จำนวน | D54: 1 | E54: ลบ.ฟ.ๆ ละ | G54: =ROUND(H20,2) -> 532.88 | H54: บาท คิดงานไม้ตามกรมบัญชีกลางให้ 1/4 ของราคา | M54: = | N54: =ROUND(G54/4,2) -> 133.22 | O54: บาท
B55: - ไม้อัดยางหนา 4 มม. | D55: 1 | E55: ตร.ม.ๆ ละ | G55: =ROUND(H21,2) -> 630 | H55: บาท คิดงานไม้ตามกรมบัญชีกลางให้ 1/4 ของราคา | M55: = | N55: =ROUND(G55/4,2) -> 157.5 | O55: บาท
B56: - ไม้คร่าว 1 1/2" | D56: 0.3 | E56: ลบ.ฟ.ๆ ละ | G56: =ROUND(H22,2) -> 409.91 | H56: บาท คิดงานไม้ตามกรมบัญชีกลางให้ 1/4 ของราคา | M56: = | N56: =ROUND(G56*D56/4,2) -> 30.74 | O56: ตร.ม.
B57: - ตะปู | D57: 0.25 | E57: กก. ๆ ละ | G57: =+H23 -> 39.49 | H57: บาท | M57: = | N57: =D57*G57 -> 9.8725 | O57: ตร.ม.
B58: - น้ำมันทาผิวไม้ | D58: 1 | E58: ตร.ม.ๆ ละ | G58: 20 | H58: บาท | M58: = | N58: =D58*G58 -> 20 | O58: บาท
B59: ค่าแบบรวม | K59: ตร.ม. ละ | M59: = | N59: =SUM(N54:N58) -> 351.3325 | O59: บาท
E60: ...ต้นทุนค่างานไม้แบบ | K60: ตร.ม. ละ | M60: = | N60: =ROUNDDOWN(N59,1) -> 351.3 | O60: บาท
B61: 5.งานวางท่อลอดกลม คสล.
B62: =+"5.1 ท่อ คสล."&VLOOKUP('NO DELETE'!$H$1,'NO DELETE'!$A$4:$G$18,2) -> 5.1 ท่อ คสล. ขนาด Dia. 1 - 0.80 ม. x 1.00 ม.
B63: - ค่าท่อ คสล. พร้อมขนส่งถึงหน้างาน | M63: = | N63: =+VLOOKUP('NO DELETE'!$H$1,'NO DELETE'!$A$4:$N$18,8) -> 1802.2589 | O63: บาท/ท่อน
B64: - ค่าทรายถมหลังท่อ | E64: = | F64: =+VLOOKUP('NO DELETE'!$H$1,'NO DELETE'!$A$4:$E$18,5) -> 1.748 | G64: ลบ.ม. @ | H64: =H13+N13 -> 291.43 | I64: บาท | M64: = | N64: =+H64*F64 -> 509.41964 | O64: บาท
B65: - ค่าคอนกรีตหยาบ | E65: = | F65: =+VLOOKUP('NO DELETE'!$H$1,'NO DELETE'!$A$4:$G$18,6) -> 0.239 | G65: ลบ.ม. @ | H65: =N44 -> 2082 | I65: บาท | M65: = | N65: =+H65*F65 -> 497.598 | O65: บาท
B66: - งานยาแนวท่อ | E66: = | F66: =+VLOOKUP('NO DELETE'!$H$1,'NO DELETE'!$A$4:$G$18,7) -> 0.02 | G66: ลบ.ม. @ | H66: =N36 -> 2220 | I66: บาท | M66: = | N66: =+H66*F66 -> 44.4 | O66: บาท
B67: - ค่าดำเนินการ | M67: = | N67: =+VLOOKUP('NO DELETE'!$H$1,'NO DELETE'!$A$4:$N$18,12) -> 421 | O67: บาท
F68: ราคาต่อเมตร | M68: = | N68: =SUM(N63:N67) -> 3274.6765 | O68: บาท
D69: =+"... ค่างานต้นทุนวางท่อ "&VLOOKUP('NO DELETE'!$H$1,'NO DELETE'!$A$4:$C$18,2)&"ต่อ 1 เมตร" -> ... ค่างานต้นทุนวางท่อ ขนาด Dia. 1 - 0.80 ม. x 1.00 ม.ต่อ 1 เมตร | M69: = | N69: =+ROUND(N68,) -> 3275 | O69: บาท
B70: =+"5.2 ท่อ คสล."&VLOOKUP('NO DELETE'!$I$1,'NO DELETE'!$A$4:$G$18,2) -> 5.2 ท่อ คสล. ขนาด Dia. 2 - 1.00 ม. x 1.00 ม.
B71: - ค่าท่อ คสล. พร้อมขนส่งถึงหน้างาน | M71: = | N71: =+VLOOKUP('NO DELETE'!$I$1,'NO DELETE'!$A$4:$N$18,8) -> 5016.132 | O71: บาท/ท่อน
B72: - ค่าดินขุด | E72: = | F72: =+VLOOKUP('NO DELETE'!$I$1,'NO DELETE'!$A$4:$N$18,13) -> 5.381 | G72: ลบ.ม. @ | H72: =+'S2'!$BF$38 -> 20.92 | I72: บาท | M72: = | N72: =+H72+F72 -> 26.301 | O72: บาท
B73: - ค่าทรายถมหลังท่อ | E73: = | F73: =+VLOOKUP('NO DELETE'!$I$1,'NO DELETE'!$A$4:$G$18,5) -> 5.085 | G73: ลบ.ม. @ | H73: =+H64 -> 291.43 | I73: บาท | M73: = | N73: =+H73*F73 -> 1481.9216 | O73: บาท
B74: - ค่าคอนกรีตหยาบ | E74: = | F74: =+VLOOKUP('NO DELETE'!$I$1,'NO DELETE'!$A$4:$G$18,6) -> 0.531 | G74: ลบ.ม. @ | H74: =+H65 -> 2082 | I74: บาท | M74: = | N74: =+H74*F74 -> 1105.542 | O74: บาท
B75: - งานยาแนวท่อ | E75: = | F75: =+VLOOKUP('NO DELETE'!$I$1,'NO DELETE'!$A$4:$G$18,7) -> 0.04 | G75: ลบ.ม. @ | H75: =+H66 -> 2220 | I75: บาท | M75: = | N75: =+H75*F75 -> 88.8 | O75: บาท
B76: - ค่าดำเนินการ | M76: = | N76: =+VLOOKUP('NO DELETE'!$I$1,'NO DELETE'!$A$4:$N$18,12) -> 1020 | O76: บาท
F77: ราคาต่อเมตร | M77: = | N77: =SUM(N71:N76) -> 8738.6966 | O77: บาท
D78: =+"... ค่างานต้นทุนวางท่อ "&VLOOKUP('NO DELETE'!$I$1,'NO DELETE'!$A$4:$C$18,2)&"ต่อ 1 เมตร" -> ... ค่างานต้นทุนวางท่อ ขนาด Dia. 2 - 1.00 ม. x 1.00 ม.ต่อ 1 เมตร | M78: = | N78: =+ROUND(N77,) -> 8739 | O78: บาท
B79: =+"5.3 ท่อ คสล."&VLOOKUP('NO DELETE'!$J$1,'NO DELETE'!$A$4:$G$18,2) -> 5.3 ท่อ คสล. ขนาด Dia. 1 - 1.00 ม. x 1.00 ม.
B80: - ค่าท่อ คสล. พร้อมขนส่งถึงหน้างาน | M80: = | N80: =+VLOOKUP('NO DELETE'!$J$1,'NO DELETE'!$A$4:$N$18,8) -> 2508.066 | O80: บาท/ท่อน
B81: - ค่าดินขุด | E81: = | F81: =+VLOOKUP('NO DELETE'!$J$1,'NO DELETE'!$A$4:$N$18,13) -> 2.766 | G81: ลบ.ม. @ | H81: =+'S2'!$BF$38 -> 20.92 | I81: บาท | M81: = | N81: =+H81+F81 -> 23.686 | O81: บาท
B82: - ค่าทรายถมหลังท่อ | E82: = | F82: =+VLOOKUP('NO DELETE'!$J$1,'NO DELETE'!$A$4:$G$18,5) -> 2.144 | G82: ลบ.ม. @ | H82: =+H73 -> 291.43 | I82: บาท | M82: = | N82: =+H82*F82 -> 624.82592 | O82: บาท
B83: - ค่าคอนกรีตหยาบ | E83: = | F83: =+VLOOKUP('NO DELETE'!$J$1,'NO DELETE'!$A$4:$G$18,6) -> 0.273 | G83: ลบ.ม. @ | H83: =+H74 -> 2082 | I83: บาท | M83: = | N83: =+H83*F83 -> 568.386 | O83: บาท
B84: - งานยาแนวท่อ | E84: = | F84: =+VLOOKUP('NO DELETE'!$J$1,'NO DELETE'!$A$4:$G$18,7) -> 0.02 | G84: ลบ.ม. @ | H84: =+H75 -> 2220 | I84: บาท | M84: = | N84: =+H84*F84 -> 44.4 | O84: บาท
B85: - ค่าดำเนินการ | M85: = | N85: =+VLOOKUP('NO DELETE'!$J$1,'NO DELETE'!$A$4:$N$18,12) -> 510 | O85: บาท
F86: ราคาต่อเมตร | M86: = | N86: =SUM(N80:N85) -> 4279.3639 | O86: บาท
D87: =+"... ค่างานต้นทุนวางท่อ "&VLOOKUP('NO DELETE'!$J$1,'NO DELETE'!$A$4:$C$18,2)&"ต่อ 1 เมตร" -> ... ค่างานต้นทุนวางท่อ ขนาด Dia. 1 - 1.00 ม. x 1.00 ม.ต่อ 1 เมตร | M87: = | N87: =+ROUND(N86,) -> 4279 | O87: บาท
B88: =+"5.4 ท่อ คสล."&VLOOKUP('NO DELETE'!$K$1,'NO DELETE'!$A$4:$G$18,2) -> 5.4 ท่อ คสล. ขนาด Dia. 1 - 1.20 ม. x 1.00 ม.
B89: - ค่าท่อ คสล. พร้อมขนส่งถึงหน้างาน | M89: = | N89: =+VLOOKUP('NO DELETE'!$K$1,'NO DELETE'!$A$4:$N$18,8) -> 3585.0825 | O89: บาท/ท่อน
B90: - ค่าดินขุด | E90: = | F90: =+VLOOKUP('NO DELETE'!$K$1,'NO DELETE'!$A$4:$N$18,13) -> 3.588 | G90: ลบ.ม. @ | H90: =+'S2'!$BF$38 -> 20.92 | I90: บาท | M90: = | N90: =+H90+F90 -> 24.508 | O90: บาท
B91: - ค่าทรายถมหลังท่อ | E91: = | F91: =+VLOOKUP('NO DELETE'!$K$1,'NO DELETE'!$A$4:$G$18,5) -> 2.567 | G91: ลบ.ม. @ | H91: =+H82 -> 291.43 | I91: บาท | M91: = | N91: =+H91*F91 -> 748.10081 | O91: บาท
B92: - ค่าคอนกรีตหยาบ | E92: = | F92: =+VLOOKUP('NO DELETE'!$K$1,'NO DELETE'!$A$4:$G$18,6) -> 0.308 | G92: ลบ.ม. @ | H92: =+H83 -> 2082 | I92: บาท | M92: = | N92: =+H92*F92 -> 641.256 | O92: บาท
B93: - งานยาแนวท่อ | E93: = | F93: =+VLOOKUP('NO DELETE'!$K$1,'NO DELETE'!$A$4:$G$18,7) -> 0.02 | G93: ลบ.ม. @ | H93: =+H84 -> 2220 | I93: บาท | M93: = | N93: =+H93*F93 -> 44.4 | O93: บาท
B94: - ค่าดำเนินการ | M94: = | N94: =+VLOOKUP('NO DELETE'!$K$1,'NO DELETE'!$A$4:$N$18,12) -> 575 | O94: บาท
F95: ราคาต่อเมตร | M95: = | N95: =SUM(N89:N94) -> 5618.3473 | O95: บาท
D96: =+"... ค่างานต้นทุนวางท่อ "&VLOOKUP('NO DELETE'!$K$1,'NO DELETE'!$A$4:$C$18,2)&"ต่อ 1 เมตร" -> ... ค่างานต้นทุนวางท่อ ขนาด Dia. 1 - 1.20 ม. x 1.00 ม.ต่อ 1 เมตร | M96: = | N96: =+ROUND(N95,) -> 5618 | O96: บาท
B97: =+"5.5 ท่อ คสล."&VLOOKUP('NO DELETE'!$L$1,'NO DELETE'!$A$4:$G$18,2) -> 5.5 ท่อ คสล. ขนาด Dia. 1 - 1.50 ม. x 1.00 ม.
B98: - ค่าท่อ คสล. พร้อมขนส่งถึงหน้างาน | M98: = | N98: =+VLOOKUP('NO DELETE'!$L$1,'NO DELETE'!$A$4:$N$18,8) -> 4696.132 | O98: บาท/ท่อน
B99: - ค่าดินขุด | E99: = | F99: =+VLOOKUP('NO DELETE'!$L$1,'NO DELETE'!$A$4:$N$18,13) -> 5.04 | G99: ลบ.ม. @ | H99: =+'S2'!$BF$38 -> 20.92 | I99: บาท | M99: = | N99: =+H99+F99 -> 25.96 | O99: บาท
B100: - ค่าทรายถมหลังท่อ | E100: = | F100: =+VLOOKUP('NO DELETE'!$L$1,'NO DELETE'!$A$4:$G$18,5) -> 3.261 | G100: ลบ.ม. @ | H100: =+H91 -> 291.43 | I100: บาท | M100: = | N100: =+H100*F100 -> 950.35323 | O100: บาท
B101: - ค่าคอนกรีตหยาบ | E101: = | F101: =+VLOOKUP('NO DELETE'!$L$1,'NO DELETE'!$A$4:$G$18,6) -> 0.36 | G101: ลบ.ม. @ | H101: =+H92 -> 2082 | I101: บาท | M101: = | N101: =+H101*F101 -> 749.52 | O101: บาท
...

Sheet 4.ต้นทุนระบายน้ำ
D1: โปรแกรมประมาณราคางานบำรุงรักษาทาง
D2: จัดทำโดย | G2: ส่วนบูรณะ สำนักทางหลวงชนบทที่ 12 (สงขลา) | N2: 42206
A3: ข้อมูลประกอบการประมาณราคา งานระบบระบายน้ำ
A4: สำนักงานทางหลวงชนบทที่ 12(สงขลา) กรมทางหลวงชนบท กระทรวงคมนาคม
K5: =+'1.ต้นทุนถนน AC.'!J5 -> วันที่ 10 พฤศจิกายน พ.ศ. 2558
B6: ประเภทงาน | C6: =+ปร.5_Roads!C4 -> บำรุงพิเศษ ซ่อมสร้างผิวทาง Asphaltic Concrete
B7: เจ้าของโครงการ | C7: =+ปร.5_Roads!A2 -> สำนักงานทางหลวงชนบทที่ 12(สงขลา) กรมทางหลวงชนบท
B8: สายทาง | C8: =+ปร.5_Roads!C6 -> ปน.4031 | D8: ชื่อสายทาง | F8: =+ปร.5_Roads!F6 -> แยกทางหลวงหมายเลข 4157-บ้านปาตา
B9: สถานที่ตั้ง | C9: =+ปร.5_Roads!C7 -> อำเภอ ปะนาเระ,ยะหริ่ง จังหวัด ปัตตานี | H9: ระยะทางดำเนินการ | K9: =+'1.ต้นทุนถนน AC.'!M9 -> 1.523 | L9: กม.
A11: ข้อมูลแหล่งวัสดุและระยะทางขนส่ง [ ต้นทุนงานระบบระบายน้ำ ]
A12: 1 | B12: =+'3.ต้นทุนวางท่อ'!B12 -> สำนักดัชนีการค้า ปัตตานี (ตุลาคม 58) | D12: ซีเมนต์ | H12: =+'1.ต้นทุนถนน AC.'!H21 -> 3003.11 | J12: บาท/ตัน | K12: ระยะขนส่ง | L12: =+'3.ต้นทุนวางท่อ'!L12 -> 65 | M12: = | N12: =IF(แหล่งวัสดุ!L$23=1,IF(L12<=200,VLOOKUP(L12,'S2'!B$5:'S2'!F$204,2),IF(L12>200,(L12-200)*'S2'!C$205+'S2'!C$204)),IF(แหล่งวัสดุ!L$23=2,IF(L12<=200,VLOOKUP(L12,'S2'!B$5:'S2'!F$204,4),IF(L12>200,(L12-200)*'S2'!E$205+'S2'!E$204)))) -> 90.01 | O12: บาท/ตัน
A13: =A12+1 -> 2 | B13: =+'3.ต้นทุนวางท่อ'!B13 -> อ.มะนัง จ.สตูล | D13: ทรายถม | H13: =+แหล่งวัสดุ!F29 -> 150 | J13: บาท/ลบ.ม. | K13: ระยะขนส่ง | L13: =+'3.ต้นทุนวางท่อ'!L13 -> 73 | M13: = | N13: =IF(แหล่งวัสดุ!L$23=1,IF(L13<=200,VLOOKUP(L13,'S2'!B$5:'S2'!F$204,3),IF(L13>200,(L13-200)*'S2'!D$205+'S2'!D$204)),IF(แหล่งวัสดุ!L$23=2,IF(L13<=200,VLOOKUP(L13,'S2'!B$5:'S2'!F$204,5),IF(L13>200,(L13-200)*'S2'!F$205+'S2'!F$204)))) -> 141.43 | O13: บาท/ลบ.ม.
A14: =A13+1 -> 3 | B14: =+'3.ต้นทุนวางท่อ'!B14 -> อ.มะนัง จ.สตูล | D14: ทรายผสมคอนกรีต | H14: ='3.ต้นทุนวางท่อ'!H14 -> 485 | J14: บาท/ลบ.ม. | K14: ระยะขนส่ง | L14: =+'3.ต้นทุนวางท่อ'!L14 -> 73 | M14: = | N14: =IF(แหล่งวัสดุ!L$23=1,IF(L14<=200,VLOOKUP(L14,'S2'!B$5:'S2'!F$204,3),IF(L14>200,(L14-200)*'S2'!D$205+'S2'!D$204)),IF(แหล่งวัสดุ!L$23=2,IF(L14<=200,VLOOKUP(L14,'S2'!B$5:'S2'!F$204,5),IF(L14>200,(L14-200)*'S2'!F$205+'S2'!F$204)))) -> 141.43 | O14: บาท/ลบ.ม.
A15: =A14+1 -> 4 | B15: =+'3.ต้นทุนวางท่อ'!B15 -> ต.คลองเปียะ อ.จะนะ จ.สงขลา | D15: หินผสมคอนกรีต | H15: ='3.ต้นทุนวางท่อ'!H15 -> 400 | J15: บาท/ลบ.ม. | K15: ระยะขนส่ง | L15: =+'3.ต้นทุนวางท่อ'!L15 -> 40 | M15: = | N15: =IF(แหล่งวัสดุ!L$23=1,IF(L15<=200,VLOOKUP(L15,'S2'!B$5:'S2'!F$204,3),IF(L15>200,(L15-200)*'S2'!D$205+'S2'!D$204)),IF(แหล่งวัสดุ!L$23=2,IF(L15<=200,VLOOKUP(L15,'S2'!B$5:'S2'!F$204,5),IF(L15>200,(L15-200)*'S2'!F$205+'S2'!F$204)))) -> 77.88 | O15: บาท/ลบ.ม.
A16: =A15+1 -> 5 | B16: =+B12 -> สำนักดัชนีการค้า ปัตตานี (ตุลาคม 58) | D16: เหล็กเสริม SR 24 Æ 6 มม. | H16: =+'3.ต้นทุนวางท่อ'!H16 -> 19898.17 | J16: บาท/ตัน | K16: ระยะขนส่ง | L16: =+'3.ต้นทุนวางท่อ'!L16 -> 65 | M16: = | N16: =IF(แหล่งวัสดุ!L$23=1,IF(L16<=200,VLOOKUP(L16,'S2'!B$5:'S2'!F$204,2),IF(L16>200,(L16-200)*'S2'!C$205+'S2'!C$204)),IF(แหล่งวัสดุ!L$23=2,IF(L16<=200,VLOOKUP(L16,'S2'!B$5:'S2'!F$204,4),IF(L16>200,(L16-200)*'S2'!E$205+'S2'!E$204)))) -> 90.01 | O16: บาท/ตัน
A17: =A16+1 -> 6 | B17: =+B16 -> สำนักดัชนีการค้า ปัตตานี (ตุลาคม 58) | D17: เหล็กเสริม SR 24 Æ 9 มม. | H17: =+'3.ต้นทุนวางท่อ'!H17 -> 19220.78 | J17: บาท/ตัน | K17: ระยะขนส่ง | L17: =+L16 -> 65 | M17: = | N17: =IF(แหล่งวัสดุ!L$23=1,IF(L17<=200,VLOOKUP(L17,'S2'!B$5:'S2'!F$204,2),IF(L17>200,(L17-200)*'S2'!C$205+'S2'!C$204)),IF(แหล่งวัสดุ!L$23=2,IF(L17<=200,VLOOKUP(L17,'S2'!B$5:'S2'!F$204,4),IF(L17>200,(L17-200)*'S2'!E$205+'S2'!E$204)))) -> 90.01 | O17: บาท/ตัน
A18: =A17+1 -> 7 | B18: =+B17 -> สำนักดัชนีการค้า ปัตตานี (ตุลาคม 58) | D18: เหล็กเสริม DB 30 Æ 12 มม. | H18: =+'3.ต้นทุนวางท่อ'!H18 -> 19042.06 | J18: บาท/ตัน | K18: ระยะขนส่ง | L18: =+L17 -> 65 | M18: = | N18: =IF(แหล่งวัสดุ!L$23=1,IF(L18<=200,VLOOKUP(L18,'S2'!B$5:'S2'!F$204,2),IF(L18>200,(L18-200)*'S2'!C$205+'S2'!C$204)),IF(แหล่งวัสดุ!L$23=2,IF(L18<=200,VLOOKUP(L18,'S2'!B$5:'S2'!F$204,4),IF(L18>200,(L18-200)*'S2'!E$205+'S2'!E$204)))) -> 90.01 | O18: บาท/ตัน
A19: =A18+1 -> 8 | B19: =+B18 -> สำนักดัชนีการค้า ปัตตานี (ตุลาคม 58) | D19: เหล็กเสริม DB 30 Æ 16 มม. | H19: =+แหล่งวัสดุ!F45 -> 19415.55 | J19: บาท/ตัน | K19: ระยะขนส่ง | L19: =+L18 -> 65 | M19: = | N19: =IF(แหล่งวัสดุ!L$23=1,IF(L19<=200,VLOOKUP(L19,'S2'!B$5:'S2'!F$204,2),IF(L19>200,(L19-200)*'S2'!C$205+'S2'!C$204)),IF(แหล่งวัสดุ!L$23=2,IF(L19<=200,VLOOKUP(L19,'S2'!B$5:'S2'!F$204,4),IF(L19>200,(L19-200)*'S2'!E$205+'S2'!E$204)))) -> 90.01 | O19: บาท/ตัน
A20: =A19+1 -> 9 | B20: =+B19 -> สำนักดัชนีการค้า ปัตตานี (ตุลาคม 58) | D20: เหล็กเสริม SR 30 Æ 15 มม. | H20: =+แหล่งวัสดุ!F41 -> 19521.96 | J20: บาท/ตัน | K20: ระยะขนส่ง | L20: =+L19 -> 65 | M20: = | N20: =IF(แหล่งวัสดุ!L$23=1,IF(L20<=200,VLOOKUP(L20,'S2'!B$5:'S2'!F$204,2),IF(L20>200,(L20-200)*'S2'!C$205+'S2'!C$204)),IF(แหล่งวัสดุ!L$23=2,IF(L20<=200,VLOOKUP(L20,'S2'!B$5:'S2'!F$204,4),IF(L20>200,(L20-200)*'S2'!E$205+'S2'!E$204)))) -> 90.01 | O20: บาท/ตัน
A21: =A20+1 -> 10 | B21: =+B20 -> สำนักดัชนีการค้า ปัตตานี (ตุลาคม 58) | D21: เหล็กเสริม SR 30 Æ 19 มม. | H21: =+แหล่งวัสดุ!F42 -> 18668.22 | J21: บาท/ตัน | K21: ระยะขนส่ง | L21: =+L20 -> 65 | M21: = | N21: =IF(แหล่งวัสดุ!L$23=1,IF(L21<=200,VLOOKUP(L21,'S2'!B$5:'S2'!F$204,2),IF(L21>200,(L21-200)*'S2'!C$205+'S2'!C$204)),IF(แหล่งวัสดุ!L$23=2,IF(L21<=200,VLOOKUP(L21,'S2'!B$5:'S2'!F$204,4),IF(L21>200,(L21-200)*'S2'!E$205+'S2'!E$204)))) -> 90.01 | O21: บาท/ตัน
A22: =A21+1 -> 11 | B22: =+B21 -> สำนักดัชนีการค้า ปัตตานี (ตุลาคม 58) | D22: เหล็กฉาก 75 x 75 x 6 มม. | H22: =+แหล่งวัสดุ!F72 -> 18000 | J22: บาท/ตัน | K22: ระยะขนส่ง | L22: =+L21 -> 65 | M22: = | N22: =IF(แหล่งวัสดุ!L$23=1,IF(L22<=200,VLOOKUP(L22,'S2'!B$5:'S2'!F$204,2),IF(L22>200,(L22-200)*'S2'!C$205+'S2'!C$204)),IF(แหล่งวัสดุ!L$23=2,IF(L22<=200,VLOOKUP(L22,'S2'!B$5:'S2'!F$204,4),IF(L22>200,(L22-200)*'S2'!E$205+'S2'!E$204)))) -> 90.01 | O22: บาท/ตัน
A23: =A22+1 -> 12 | B23: =+B18 -> สำนักดัชนีการค้า ปัตตานี (ตุลาคม 58) | D23: ลวดผูกเหล็ก | H23: =+'3.ต้นทุนวางท่อ'!H19 -> 46.73 | J23: บาท/กก | K23: ระยะขนส่ง | L23: =+L18 -> 65 | M23: = | O23: บาท/ตัน.
A24: =A23+1 -> 13 | B24: =+B23 -> สำนักดัชนีการค้า ปัตตานี (ตุลาคม 58) | D24: ไม้กะบาก | H24: =+'3.ต้นทุนวางท่อ'!H20 -> 532.88 | J24: บาท/ลฟ.ม. | K24: ระยะขนส่ง | L24: =+L23 -> 65 | M24: = | O24: บาท/ลฟ.ม.
A25: =A24+1 -> 14 | B25: =+B24 -> สำนักดัชนีการค้า ปัตตานี (ตุลาคม 58) | D25: ไม้อัดภายนอกหนา 4 มม. | H25: =+'3.ต้นทุนวางท่อ'!H21 -> 630 | J25: บาท/แผ่น | K25: ระยะขนส่ง | L25: =+L24 -> 65 | M25: = | O25: บาท/แผ่น
A26: =A25+1 -> 15 | B26: =+B25 -> สำนักดัชนีการค้า ปัตตานี (ตุลาคม 58) | D26: ไม้รัดแบบ-เคร่า | H26: =+'3.ต้นทุนวางท่อ'!H22 -> 409.91 | J26: บาท/ลฟ.ม. | K26: ระยะขนส่ง | L26: =+L25 -> 65 | M26: = | O26: บาท/ลฟ.ม.
A27: =A26+1 -> 16 | B27: =+B26 -> สำนักดัชนีการค้า ปัตตานี (ตุลาคม 58) | D27: ตะปู | H27: =+แหล่งวัสดุ!F59 -> 39.49 | J27: บาท/กก. | K27: ระยะขนส่ง | L27: =+L26 -> 65 | M27: = | O27: บาท/กก.
A28: =A27+1 -> 17 | B28: =+B15 -> ต.คลองเปียะ อ.จะนะ จ.สงขลา | D28: หินใหญ่ | H28: 400 | J28: บาท/ลบ.ม. | K28: ระยะขนส่ง | L28: =+L15 -> 40 | M28: = | N28: =+N15 -> 77.88 | O28: บาท/ลบ.ม.
A29: รายการราคาค่างานต่อหน่วย
B30: Fator ระยะขนส่ง
B31: ปูนซีเมนต์ = | C31: =+แหล่งวัสดุ!$U$61 -> 1 | D31: =+"ทราย = "&แหล่งวัสดุ!$N$77 -> ทราย = 1 | G31: =+"เหล็ก = "&แหล่งวัสดุ!$U$69 -> เหล็ก = 1 | I31: =+"หิน = "&แหล่งวัสดุ!$N$53 -> หิน = 1 | K31: =+"ท่อ ="&แหล่งวัสดุ!$U$77 -> ท่อ =1
B32: 1.หาค่างานต้นทุนคอนกรีตหยาบ
B33: ค่าปูนซีเมนต์ | G33: จำนวน | H33: 0.26 | J33: ตัน @ | K33: =+J40 -> 3093.12 | L33: บาท | M33: = | N33: =K33*H33 -> 804.2112 | O33: บาท
B34: ค่าทราย | G34: จำนวน | H34: 0.62 | J34: ลบ.ม. @ | K34: =+J41 -> 626.43 | L34: บาท | M34: = | N34: =K34*H34 -> 388.3866 | O34: บาท
B35: ค่าหิน | G35: จำนวน | H35: 1.03 | J35: ลบ.ม. @ | K35: =+J42 -> 477.88 | L35: บาท | M35: = | N35: =K35*H35 -> 492.2164 | O35: บาท
B36: ค่าแรงผสมและเทคอนกรีต | G36: จำนวน | H36: 1 | J36: ลบ.ม. @ | K36: =+'3.ต้นทุนวางท่อ'!K42 -> 398 | L36: บาท | M36: = | N36: =K36*H36 -> 398 | O36: บาท
B37: รวม | M37: = | N37: =SUM(N33:N36) -> 2082.8142 | O37: บาท
F38: ...ค่างานต้นทุนคอนกรีตหยาบ | M38: = | N38: =ROUNDDOWN(N37,) -> 2082 | O38: บาท/ลบ.ม.
B39: 2. หาค่างานต้นทุนคอนกรีต ค.1
B40: ค่าปูนซีเมนต์ | F40: จำนวน | G40: 0.304 | H40: ตัน @ | J40: =+'3.ต้นทุนวางท่อ'!K46 -> 3093.12 | K40: บาท | M40: = | N40: =J40*G40 -> 940.30848 | O40: บาท
B41: ค่าทราย | F41: จำนวน | G41: 0.43 | H41: ลบ.ม. @ | J41: =+'3.ต้นทุนวางท่อ'!K47 -> 626.43 | K41: บาท | M41: = | N41: =J41*G41 -> 269.3649 | O41: บาท
B42: ค่าหิน | F42: จำนวน | G42: 0.99 | H42: ลบ.ม. @ | J42: =+'3.ต้นทุนวางท่อ'!K48 -> 477.88 | K42: บาท | M42: = | N42: =J42*G42 -> 473.1012 | O42: บาท
B43: ค่าแรงผสมและเทคอนกรีต | F43: จำนวน | G43: 1 | H43: ลบ.ม. @ | J43: =+แหล่งวัสดุ!V18 -> 436 | K43: บาท | M43: = | N43: =J43*G43 -> 436 | O43: บาท
B44: รวม | M44: = | N44: =ROUND(SUM(N40:N43),2) -> 2118.77 | O44: บาท
D45: ...ค่างานต้นทุนคอนกรีต ค.1 | M45: = | N45: =ROUNDDOWN(N44,) -> 2118 | O45: บาท/ลบ.ม.
B46: 3.หาค่างานต้นทุนคอนกรีต ค.2
B47: ค่าปูนซีเมนต์ | F47: จำนวน | G47: 0.336 | H47: ตัน @ | J47: =+J40 -> 3093.12 | K47: บาท | M47: = | N47: =J47*G47 -> 1039.2883 | O47: บาท
B48: ค่าทราย | F48: จำนวน | G48: 0.6 | H48: ลบ.ม. @ | J48: =J41 -> 626.43 | K48: บาท | M48: = | N48: =J48*G48 -> 375.858 | O48: บาท
B49: ค่าหิน | F49: จำนวน | G49: 1.09 | H49: ลบ.ม. @ | J49: =J42 -> 477.88 | K49: บาท | M49: = | N49: =J49*G49 -> 520.8892 | O49: บาท
B50: ค่าแรงผสมและเทคอนกรีต | F50: จำนวน | G50: 1 | H50: ลบ.ม. @ | J50: =+J43 -> 436 | K50: บาท | M50: = | N50: =J50*G50 -> 436 | O50: บาท
B51: รวม | M51: = | N51: =SUM(N47:N50) -> 2372.0355 | O51: บาท
D52: ...ค่างานต้นทุนคอนกรีต ค.2 | M52: = | N52: =ROUNDDOWN(N51,2) -> 2372.03 | O52: บาท/ลบ.ม.
B53: 4. หาค่าวัสดุไม้แบบต่อพื้นที่ 1 ตารางเมตร
B54: - ไม้กะบาก จำนวน | D54: 1 | E54: ลบ.ฟ.ๆ ละ | G54: =ROUND(H24,2) -> 532.88 | H54: บาท คิดงานไม้ตามกรมบัญชีกลางให้ 1/4 ของราคา | M54: = | N54: =ROUND(G54/4,2) -> 133.22 | O54: บาท
B55: - ไม้อัดยางหนา 4 มม. | D55: 1 | E55: ตร.ม.ๆ ละ | G55: =ROUND(H25,2) -> 630 | H55: บาท คิดงานไม้ตามกรมบัญชีกลางให้ 1/4 ของราคา | M55: = | N55: =ROUND(G55/4,2) -> 157.5 | O55: บาท
B56: - ไม้คร่าว 1 1/2" | D56: 0.3 | E56: ลบ.ฟ.ๆ ละ | G56: =ROUND(H26,2) -> 409.91 | H56: บาท คิดงานไม้ตามกรมบัญชีกลางให้ 1/4 ของราคา | M56: = | N56: =ROUND(G56*D56/4,2) -> 30.74 | O56: ตร.ม.
B57: - ตะปู | D57: 0.25 | E57: กก. ๆ ละ | G57: =H27 -> 39.49 | H57: บาท | M57: = | N57: =D57*G57 -> 9.8725 | O57: ตร.ม.
B58: - น้ำมันทาผิวไม้ | D58: 1 | E58: ตร.ม.ๆ ละ | G58: 20 | H58: บาท | M58: = | N58: =D58*G58 -> 20 | O58: บาท
B59: ค่าแบบรวม | I59: ตร.ม. ละ | M59: = | N59: =SUM(N54:N58) -> 351.3325 | O59: บาท
D60: ...ต้นทุนค่างานไม้แบบ | I60: ตร.ม. ละ | M60: = | N60: =ROUNDDOWN(N59,1) -> 351.3 | O60: บาท
B61: 5.รางระบายน้ำคอนกรีตเสริมเหล็กแบบเปิด/ความยาว 1 เมตร
B62: ความกว้างท้องรางระบายน้ำ | D62: =+BackupAC!A85 -> 0.5 | E62: ม. | F62: พื้นที่ทั้งหมด/เมตร | H62: =ROUND((SQRT((BackupAC!B85^2+BackupAC!B85^2))+BackupAC!A85+SQRT((1^2+0.5^2))),2) -> 2.33 | I62: ตร.ม.
B63: งานดินขุด | D63: จำนวน | F63: =+ROUND((0.5*(D62+D62+1)*0.5),2) -> 0.5 | G63: ลบ.ม. @ | H63: =+'S2'!BF33 -> 20.92 | I63: บาท | M63: = | N63: =H63*F63 -> 10.46 | O63: บาท
B64: คอนกรีตโครงสร้าง ค.2 | D64: จำนวน | F64: =+ROUND(BackupAC!D85,2) -> 0.16 | G64: ลบ.ม. @ | H64: =N52 -> 2372.03 | I64: บาท | M64: = | N64: =H64*F64 -> 379.5248 | O64: บาท
B65: เหล็กเสริม RB 6 | D65: จำนวน | F65: =+ROUND(BackupAC!J85,2) -> 5.98 | G65: กก. @ | H65: =ROUND((H16+N16*แหล่งวัสดุ!$U$69)/1000,2) -> 19.99 | I65: บาท | M65: = | N65: =H65*F65 -> 119.5402 | O65: บาท
B66: ลวดผูกเหล็ก | D66: จำนวน | F66: =ROUND(F65*0.025,2) -> 0.15 | G66: กก. @ | H66: =H23 -> 46.73 | I66: บาท | M66: = | N66: =H66*F66 -> 7.0095 | O66: บาท
B67: ไม้แบบ | D67: จำนวน | F67: =+ROUND(BackupAC!E85,2) -> 0.16 | G67: ตร.ม. @ | H67: =N60 -> 351.3 | I67: บาท | M67: = | N67: =H67*F67 -> 56.208 | O67: บาท
B68: ตะปู | D68: จำนวน | F68: =ROUND(F67*0.25,2) -> 0.04 | G68: กก. @ | H68: =H27 -> 39.49 | I68: บาท | M68: = | N68: =H68*F68 -> 1.5796 | O68: บาท
D69: ค่าวัสดุรางระบายน้ำคอนกรีตเสริมเหล็กต่อความยาว 1.00 เมตร | M69: = | N69: =ROUNDDOWN(SUM(N63:N68),2) -> 574.32 | O69: บาท/เมตร
D70: ค่าวัสดุรางระบายน้ำคอนกรีตเสริมเหล็กต่อพื้นที่ 1.00 ตารางเมตร | M70: = | N70: =ROUNDDOWN(N69/H62,2) -> 246.48 | O70: บาท/ตร.ม.
B71: ค่าแรงตัด-ดัด-ผูก เหล็กเส้นเสริม | D71: จำนวน | F71: =F65 -> 5.98 | G71: กก. @ | H71: =+แหล่งวัสดุ!V32/1000 -> 4.1 | I71: บาท | M71: = | N71: =F71*H71 -> 24.518 | O71: บาท
B72: ค่าแรงประกอบไม้แบบคอนกรีตเปลือย | D72: จำนวน | F72: =F67 -> 0.16 | G72: ตร.ม. @ | H72: =แหล่งวัสดุ!V26 -> 133 | I72: บาท | M72: = | N72: =F72*H72 -> 21.28 | O72: บาท
D73: ค่าแรงงานรางระบายน้ำคอนกรีตเสริมเหล็กต่อความยาว 1.00 เมตร | M73: = | N73: =ROUNDDOWN(SUM(N71:N72),2) -> 45.79 | O73: บาท/เมตร
D74: ค่าแรงงานรางระบายน้ำคอนกรีตเสริมเหล็กต่อพื้นที่ 1.00 ตารางเมตร | M74: = | N74: =ROUNDDOWN(N73/H62,2) -> 19.65 | O74: บาท/เมตร
B75: 6.CONCRETE SLOPE PROTECTION | F75: =ROUNDUP(Slope_Protection!E11,0) -> 6310 | H75: ตารางเมตร
B76: คอนกรีตโครงสร้าง ค.2 | D76: จำนวน | F76: =ROUNDDOWN(Slope_Protection!F21,) -> 909 | G76: ลบ.ม. @ | H76: =+N52 -> 2372.03 | I76: บาท | M76: = | N76: =F76*H76 -> 2156175.3 | O76: บาท
B77: เหล็กเสริม RB9 | D77: จำนวน | F77: =ROUNDDOWN(Slope_Protection!F20,) -> 35054 | G77: กก. @ | H77: =((H17+N17)*แหล่งวัสดุ!$U$69)/1000 -> 19.31079 | I77: บาท | M77: = | N77: =F77*H77 -> 676920.43 | O77: บาท
B78: ลวดผูกเหล็ก | D78: จำนวน | F78: =ROUNDDOWN(Slope_Protection!F23,) -> 876 | G78: กก. @ | H78: =+H66 -> 46.73 | I78: บาท | M78: = | N78: =F78*H78 -> 40935.48 | O78: บาท
B79: ไม้แบบ | D79: จำนวน | F79: =ROUNDDOWN(Slope_Protection!F22,) -> 1000 | G79: ตร.ม. @ | H79: =N60 -> 351.3 | I79: บาท | M79: = | N79: =F79*H79 -> 351300 | O79: บาท
B80: ตะปู | D80: จำนวน | F80: =ROUNDDOWN(Slope_Protection!F24,) -> 250 | G80: กก. @ | H80: =+H68 -> 39.49 | I80: บาท | M80: = | N80: =F80*H80 -> 9872.5 | O80: บาท
B81: slot | D81: จำนวน | F81: =Slope_Protection!F25 -> 1052 | G81: จุด @ | H81: 4 | I81: บาท | M81: = | N81: =F81*H81 -> 4208 | O81: บาท
B82: กรวดหยาบ | D82: จำนวน | F82: =Slope_Protection!F26 -> 71.01 | G82: ลบ.ม. @ | H82: 190 | I82: บาท | M82: = | N82: =F82*H82 -> 13491.9 | O82: บาท
B83: รวม | M83: = | N83: =SUM(N76:N82) -> 3252903.6 | O83: บาท
D84: ...ค่าวัสดุ CONCRETE SLOPE PROTECTION ต่อ 1 ตารางเมตร | M84: = | N84: =ROUNDDOWN(N83/F75,2) -> 515.51 | O84: บาท
B85: ค่าแรงตัด-ดัด-ผูก เหล็กเส้นเสริม | D85: จำนวน | F85: =F77 -> 35054 | G85: กก. @ | H85: =+H71 -> 4.1 | I85: บาท | M85: = | N85: =F85*H85 -> 143721.4 | O85: บาท
B86: ค่าแรงประกอบไม้แบบคอนกรีตเปลือย | D86: จำนวน | F86: =F79 -> 1000 | G86: ตร.ม. @ | H86: =H72 -> 133 | I86: บาท | M86: = | N86: =F86*H86 -> 133000 | O86: บาท
B87: รวม | M87: = | N87: =SUM(N85:N86) -> 276721.4 | O87: บาท
D88: ...ค่าแรงงาน CONCRETE SLOPE PROTECTION ต่อ 1 ตารางเมตร | M88: = | N88: =ROUNDDOWN(N87/F75,2) -> 43.85 | O88: บาท
B89: 7.CONCRETE CURVE GUTTER
D90: 5.1 คันหิน
D91: คอนกรีต คสล. ค. 2 | G91: จำนวน | H91: 0.075 | I91: ลบ.ม. @ | K91: =+H76 -> 2372.03 | L91: บาท | M91: = | N91: =+H91*K91 -> 177.90225 | O91: บาท
D92: ไม้แบบ คิด 25% | G92: จำนวน | H92: =1.2*0.25 -> 0.3 | I92: ตร.ม. @ | K92: =+H79 -> 351.3 | L92: บาท | M92: = | N92: =+H92*K92 -> 105.39 | O92: บาท
D93: ตะปู | G93: จำนวน | H93: =H92*0.3 -> 0.09 | I93: กก. @ | K93: =+H80 -> 39.49 | L93: บาท | M93: = | N93: =+H93*K93 -> 3.5541 | O93: บาท
D94: เหล็กเสริม RB 9 mm. | G94: จำนวน | H94: 2.994 | I94: กก. @ | K94: =+H77 -> 19.31079 | L94: บาท | M94: = | N94: =+H94*K94 -> 57.816505 | O94: บาท
D95: เหล็กเสริม RB 6 mm. | G95: จำนวน | H95: 0.65 | I95: กก. @ | K95: =+H65 -> 19.99 | L95: บาท | M95: = | N95: =+H95*K95 -> 12.9935 | O95: บาท
D96: ลวดผูกเหล็ก | G96: จำนวน | H96: =ROUND(SUM(H94:H95)*0.025,2) -> 0.09 | I96: กก. @ | K96: =+H78 -> 46.73 | L96: บาท | M96: = | N96: =+H96*K96 -> 4.2057 | O96: บาท
G97: ค่าวัสดุคันหิน | M97: = | N97: =ROUNDDOWN(SUM(N91:N96),2) -> 361.86 | O97: บาท
B98: ค่าแรงตัด-ดัด-ผูก เหล็กเส้นเสริม | D98: จำนวน | F98: =+H95+H94 -> 3.644 | G98: กก. @ | H98: =H85 -> 4.1 | I98: บาท | M98: = | N98: =F98*H98 -> 14.9404 | O98: บาท
B99: ค่าแรงประกอบไม้แบบคอนกรีตเปลือย | D99: จำนวน | F99: =H92 -> 0.3 | G99: ตร.ม. @ | H99: =H86 -> 133 | I99: บาท | M99: = | N99: =F99*H99 -> 39.9 | O99: บาท
G100: ค่าแรงคันหิน | M100: = | N100: =ROUNDDOWN(SUM(N98:N99),2) -> 54.84 | O100: บาท
D101: 5.2 คันหินรางตื้น
...

Sheet บ่อพักน้ำใต้ทางเท้า
B1: 1.บ่อพักน้ำกรณีใช้ท่อกลมท่อสองด้านเท่ากัน | G1: H = | H1: 2.5 | X1: 3 | Y1: บ่อพักท่อสองด้าน | AC1: H | AD1: ความลึกบ่อพัก | AI1: 1 | AJ1: =+"บ่อพักน้ำ คสล.ท่อกลมสองด้านเท่ากัน Dia. 0.60 ม." -> บ่อพักน้ำ คสล.ท่อกลมสองด้านเท่ากัน Dia. 0.60 ม. | AR1: 1 | AS1: =+"บ่อพักน้ำ คสล.ท่อกลมสามด้านเท่ากัน Dia. 0.60 ม." -> บ่อพักน้ำ คสล.ท่อกลมสามด้านเท่ากัน Dia. 0.60 ม. | BA1: 1 | BB1: =+"บ่อพักน้ำ คสล.ท่อกลมสี่ด้านเท่ากัน Dia. 0.60 ม." -> บ่อพักน้ำ คสล.ท่อกลมสี่ด้านเท่ากัน Dia. 0.60 ม. | BJ1: 1 | BK1: =+"บ่อพักน้ำ คสล.ท่อกลมด้านเดียว Dia. 0.60 ม." -> บ่อพักน้ำ คสล.ท่อกลมด้านเดียว Dia. 0.60 ม.
B2: ขนาดท่อ | C2: เส้นผ่านศูนย์กลาง | D2: พื้นที่ | E2: ดินขุด | F2: ถมหลังบ่อ | G2: ความลึกบ่อพัก | H2: ขนาดบ่อพัก | J2: คอนกรีต | Q2: CON.หยาบ | R2: ทรายหยาบ | X2: 3 | Y2: บ่อพักท่อสามด้าน | AC2: H1 | AD2: ระยะจากหลังท่อถึงหลังบ่อพัก | AI2: 2 | AJ2: =+"บ่อพักน้ำ คสล.ท่อกลมสองด้านเท่ากัน Dia. 0.80 ม." -> บ่อพักน้ำ คสล.ท่อกลมสองด้านเท่ากัน Dia. 0.80 ม. | AR2: 2 | AS2: =+"บ่อพักน้ำ คสล.ท่อกลมสามด้านเท่ากัน Dia. 0.80 ม." -> บ่อพักน้ำ คสล.ท่อกลมสามด้านเท่ากัน Dia. 0.80 ม. | BA2: 2 | BB2: =+"บ่อพักน้ำ คสล.ท่อกลมสี่ด้านเท่ากัน Dia. 0.80 ม." -> บ่อพักน้ำ คสล.ท่อกลมสี่ด้านเท่ากัน Dia. 0.80 ม. | BJ2: 2 | BK2: =+"บ่อพักน้ำ คสล.ท่อกลมด้านเดียว Dia. 0.80 ม." -> บ่อพักน้ำ คสล.ท่อกลมด้านเดียว Dia. 0.80 ม.
H3: W | I3: L | J3: ด้านไม่มีท่อ | K3: ด้านท่อ | L3: พื้นบ่อ | M3: หลังบ่อ | N3: ปล่องฝาบ่อ | O3: ฝาปิด | P3: รวม | X3: 3 | Y3: บ่อพักท่อสี่ด้าน | AI3: 3 | AJ3: =+"บ่อพักน้ำ คสล.ท่อกลมสองด้านเท่ากัน Dia.1.00 ม." -> บ่อพักน้ำ คสล.ท่อกลมสองด้านเท่ากัน Dia.1.00 ม. | AR3: 3 | AS3: =+"บ่อพักน้ำ คสล.ท่อกลมสามด้านเท่ากัน Dia.1.00 ม." -> บ่อพักน้ำ คสล.ท่อกลมสามด้านเท่ากัน Dia.1.00 ม. | BA3: 3 | BB3: =+"บ่อพักน้ำ คสล.ท่อกลมสี่ด้านเท่ากัน Dia.1.00 ม." -> บ่อพักน้ำ คสล.ท่อกลมสี่ด้านเท่ากัน Dia.1.00 ม. | BJ3: 3 | BK3: =+"บ่อพักน้ำ คสล.ท่อกลมด้านเดียว Dia.1.00 ม." -> บ่อพักน้ำ คสล.ท่อกลมด้านเดียว Dia.1.00 ม.
B4: =VLOOKUP($X$1,$B$9:$C$12,2) -> 1 | C4: =+$E$8 -> 1.22 | D4: =ROUND((22/7*C4^2)/4,3) -> 1.169 | E4: =ROUND($D$8*($J$8+0.3)*($K$8+0.3),3) -> 7.125 | F4: 0.3 | G4: =+$D$8-0.65 -> 1.85 | H4: =+J8 -> 1.6 | I4: =+K8 -> 1.2 | J4: =ROUND($I$4*$G$4*$I$8*2,2) -> 0.67 | K4: =ROUND(($H$4*$G$4-$D$4)*$I$8*2,2) -> 0.54 | L4: =ROUND($H$4*$I$4*$I$8,3) -> 0.288 | M4: =ROUND((((H4+I8*2)*(I4+I8*2))-(0.8*0.8))*0.12,2) -> 0.27 | N4: =ROUND((1.1*1+0.8*2)*$I$8,2) -> 0.41 | O4: =ROUND((0.87*0.87)*0.075,2) -> 0.06 | P4: =SUM(J4:O4) -> 2.238 | Q4: =ROUND(0.05*($J$8+0.3)*($K$8+0.3),2) -> 0.14 | R4: =ROUND(0.1*($J$8+0.3)*($K$8+0.3),2) -> 0.29 | X4: 3 | Y4: บ่อพักท่อด้านเดียว | AI4: 4 | AJ4: =+"บ่อพักน้ำ คสล.ท่อกลมสองด้านเท่ากัน Dia. 1.20 ม." -> บ่อพักน้ำ คสล.ท่อกลมสองด้านเท่ากัน Dia. 1.20 ม. | AR4: 4 | AS4: =+"บ่อพักน้ำ คสล.ท่อกลมสามด้านเท่ากัน Dia. 1.20 ม." -> บ่อพักน้ำ คสล.ท่อกลมสามด้านเท่ากัน Dia. 1.20 ม. | BA4: 4 | BB4: =+"บ่อพักน้ำ คสล.ท่อกลมสี่ด้านเท่ากัน Dia. 1.20 ม." -> บ่อพักน้ำ คสล.ท่อกลมสี่ด้านเท่ากัน Dia. 1.20 ม. | BJ4: 4 | BK4: =+"บ่อพักน้ำ คสล.ท่อกลมด้านเดียว Dia. 1.20 ม." -> บ่อพักน้ำ คสล.ท่อกลมด้านเดียว Dia. 1.20 ม.
B6: No. | C6: Dia. | D6: H | E6: กว้างท่อ | F6: H1 | G6: Y/N | H6: T | I6: T1 | J6: ขนาดบ่อพัก | L6: 1 | N6: =+L6+1 -> 2 | P6: =+N6+1 -> 3 | R6: =+P6+1 -> 4 | T6: =+R6+1 -> 5 | V6: =+T6+1 -> 6 | X6: =+V6+1 -> 7 | Z6: =+X6+1 -> 8 | AB6: =+Z6+1 -> 9 | AD6: =+AB6+1 -> 10 | AF6: =+AD6+1 -> 11 | AH6: รัดท่อ | AJ6: ปล่องบ่อพัก
J7: W | K7: L | L7: Æ | M7: @ | N7: Æ | O7: @ | P7: Æ | Q7: @ | R7: Æ | S7: @ | T7: Æ | U7: @ | V7: Æ | W7: @ | X7: Æ | Y7: @ | Z7: Æ | AA7: @ | AB7: Æ | AC7: @ | AD7: Æ | AE7: @ | AF7: จำนวน | AG7: Æ | AH7: ยาว | AI7: จำนวน | AJ7: ยาว | AK7: จำนวน
B8: =VLOOKUP($X$1,$B$9:$AG$12,1) -> 3 | C8: =VLOOKUP($X$1,$B$9:$AG$12,2) -> 1 | D8: =VLOOKUP($X$1,$B$9:$AG$12,3) -> 2.5 | E8: =VLOOKUP($X$1,$B$9:$AG$12,4) -> 1.22 | F8: =VLOOKUP($X$1,$B$9:$AG$12,5) -> 0.66 | G8: =VLOOKUP($X$1,$B$9:$AG$12,6) -> 0.66 | H8: =VLOOKUP($X$1,$B$9:$AG$12,7) -> 0.22 | I8: =VLOOKUP($X$1,$B$9:$AG$12,8) -> 0.15 | J8: =VLOOKUP($X$1,$B$9:$AG$12,9) -> 1.6 | K8: =VLOOKUP($X$1,$B$9:$AG$12,10) -> 1.2 | L8: =VLOOKUP($X$1,$B$9:$AG$12,11) -> 9 | M8: =VLOOKUP($X$1,$B$9:$AG$12,12) -> 0.3 | N8: =VLOOKUP($X$1,$B$9:$AG$12,13) -> 9 | O8: =VLOOKUP($X$1,$B$9:$AG$12,14) -> 0.3 | P8: =VLOOKUP($X$1,$B$9:$AG$12,15) -> 9 | Q8: =VLOOKUP($X$1,$B$9:$AG$12,16) -> 0.3 | R8: =VLOOKUP($X$1,$B$9:$AG$12,17) -> 9 | S8: =VLOOKUP($X$1,$B$9:$AG$12,18) -> 0.3 | T8: =VLOOKUP($X$1,$B$9:$AG$12,19) -> 9 | U8: =VLOOKUP($X$1,$B$9:$AG$12,20) -> 0.3 | V8: =VLOOKUP($X$1,$B$9:$AG$12,21) -> 9 | W8: =VLOOKUP($X$1,$B$9:$AG$12,22) -> 0.3 | X8: =VLOOKUP($X$1,$B$9:$AG$12,23) -> 9 | Y8: =VLOOKUP($X$1,$B$9:$AG$12,24) -> 0.3 | Z8: =VLOOKUP($X$1,$B$9:$AG$12,25) -> 9 | AA8: =VLOOKUP($X$1,$B$9:$AG$12,26) -> 0.3 | AB8: =VLOOKUP($X$1,$B$9:$AG$12,27) -> 9 | AC8: =VLOOKUP($X$1,$B$9:$AG$12,28) -> 0.3 | AD8: =VLOOKUP($X$1,$B$9:$AG$12,29) -> 9 | AE8: =VLOOKUP($X$1,$B$9:$AG$12,30) -> 0.15 | AF8: =VLOOKUP($X$1,$B$9:$AG$12,31) -> 3 | AG8: =VLOOKUP($X$1,$B$9:$AG$12,32) -> 12 | AH8: =VLOOKUP($X$1,$B$9:$AH$12,33) -> 3.83 | AI8: =VLOOKUP($X$1,$B$9:$AI$12,34) -> 4 | AJ8: 4.4 | AK8: =+ROUND(0.5/0.15+1,) -> 4
B9: 1 | C9: 0.6 | D9: =+H1 -> 2.5 | E9: =+C9+H9 -> 0.75 | F9: =+D9-0.62-E9 -> 1.13 | G9: =+IF(F9<0,"N",F9) -> 1.13 | H9: 0.15 | I9: 0.15 | J9: 1.2 | K9: 1 | L9: 9 | M9: 0.3 | N9: 9 | O9: 0.3 | P9: 9 | Q9: 0.3 | R9: 9 | S9: 0.3 | T9: 9 | U9: 0.3 | V9: 9 | W9: 0.3 | X9: 9 | Y9: 0.3 | Z9: 9 | AA9: 0.3 | AB9: 9 | AC9: 0.3 | AD9: 9 | AE9: 0.15 | AF9: 3 | AG9: 12 | AH9: =ROUND(2*3.14285714285714*E9/2,2) -> 2.36 | AI9: 4 | AJ9: 0.62 | AK9: =+ROUND(1.1/0.15+1,)*4 -> 32
B10: 2 | C10: 0.8 | D10: =+D9 -> 2.5 | E10: =+C10+H10 -> 0.99 | F10: =+D10-0.62-E10 -> 0.89 | G10: =+IF(F10<0,"N",F10) -> 0.89 | H10: =0.095*2 -> 0.19 | I10: 0.15 | J10: 1.4 | K10: 1 | L10: 9 | M10: 0.3 | N10: 9 | O10: 0.3 | P10: 9 | Q10: 0.3 | R10: 9 | S10: 0.3 | T10: 9 | U10: 0.3 | V10: 9 | W10: 0.3 | X10: 9 | Y10: 0.3 | Z10: 9 | AA10: 0.3 | AB10: 9 | AC10: 0.3 | AD10: 9 | AE10: 0.15 | AF10: 3 | AG10: 12 | AH10: =ROUND(2*3.14285714285714*E10/2,2) -> 3.11 | AI10: 4 | AJ10: ฝาบ่อพัก
B11: 3 | C11: 1 | D11: =+D10 -> 2.5 | E11: =+C11+H11 -> 1.22 | F11: =+D11-0.62-E11 -> 0.66 | G11: =+IF(F11<0,"N",F11) -> 0.66 | H11: =0.11*2 -> 0.22 | I11: 0.15 | J11: 1.6 | K11: 1.2 | L11: 9 | M11: 0.3 | N11: 9 | O11: 0.3 | P11: 9 | Q11: 0.3 | R11: 9 | S11: 0.3 | T11: 9 | U11: 0.3 | V11: 9 | W11: 0.3 | X11: 9 | Y11: 0.3 | Z11: 9 | AA11: 0.3 | AB11: 9 | AC11: 0.3 | AD11: 9 | AE11: 0.15 | AF11: 3 | AG11: 12 | AH11: =ROUND(2*3.14285714285714*E11/2,2) -> 3.83 | AI11: 4 | AJ11: 0.435 | AK11: =8*2 -> 16
B12: 4 | C12: 1.2 | D12: =+D11 -> 2.5 | E12: =+C12+H12 -> 1.45 | F12: =+D12-0.62-E12 -> 0.43 | G12: =+IF(F12<0,"N",F12) -> 0.43 | H12: =0.125*2 -> 0.25 | I12: 0.15 | J12: 1.8 | K12: 1.2 | L12: 9 | M12: 0.18 | N12: 9 | O12: 0.3 | P12: 9 | Q12: 0.18 | R12: 9 | S12: 0.3 | T12: 9 | U12: 0.3 | V12: 9 | W12: 0.24 | X12: 9 | Y12: 0.3 | Z12: 9 | AA12: 0.18 | AB12: 9 | AC12: 0.22 | AD12: 12 | AE12: 0.2 | AF12: 2 | AG12: 16 | AH12: =ROUND(2*3.14285714285714*E12/2,2) -> 4.56 | AI12: 4 | AJ12: 0.88 | AK12: =5*2 -> 10
B13: 1 | D13: 5 | F13: 6 | H13: 7 | J13: ตัดช่วงท่อ | L13: ยาว | M13: No. | N13: ยาว | O13: No. | P13: ยาว | Q13: No. | R13: ยาว | S13: No. | T13: ยาว | U13: No. | V13: ยาว | W13: No. | X13: ยาว | Y13: No. | Z13: ยาว | AA13: No. | AB13: ยาว | AC13: No. | AD13: ยาว | AE13: No. | AF13: ยาว | AG13: No. | AH13: ยาว | AI13: No.
B14: =+E8 -> 1.22 | C14: =+ROUND(B14/M8+1,)*2 -> 10 | D14: =+E8 -> 1.22 | E14: =+ROUND(D14/U8+1,)*2 -> 10 | F14: =+E8 -> 1.22 | G14: =+ROUND(F14/W8+1,)*2 -> 10 | H14: =+E8 -> 1.22 | I14: =+ROUND(H14/Y8+1,)*2 -> 10 | J14: =+B14*C14+D14*E14+F14*G14+H14*I14 -> 48.8 | L14: =+(J8*2+K8*2+I8*4) -> 6.2 | M14: =+ROUND(G4/M8+1,) -> 7 | N14: =+K8+I8*2 -> 1.5 | O14: =+ROUND(G4/O8+1,)*2 -> 14 | P14: =+G4*2+I8*2+J8 -> 5.6 | Q14: =+ROUND((K8+I8*2)/Q8+1,) -> 6 | R14: =+G4 -> 1.85 | S14: =+ROUND(K8/S8+1,)*2 -> 10 | T14: =+J8+I8*2 -> 1.9 | U14: =+ROUND(G4/U8+1,)*2 -> 14 | V14: =+G4*2+K8+I8*2 -> 5.2 | W14: =+ROUND(J8/W8+1,) -> 6 | X14: =+G4 -> 1.85 | Y14: =+ROUND(J8/Y8+1,)*2 -> 12 | Z14: =+K8+I8*2 -> 1.5 | AA14: =+ROUND(J8/AA8+1,) -> 6 | AB14: =+J8+I8*2 -> 1.9 | AC14: =+ROUND((K8+I8*2)/AC8+1,) -> 6 | AD14: =+K8 -> 1.2 | AE14: =+ROUND(K8/AE8+1,)*2 -> 18 | AF14: =+J8+K8+I8*4 -> 3.4 | AG14: =+AF8 -> 3 | AH14: =+AH8 -> 3.83 | AI14: =+AI8 -> 4
B15: RB(1 - 9) | D15: DB 12 | F15: สรุปเหล็ก | H15: ม. | J15: นน./ม. | L15: นน.รวม | N15: ไม้แบบ | O15: =+H4*2+I4*2+I8*8 -> 6.8
B16: =+L14*M14+N14*O14+P14*Q14+R14*S14+T14*U14+V14*W14+X14*Y14+Z14*AA14+AB14*AC14 -> 216.9 | D16: =+IF(AD8=12,AD14*AE14,)+IF(AG8=12,AF14*AG14,) -> 10.2 | F16: RB 9 | H16: =+B16-J14+AJ8*AK8+AJ9*AK9+AJ11*AK11+AJ12*AK12+2.2 -> 223.5 | J16: 0.499 | L16: =+ROUND(H16*J16,2) -> 111.53 | N16: ฉาก | O16: =0.9*4+0.88*6 -> 8.88 | P16: นน./ม. | R16: นน.รวม
B17: RB(10) | D17: DB 16 | F17: DB 12 | H17: =+D16 -> 10.2 | J17: 0.888 | L17: =+ROUND(H17*J17,2) -> 9.06 | N17: RB 19 | O17: =+(0.25*2+0.3+0.1)*ROUND((F8/0.3+1)+1,) -> 3.6 | P17: 2.23 | R17: =+ROUND(O17*P17,2) -> 8.03
B18: =+IF(AD8=9,AD14*AE14,) -> 21.6 | D18: =+IF(AG8=16,AF14*AG14,) -> 0 | F18: DB 16 | H18: =+D18 -> 0 | J18: 1.58 | L18: =+ROUND(H18*J18,2) -> 0 | N18: RB 15 | O18: =+(0.22*2+0.15)*4+9.8 -> 12.16 | P18: 1.39 | R18: =+ROUND(O18*P18,2) -> 16.9
N19: RB 6 | O19: =+(0.9*2+0.25*2)*2+0.15*10 -> 6.1 | P19: 0.222 | R19: =+ROUND(O19*P19,2) -> 1.35
B20: 2.บ่อพักน้ำกรณีใช้ท่อกลมสามด้านเท่ากัน | G20: H = | H20: 2.5
B21: ขนาดท่อ | C21: เส้นผ่านศูนย์กลาง | D21: พื้นที่ | E21: ดินขุด | F21: ถมหลังบ่อ | G21: ความลึกบ่อพัก | H21: ขนาดบ่อพัก | J21: คอนกรีต | Q21: CON.หยาบ | R21: ทรายหยาบ
H22: W | I22: L | J22: ด้านไม่มีท่อ | K22: ด้านท่อ | L22: พื้นบ่อ | M22: หลังบ่อ | N22: ปล่องฝาบ่อ | O22: ฝาปิด | P22: รวม
B23: =VLOOKUP($X$2,$B$28:$C$31,2) -> 1 | C23: =+$E$27 -> 1.22 | D23: =ROUND((22/7*C23^2)/4,3) -> 1.169 | E23: =ROUND($D$27*($J$27+0.3)*($K$27+0.3),3) -> 7.125 | F23: 0.3 | G23: =+$D$27-0.65 -> 1.85 | H23: =+$J$27 -> 1.6 | I23: =+$K$27 -> 1.2 | J23: =ROUND($I$23*$G$23*$I$27,2) -> 0.33 | K23: =ROUND(($H$23*$G$23-$D$23)*$I$27*3,2) -> 0.81 | L23: =ROUND($H$23*$I$23*$I$27,3) -> 0.288 | M23: =ROUND((((H23+I27*2)*(I23+I27*2))-(0.8*0.8))*0.12,2) -> 0.27 | N23: =ROUND((1.1*1+0.8*2)*$I$27,2) -> 0.41 | O23: =ROUND((0.87*0.87)*0.075,2) -> 0.06 | P23: =SUM(J23:O23) -> 2.168 | Q23: =ROUND(0.05*($J$27+0.3)*($K$27+0.3),2) -> 0.14 | R23: =ROUND(0.1*($J$27+0.3)*($K$27+0.3),2) -> 0.29
B25: No. | C25: Dia. | D25: H | E25: กว้างท่อ | F25: H1 | G25: Y/N | H25: T | I25: T1 | J25: ขนาดบ่อพัก | L25: 1 | N25: =+L25+1 -> 2 | P25: =+N25+1 -> 3 | R25: =+P25+1 -> 4 | T25: =+R25+1 -> 5 | V25: =+T25+1 -> 6 | X25: =+V25+1 -> 7 | Z25: =+X25+1 -> 8 | AB25: =+Z25+1 -> 9 | AD25: =+AB25+1 -> 10 | AF25: =+AD25+1 -> 11 | AH25: รัดท่อ | AJ25: ปล่องบ่อพัก
J26: W | K26: L | L26: Æ | M26: @ | N26: Æ | O26: @ | P26: Æ | Q26: @ | R26: Æ | S26: @ | T26: Æ | U26: @ | V26: Æ | W26: @ | X26: Æ | Y26: @ | Z26: Æ | AA26: @ | AB26: Æ | AC26: @ | AD26: Æ | AE26: @ | AF26: Æ | AG26: @ | AH26: ยาว | AI26: จำนวน | AJ26: ยาว | AK26: จำนวน
B27: =VLOOKUP($X$2,$B$28:$AG$31,1) -> 3 | C27: =VLOOKUP($X$2,$B$28:$AG$31,2) -> 1 | D27: =+H20 -> 2.5 | E27: =VLOOKUP($X$2,$B$28:$AG$31,4) -> 1.22 | F27: =VLOOKUP($X$2,$B$28:$AG$31,5) -> 0.66 | G27: =VLOOKUP($X$2,$B$28:$AG$31,6) -> 0.66 | H27: =VLOOKUP($X$2,$B$28:$AG$31,7) -> 0.22 | I27: =VLOOKUP($X$2,$B$28:$AG$31,8) -> 0.15 | J27: =VLOOKUP($X$2,$B$28:$AG$31,9) -> 1.6 | K27: =VLOOKUP($X$2,$B$28:$AG$31,10) -> 1.2 | L27: =VLOOKUP($X$2,$B$28:$AG$31,11) -> 9 | M27: =VLOOKUP($X$2,$B$28:$AG$31,12) -> 0.3 | N27: =VLOOKUP($X$2,$B$28:$AG$31,13) -> 9 | O27: =VLOOKUP($X$2,$B$28:$AG$31,14) -> 0.3 | P27: =VLOOKUP($X$2,$B$28:$AG$31,15) -> 9 | Q27: =VLOOKUP($X$2,$B$28:$AG$31,16) -> 0.3 | R27: =VLOOKUP($X$2,$B$28:$AG$31,17) -> 9 | S27: =VLOOKUP($X$2,$B$28:$AG$31,18) -> 0.3 | T27: =VLOOKUP($X$2,$B$28:$AG$31,19) -> 9 | U27: =VLOOKUP($X$2,$B$28:$AG$31,20) -> 0.3 | V27: =VLOOKUP($X$2,$B$28:$AG$31,21) -> 9 | W27: =VLOOKUP($X$2,$B$28:$AG$31,22) -> 0.3 | X27: =VLOOKUP($X$2,$B$28:$AG$31,23) -> 9 | Y27: =VLOOKUP($X$2,$B$28:$AG$31,24) -> 0.3 | Z27: =VLOOKUP($X$2,$B$28:$AG$31,25) -> 9 | AA27: =VLOOKUP($X$2,$B$28:$AG$31,26) -> 0.3 | AB27: =VLOOKUP($X$2,$B$28:$AG$31,27) -> 9 | AC27: =VLOOKUP($X$2,$B$28:$AG$31,28) -> 0.3 | AD27: =VLOOKUP($X$2,$B$28:$AG$31,29) -> 9 | AE27: =VLOOKUP($X$2,$B$28:$AG$31,30) -> 0.15 | AF27: =VLOOKUP($X$2,$B$28:$AG$31,31) -> 3 | AG27: =VLOOKUP($X$2,$B$28:$AG$31,32) -> 12 | AH27: =VLOOKUP($X$2,$B$28:$AH$31,33) -> 3.83 | AI27: =VLOOKUP($X$2,$B$28:$AI$31,34) -> 6 | AJ27: 4.4 | AK27: =+ROUND(0.5/0.15+1,) -> 4
B28: 1 | C28: 0.6 | D28: 2.5 | E28: =+C28+H28 -> 0.75 | F28: =+D28-0.62-E28 -> 1.13 | G28: =+IF(F28<0,"N",F28) -> 1.13 | H28: 0.15 | I28: 0.15 | J28: 1.2 | K28: 1 | L28: 9 | M28: 0.3 | N28: 9 | O28: 0.3 | P28: 9 | Q28: 0.3 | R28: 9 | S28: 0.3 | T28: 9 | U28: 0.3 | V28: 9 | W28: 0.3 | X28: 9 | Y28: 0.3 | Z28: 9 | AA28: 0.3 | AB28: 9 | AC28: 0.3 | AD28: 9 | AE28: 0.15 | AF28: 3 | AG28: 12 | AH28: =ROUND(2*3.14285714285714*E28/2,2) -> 2.36 | AI28: 6 | AJ28: 0.62 | AK28: =+ROUND(1.1/0.15+1,)*4 -> 32
B29: 2 | C29: 0.8 | D29: =+D28 -> 2.5 | E29: =+C29+H29 -> 0.99 | F29: =+D29-0.62-E29 -> 0.89 | G29: =+IF(F29<0,"N",F29) -> 0.89 | H29: =0.095*2 -> 0.19 | I29: 0.15 | J29: 1.4 | K29: 1 | L29: 9 | M29: 0.3 | N29: 9 | O29: 0.3 | P29: 9 | Q29: 0.3 | R29: 9 | S29: 0.3 | T29: 9 | U29: 0.3 | V29: 9 | W29: 0.3 | X29: 9 | Y29: 0.3 | Z29: 9 | AA29: 0.3 | AB29: 9 | AC29: 0.3 | AD29: 9 | AE29: 0.15 | AF29: 3 | AG29: 12 | AH29: =ROUND(2*3.14285714285714*E29/2,2) -> 3.11 | AI29: 6 | AJ29: ฝาบ่อพัก
B30: 3 | C30: 1 | D30: =+D29 -> 2.5 | E30: =+C30+H30 -> 1.22 | F30: =+D30-0.62-E30 -> 0.66 | G30: =+IF(F30<0,"N",F30) -> 0.66 | H30: =0.11*2 -> 0.22 | I30: 0.15 | J30: 1.6 | K30: 1.2 | L30: 9 | M30: 0.3 | N30: 9 | O30: 0.3 | P30: 9 | Q30: 0.3 | R30: 9 | S30: 0.3 | T30: 9 | U30: 0.3 | V30: 9 | W30: 0.3 | X30: 9 | Y30: 0.3 | Z30: 9 | AA30: 0.3 | AB30: 9 | AC30: 0.3 | AD30: 9 | AE30: 0.15 | AF30: 3 | AG30: 12 | AH30: =ROUND(2*3.14285714285714*E30/2,2) -> 3.83 | AI30: 6 | AJ30: 0.435 | AK30: =8*2 -> 16
B31: 4 | C31: 1.2 | D31: =+D30 -> 2.5 | E31: =+C31+H31 -> 1.45 | F31: =+D31-0.62-E31 -> 0.43 | G31: =+IF(F31<0,"N",F31) -> 0.43 | H31: =0.125*2 -> 0.25 | I31: 0.15 | J31: 1.8 | K31: 1.2 | L31: 9 | M31: 0.18 | N31: 9 | O31: 0.3 | P31: 9 | Q31: 0.18 | R31: 9 | S31: 0.3 | T31: 9 | U31: 0.3 | V31: 9 | W31: 0.24 | X31: 9 | Y31: 0.3 | Z31: 9 | AA31: 0.18 | AB31: 9 | AC31: 0.22 | AD31: 12 | AE31: 0.2 | AF31: 2 | AG31: 16 | AH31: =ROUND(2*3.14285714285714*E31/2,2) -> 4.56 | AI31: 6 | AJ31: 0.88 | AK31: =5*2 -> 10
B32: 1 | D32: 5 | F32: 6 | H32: 7 | J32: ตัดช่วงท่อ | L32: ยาว | M32: No. | N32: ยาว | O32: No. | P32: ยาว | Q32: No. | R32: ยาว | S32: No. | T32: ยาว | U32: No. | V32: ยาว | W32: No. | X32: ยาว | Y32: No. | Z32: ยาว | AA32: No. | AB32: ยาว | AC32: No. | AD32: ยาว | AE32: No. | AF32: ยาว | AG32: No. | AH32: ยาว | AI32: No.
B33: =+E27 -> 1.22 | C33: =+ROUND(B33/M27+1,)*3 -> 15 | D33: =+E27 -> 1.22 | E33: =+ROUND(D33/U27+1,)*3 -> 15 | F33: =+E27 -> 1.22 | G33: =+ROUND(F33/W27+1,)*3 -> 15 | H33: =+E27 -> 1.22 | I33: =+ROUND(H33/Y27+1,)*3 -> 15 | J33: =+B33*C33+D33*E33+F33*G33+H33*I33 -> 73.2 | L33: =+(J27*2+K27*2+I27*4) -> 6.2 | M33: =+ROUND(G23/M27+1,) -> 7 | N33: =+K27+I27*2 -> 1.5 | O33: =+ROUND(G23/O27+1,)*2 -> 14 | P33: =+G23*2+I27*2+J27 -> 5.6 | Q33: =+ROUND((K27+I27*2)/Q27+1,) -> 6 | R33: =+G23 -> 1.85 | S33: =+ROUND(K27/S27+1,)*2 -> 10 | T33: =+J27+I27*2 -> 1.9 | U33: =+ROUND(G23/U27+1,)*2 -> 14 | V33: =+G23*2+K27+I27*2 -> 5.2 | W33: =+ROUND(J27/W27+1,) -> 6 | X33: =+G23 -> 1.85 | Y33: =+ROUND(J27/Y27+1,)*2 -> 12 | Z33: =+K27+I27*2 -> 1.5 | AA33: =+ROUND(J27/AA27+1,) -> 6 | AB33: =+J27+I27*2 -> 1.9 | AC33: =+ROUND((K27+I27*2)/AC27+1,) -> 6 | AD33: =+K27 -> 1.2 | AE33: =+ROUND(K27/AE27+1,)*2 -> 18 | AF33: =+J27+K27+I27*4 -> 3.4 | AG33: =+AF27 -> 3 | AH33: =+AH27 -> 3.83 | AI33: =+AI27 -> 6
B34: RB(1 - 9) | D34: DB 12 | F34: สรุปเหล็ก | H34: ม. | J34: นน./ม. | L34: นน.รวม | N34: ไม้แบบ | O34: =+H23*2+I23*2+I27*8 -> 6.8
B35: =+L33*M33+N33*O33+P33*Q33+R33*S33+T33*U33+V33*W33+X33*Y33+Z33*AA33+AB33*AC33 -> 216.9 | D35: =+IF(AD27=12,AD33*AE33,)+IF(AG27=12,AF33*AG33,) -> 10.2 | F35: RB 9 | H35: =+B35-J33+AJ27*AK27+AJ28*AK28+AJ30*AK30+AJ31*AK31+2.2 -> 199.1 | J35: 0.499 | L35: =+ROUND(H35*J35,2) -> 99.35 | N35: ฉาก | O35: =0.9*4+0.88*6 -> 8.88 | P35: นน./ม. | R35: นน.รวม
B36: RB(10) | D36: DB 16 | F36: DB 12 | H36: =+D35 -> 10.2 | J36: 0.888 | L36: =+ROUND(H36*J36,2) -> 9.06 | N36: RB 19 | O36: =+(0.25*2+0.3+0.1)*ROUND((F27/0.3+1)+1,) -> 3.6 | P36: 2.23 | R36: =+ROUND(O36*P36,2) -> 8.03
B37: =+IF(AD27=9,AD33*AE33,) -> 21.6 | D37: =+IF(AG27=16,AF33*AG33,) -> 0 | F37: DB 16 | H37: =+D37 -> 0 | J37: 1.58 | L37: =+ROUND(H37*J37,2) -> 0 | N37: RB 15 | O37: =+(0.22*2+0.15)*4+9.8 -> 12.16 | P37: 1.39 | R37: =+ROUND(O37*P37,2) -> 16.9
N38: RB 6 | O38: =+(0.9*2+0.25*2)*2+0.15*10 -> 6.1 | P38: 0.222 | R38: =+ROUND(O38*P38,2) -> 1.35
B39: 3.บ่อพักน้ำกรณีใช้ท่อกลมสี่ด้านเท่ากัน | G39: H = | H39: 2.5
B40: ขนาดท่อ | C40: เส้นผ่านศูนย์กลาง | D40: พื้นที่ | E40: ดินขุด | F40: ถมหลังบ่อ | G40: ความลึกบ่อพัก | H40: ขนาดบ่อพัก | J40: คอนกรีต | Q40: CON.หยาบ | R40: ทรายหยาบ
H41: W | I41: L | J41: ด้านไม่มีท่อ | K41: ด้านท่อ | L41: พื้นบ่อ | M41: หลังบ่อ | N41: ปล่องฝาบ่อ | O41: ฝาปิด | P41: รวม
B42: =VLOOKUP($X$3,$B$47:$C$50,2) -> 1 | C42: =+$E$46 -> 1.22 | D42: =ROUND((22/7*C42^2)/4,3) -> 1.169 | E42: =ROUND($D$46*($J$46+0.3)*($K$46+0.3),3) -> 7.125 | F42: 0.3 | G42: =+$D$46-0.65 -> 1.85 | H42: =+$J$46 -> 1.6 | I42: =+$K$46 -> 1.2 | J42: 0 | K42: =ROUND(($H$42*$G$42-$D$42)*$I$46*4,2) -> 1.07 | L42: =ROUND($H$42*$I$42*$I$46,3) -> 0.288 | M42: =ROUND((((H42+I46*2)*(I42+I46*2))-(0.8*0.8))*0.12,2) -> 0.27 | N42: =ROUND((1.1*1+0.8*2)*$I$46,2) -> 0.41 | O42: =ROUND((0.87*0.87)*0.075,2) -> 0.06 | P42: =SUM(J42:O42) -> 2.098 | Q42: =ROUND(0.05*($J$46+0.3)*($K$46+0.3),2) -> 0.14 | R42: =ROUND(0.1*($J$46+0.3)*($K$46+0.3),2) -> 0.29
B44: No. | C44: Dia. | D44: H | E44: กว้างท่อ | F44: H1 | G44: Y/N | H44: T | I44: T1 | J44: ขนาดบ่อพัก | L44: 1 | N44: =+L44+1 -> 2 | P44: =+N44+1 -> 3 | R44: =+P44+1 -> 4 | T44: =+R44+1 -> 5 | V44: =+T44+1 -> 6 | X44: =+V44+1 -> 7 | Z44: =+X44+1 -> 8 | AB44: =+Z44+1 -> 9 | AD44: =+AB44+1 -> 10 | AF44: =+AD44+1 -> 11 | AH44: รัดท่อ | AJ44: ปล่องบ่อพัก
J45: W | K45: L | L45: Æ | M45: @ | N45: Æ | O45: @ | P45: Æ | Q45: @ | R45: Æ | S45: @ | T45: Æ | U45: @ | V45: Æ | W45: @ | X45: Æ | Y45: @ | Z45: Æ | AA45: @ | AB45: Æ | AC45: @ | AD45: Æ | AE45: @ | AF45: Æ | AG45: @ | AH45: ยาว | AI45: จำนวน | AJ45: ยาว | AK45: จำนวน
B46: =VLOOKUP($X$3,B47:AG50,1) -> 3 | C46: =VLOOKUP($X$3,B47:AG50,2) -> 1 | D46: =+H39 -> 2.5 | E46: =VLOOKUP($X$3,B47:AG50,4) -> 1.22 | F46: =VLOOKUP($X$3,B47:AG50,5) -> 0.66 | G46: =VLOOKUP($X$3,B47:AG50,6) -> 0.66 | H46: =VLOOKUP($X$3,B47:AG50,7) -> 0.22 | I46: =VLOOKUP($X$3,B47:AG50,8) -> 0.15 | J46: =VLOOKUP($X$3,B47:AG50,9) -> 1.6 | K46: =VLOOKUP($X$3,B47:AG50,10) -> 1.2 | L46: =VLOOKUP($X$3,B47:AG50,11) -> 9 | M46: =VLOOKUP($X$3,B47:AG50,12) -> 0.3 | N46: =VLOOKUP($X$3,B47:AG50,13) -> 9 | O46: =VLOOKUP($X$3,B47:AG50,14) -> 0.3 | P46: =VLOOKUP($X$3,B47:AG50,15) -> 9 | Q46: =VLOOKUP($X$3,B47:AG50,16) -> 0.3 | R46: =VLOOKUP($X$3,B47:AG50,17) -> 9 | S46: =VLOOKUP($X$3,B47:AG50,18) -> 0.3 | T46: =VLOOKUP($X$3,B47:AG50,19) -> 9 | U46: =VLOOKUP($X$3,B47:AG50,20) -> 0.3 | V46: =VLOOKUP($X$3,B47:AG50,21) -> 9 | W46: =VLOOKUP($X$3,B47:AG50,22) -> 0.3 | X46: =VLOOKUP($X$3,B47:AG50,23) -> 9 | Y46: =VLOOKUP($X$3,B47:AG50,24) -> 0.3 | Z46: =VLOOKUP($X$3,B47:AG50,25) -> 9 | AA46: =VLOOKUP($X$3,B47:AG50,26) -> 0.3 | AB46: =VLOOKUP($X$3,B47:AG50,27) -> 9 | AC46: =VLOOKUP($X$3,B47:AG50,28) -> 0.3 | AD46: =VLOOKUP($X$3,B47:AG50,29) -> 9 | AE46: =VLOOKUP($X$3,B47:AG50,30) -> 0.15 | AF46: =VLOOKUP($X$3,B47:AG50,31) -> 3 | AG46: =VLOOKUP($X$3,B47:AG50,32) -> 12 | AH46: =VLOOKUP($X$3,B47:AH50,33) -> 3.83 | AI46: =VLOOKUP($X$3,B47:AI50,34) -> 8 | AJ46: 4.4 | AK46: =+ROUND(0.5/0.15+1,) -> 4
B47: 1 | C47: 0.6 | D47: 2.5 | E47: =+C47+H47 -> 0.75 | F47: =+D47-0.62-E47 -> 1.13 | G47: =+IF(F47<0,"N",F47) -> 1.13 | H47: 0.15 | I47: 0.15 | J47: 1.2 | K47: 1 | L47: 9 | M47: 0.3 | N47: 9 | O47: 0.3 | P47: 9 | Q47: 0.3 | R47: 9 | S47: 0.3 | T47: 9 | U47: 0.3 | V47: 9 | W47: 0.3 | X47: 9 | Y47: 0.3 | Z47: 9 | AA47: 0.3 | AB47: 9 | AC47: 0.3 | AD47: 9 | AE47: 0.15 | AF47: 3 | AG47: 12 | AH47: =ROUND(2*3.14285714285714*E47/2,2) -> 2.36 | AI47: 8 | AJ47: 0.62 | AK47: =+ROUND(1.1/0.15+1,)*4 -> 32
B48: 2 | C48: 0.8 | D48: =+D47 -> 2.5 | E48: =+C48+H48 -> 0.99 | F48: =+D48-0.62-E48 -> 0.89 | G48: =+IF(F48<0,"N",F48) -> 0.89 | H48: =0.095*2 -> 0.19 | I48: 0.15 | J48: 1.4 | K48: 1 | L48: 9 | M48: 0.3 | N48: 9 | O48: 0.3 | P48: 9 | Q48: 0.3 | R48: 9 | S48: 0.3 | T48: 9 | U48: 0.3 | V48: 9 | W48: 0.3 | X48: 9 | Y48: 0.3 | Z48: 9 | AA48: 0.3 | AB48: 9 | AC48: 0.3 | AD48: 9 | AE48: 0.15 | AF48: 3 | AG48: 12 | AH48: =ROUND(2*3.14285714285714*E48/2,2) -> 3.11 | AI48: 8 | AJ48: ฝาบ่อพัก
